BEGIN:VCALENDAR
VERSION:2.0
PRODID:-//Glenwood Elementary - ECPv6.15.14//NONSGML v1.0//EN
CALSCALE:GREGORIAN
METHOD:PUBLISH
X-ORIGINAL-URL:https://elementary.sd42.ca/glenwood
X-WR-CALDESC:Events for Glenwood Elementary
REFRESH-INTERVAL;VALUE=DURATION:PT1H
X-Robots-Tag:noindex
X-PUBLISHED-TTL:PT1H
BEGIN:VTIMEZONE
TZID:America/Vancouver
BEGIN:DAYLIGHT
TZOFFSETFROM:-0800
TZOFFSETTO:-0700
TZNAME:PDT
DTSTART:20220313T100000
END:DAYLIGHT
BEGIN:STANDARD
TZOFFSETFROM:-0700
TZOFFSETTO:-0800
TZNAME:PST
DTSTART:20221106T090000
END:STANDARD
BEGIN:DAYLIGHT
TZOFFSETFROM:-0800
TZOFFSETTO:-0700
TZNAME:PDT
DTSTART:20230312T100000
END:DAYLIGHT
BEGIN:STANDARD
TZOFFSETFROM:-0700
TZOFFSETTO:-0800
TZNAME:PST
DTSTART:20231105T090000
END:STANDARD
BEGIN:DAYLIGHT
TZOFFSETFROM:-0800
TZOFFSETTO:-0700
TZNAME:PDT
DTSTART:20240310T100000
END:DAYLIGHT
BEGIN:STANDARD
TZOFFSETFROM:-0700
TZOFFSETTO:-0800
TZNAME:PST
DTSTART:20241103T090000
END:STANDARD
END:VTIMEZONE
BEGIN:VEVENT
DTSTART;TZID=America/Vancouver:20230201T120000
DTEND;TZID=America/Vancouver:20230207T235900
DTSTAMP:20260421T135912
CREATED:20230109T201708Z
LAST-MODIFIED:20230109T201708Z
UID:5416-1675252800-1675814340@elementary.sd42.ca
SUMMARY:Kindergarten Registration 2023-24 - General Phase
DESCRIPTION:Welcome to the Maple Ridge – Pitt Meadows School District (SD42). We are proud to be one of BC’s most innovative school districts and make it our mission to ensure that all our learners feel valued and reach their potential. Download our Programs of Choice booklet to learn about some of the dynamic programs offered in our district. \nFor information about our online registration process\, including registration phases\, required supporting documentation and acceptance criteria\, explore the sections below or download our brochure.
URL:https://elementary.sd42.ca/glenwood/event/kindergarten-registration-2023-24-general-phase/
ATTACH;FMTTYPE=image/jpeg:https://wordpress1.blob.core.windows.net/glenwood/2017/07/K-Registration-2022-2023.jpg
END:VEVENT
BEGIN:VEVENT
DTSTART;TZID=America/Vancouver:20230202T083000
DTEND;TZID=America/Vancouver:20230202T110000
DTSTAMP:20260421T135912
CREATED:20230123T185041Z
LAST-MODIFIED:20230123T185041Z
UID:5446-1675326600-1675335600@elementary.sd42.ca
SUMMARY:School-Wide Pancake Breakfast
DESCRIPTION:
URL:https://elementary.sd42.ca/glenwood/event/school-wide-pancake-breakfast/
END:VEVENT
BEGIN:VEVENT
DTSTART;TZID=America/Vancouver:20230202T120000
DTEND;TZID=America/Vancouver:20230217T235900
DTSTAMP:20260421T135912
CREATED:20230131T160059Z
LAST-MODIFIED:20230131T193443Z
UID:5420-1675339200-1676678340@elementary.sd42.ca
SUMMARY:Gr. 8 Registration 2023-24
DESCRIPTION:ONLINE REGISTRATION – https://www.sd42.ca/student-registration/\nThe Grade 8 Transfer Period opens at 12:00 noon on Thursday\, February 2\, 2023. All Grade 8 transfers/new to district registrations are done through the Parent Portal.  If you are new to the school district\, you will need to create a Parent Portal account before registering.In-District Students: Families with children currently enrolled in a Maple Ridge – Pitt Meadows School District (SD42) elementary school should submit an Existing Student Transfer Request in the Grade 8 Transfer Period. \n \nOut-of-District Students: Families with children currently enrolled in an elementary school outside of the Maple Ridge – Pitt Meadows School District (SD42) should submit a New Student Registration in the Grade 8 Transfer Period.
URL:https://elementary.sd42.ca/glenwood/event/gr-8-registration-2023-24/
ATTACH;FMTTYPE=image/jpeg:https://wordpress1.blob.core.windows.net/glenwood/2023/01/Gr.-7-to-8.jpg
END:VEVENT
BEGIN:VEVENT
DTSTART;TZID=America/Vancouver:20230207T183000
DTEND;TZID=America/Vancouver:20230207T193000
DTSTAMP:20260421T135912
CREATED:20230112T175653Z
LAST-MODIFIED:20230112T175708Z
UID:5426-1675794600-1675798200@elementary.sd42.ca
SUMMARY:PAC Meeting
DESCRIPTION:in the School Library @ 6:30 pm
URL:https://elementary.sd42.ca/glenwood/event/pac-meeting-12/
ATTACH;FMTTYPE=image/jpeg:https://wordpress1.blob.core.windows.net/glenwood/2022/12/PAC-meeting.jpg
END:VEVENT
BEGIN:VEVENT
DTSTART;TZID=America/Vancouver:20230210T120000
DTEND;TZID=America/Vancouver:20230210T120000
DTSTAMP:20260421T135912
CREATED:20230109T193048Z
LAST-MODIFIED:20230109T193048Z
UID:5405-1676030400-1676030400@elementary.sd42.ca
SUMMARY:PAC Subway Lunch
DESCRIPTION:Order online by February 1 \nhttps://munchalunch.com/schools/glenwood/
URL:https://elementary.sd42.ca/glenwood/event/pac-subway-lunch-6/
END:VEVENT
BEGIN:VEVENT
DTSTART;VALUE=DATE:20230214
DTEND;VALUE=DATE:20230215
DTSTAMP:20260421T135912
CREATED:20230122T160010Z
LAST-MODIFIED:20230123T185638Z
UID:5171-1676332800-1676419199@elementary.sd42.ca
SUMMARY:Valentine's Day
DESCRIPTION:
URL:https://elementary.sd42.ca/glenwood/event/valentines-day-2/
ATTACH;FMTTYPE=image/jpeg:https://wordpress1.blob.core.windows.net/glenwood/2022/06/Valentine-cards.jpg
END:VEVENT
BEGIN:VEVENT
DTSTART;TZID=America/Vancouver:20230217T080000
DTEND;TZID=America/Vancouver:20230217T170000
DTSTAMP:20260421T135912
CREATED:20230130T192438Z
LAST-MODIFIED:20230130T192438Z
UID:5457-1676620800-1676653200@elementary.sd42.ca
SUMMARY:Random Acts of Kindness Day
DESCRIPTION:
URL:https://elementary.sd42.ca/glenwood/event/random-acts-of-kindness-day/
ATTACH;FMTTYPE=image/jpeg:https://wordpress1.blob.core.windows.net/glenwood/2023/01/Random-Acts-of-Kindness-Day.jpg
END:VEVENT
BEGIN:VEVENT
DTSTART;VALUE=DATE:20230220
DTEND;VALUE=DATE:20230221
DTSTAMP:20260421T135912
CREATED:20220526T232543Z
LAST-MODIFIED:20220526T232543Z
UID:5065-1676851200-1676937599@elementary.sd42.ca
SUMMARY:Family Day
DESCRIPTION:Statutory holiday. School not in session.
URL:https://elementary.sd42.ca/glenwood/event/family-day-5/
CATEGORIES:district calendar
END:VEVENT
BEGIN:VEVENT
DTSTART;VALUE=DATE:20230221
DTEND;VALUE=DATE:20230222
DTSTAMP:20260421T135912
CREATED:20220526T232543Z
LAST-MODIFIED:20220526T232543Z
UID:5066-1676937600-1677023999@elementary.sd42.ca
SUMMARY:Non-instructional day (school-based)
DESCRIPTION:School not in session.
URL:https://elementary.sd42.ca/glenwood/event/non-instructional-day-school-based-11/
CATEGORIES:district calendar
END:VEVENT
BEGIN:VEVENT
DTSTART;VALUE=DATE:20230222
DTEND;VALUE=DATE:20230223
DTSTAMP:20260421T135912
CREATED:20230221T190059Z
LAST-MODIFIED:20230221T185853Z
UID:5173-1677024000-1677110399@elementary.sd42.ca
SUMMARY:Pink Shirt Day
DESCRIPTION:School Assemblies: \n9:30 am Primary Students \n11:00 am Intermediate Students
URL:https://elementary.sd42.ca/glenwood/event/pink-shirt-day-5/
ATTACH;FMTTYPE=image/jpeg:https://wordpress1.blob.core.windows.net/glenwood/2022/06/Kindness-Shirts-2022.jpg
END:VEVENT
BEGIN:VEVENT
DTSTART;TZID=America/Vancouver:20230222T120000
DTEND;TZID=America/Vancouver:20230630T235900
DTSTAMP:20260421T135912
CREATED:20230109T202126Z
LAST-MODIFIED:20230704T215612Z
UID:5418-1677067200-1688169540@elementary.sd42.ca
SUMMARY:Kindergarten Registration 2023-24 - Late Phase
DESCRIPTION:Welcome to the Maple Ridge – Pitt Meadows School District (SD42). We are proud to be one of BC’s most innovative school districts and make it our mission to ensure that all our learners feel valued and reach their potential. Download our Programs of Choice booklet to learn about some of the dynamic programs offered in our district. \nFor information about our online registration process\, including registration phases\, required supporting documentation and acceptance criteria\, explore the sections below or download our brochure.
URL:https://elementary.sd42.ca/glenwood/event/kindergarten-registration-2023-24-late-phase/
ATTACH;FMTTYPE=image/jpeg:https://wordpress1.blob.core.windows.net/glenwood/2017/07/K-Registration-2022-2023.jpg
END:VEVENT
BEGIN:VEVENT
DTSTART;TZID=America/Vancouver:20230224T120000
DTEND;TZID=America/Vancouver:20230224T120000
DTSTAMP:20260421T135912
CREATED:20230109T193159Z
LAST-MODIFIED:20230109T193159Z
UID:5407-1677240000-1677240000@elementary.sd42.ca
SUMMARY:PAC Brownies Chicken Lunch
DESCRIPTION:Order online by February 15 \nhttps://munchalunch.com/schools/glenwood/
URL:https://elementary.sd42.ca/glenwood/event/pac-brownies-chicken-lunch/
END:VEVENT
END:VCALENDAR