BEGIN:VCALENDAR
VERSION:2.0
PRODID:-//Glenwood Elementary - ECPv6.15.14//NONSGML v1.0//EN
CALSCALE:GREGORIAN
METHOD:PUBLISH
X-WR-CALNAME:Glenwood Elementary
X-ORIGINAL-URL:https://elementary.sd42.ca/glenwood
X-WR-CALDESC:Events for Glenwood Elementary
REFRESH-INTERVAL;VALUE=DURATION:PT1H
X-Robots-Tag:noindex
X-PUBLISHED-TTL:PT1H
BEGIN:VTIMEZONE
TZID:America/Vancouver
BEGIN:DAYLIGHT
TZOFFSETFROM:-0800
TZOFFSETTO:-0700
TZNAME:PDT
DTSTART:20210314T100000
END:DAYLIGHT
BEGIN:STANDARD
TZOFFSETFROM:-0700
TZOFFSETTO:-0800
TZNAME:PST
DTSTART:20211107T090000
END:STANDARD
BEGIN:DAYLIGHT
TZOFFSETFROM:-0800
TZOFFSETTO:-0700
TZNAME:PDT
DTSTART:20220313T100000
END:DAYLIGHT
BEGIN:STANDARD
TZOFFSETFROM:-0700
TZOFFSETTO:-0800
TZNAME:PST
DTSTART:20221106T090000
END:STANDARD
BEGIN:DAYLIGHT
TZOFFSETFROM:-0800
TZOFFSETTO:-0700
TZNAME:PDT
DTSTART:20230312T100000
END:DAYLIGHT
BEGIN:STANDARD
TZOFFSETFROM:-0700
TZOFFSETTO:-0800
TZNAME:PST
DTSTART:20231105T090000
END:STANDARD
END:VTIMEZONE
BEGIN:VEVENT
DTSTART;TZID=America/Vancouver:20220906T123000
DTEND;TZID=America/Vancouver:20220906T142000
DTSTAMP:20260424T151311
CREATED:20220526T232522Z
LAST-MODIFIED:20220610T203205Z
UID:5053-1662467400-1662474000@elementary.sd42.ca
SUMMARY:School opens following summer holidays
DESCRIPTION:Students attend from 12:30 – 2:20 pm ONLY
URL:https://elementary.sd42.ca/glenwood/event/school-opens-following-summer-holidays-3/
CATEGORIES:district calendar
END:VEVENT
BEGIN:VEVENT
DTSTART;VALUE=DATE:20220916
DTEND;VALUE=DATE:20220917
DTSTAMP:20260424T151312
CREATED:20220613T214018Z
LAST-MODIFIED:20220613T214018Z
UID:5104-1663286400-1663372799@elementary.sd42.ca
SUMMARY:Individual Student Photo Day
DESCRIPTION:
URL:https://elementary.sd42.ca/glenwood/event/individual-student-photo-day/
END:VEVENT
BEGIN:VEVENT
DTSTART;VALUE=DATE:20220919
DTEND;VALUE=DATE:20220920
DTSTAMP:20260424T151312
CREATED:20220914T181110Z
LAST-MODIFIED:20220914T181110Z
UID:5247-1663545600-1663631999@elementary.sd42.ca
SUMMARY:National day of mourning
DESCRIPTION:School not in session.
URL:https://elementary.sd42.ca/glenwood/event/national-day-of-mourning/
CATEGORIES:district calendar
END:VEVENT
BEGIN:VEVENT
DTSTART;TZID=America/Vancouver:20220920T183000
DTEND;TZID=America/Vancouver:20220920T200000
DTSTAMP:20260424T151312
CREATED:20220630T172717Z
LAST-MODIFIED:20220630T172717Z
UID:5157-1663698600-1663704000@elementary.sd42.ca
SUMMARY:PAC Meeting
DESCRIPTION:Glenwood families are welcome to join the PAC in the school library for their first meeting of the school year.
URL:https://elementary.sd42.ca/glenwood/event/pac-meeting-9/
ATTACH;FMTTYPE=image/png:https://wordpress1.blob.core.windows.net/glenwood/2021/11/PAC-61981e055f139.png
END:VEVENT
BEGIN:VEVENT
DTSTART;VALUE=DATE:20220922
DTEND;VALUE=DATE:20220923
DTSTAMP:20260424T151312
CREATED:20220628T153450Z
LAST-MODIFIED:20220628T153611Z
UID:5132-1663804800-1663891199@elementary.sd42.ca
SUMMARY:Terry Fox Run
DESCRIPTION:
URL:https://elementary.sd42.ca/glenwood/event/terry-fox-run-2/
END:VEVENT
BEGIN:VEVENT
DTSTART;VALUE=DATE:20220929
DTEND;VALUE=DATE:20220930
DTSTAMP:20260424T151312
CREATED:20220628T153732Z
LAST-MODIFIED:20220630T173216Z
UID:5135-1664409600-1664495999@elementary.sd42.ca
SUMMARY:Orange Shirt Day
DESCRIPTION:
URL:https://elementary.sd42.ca/glenwood/event/orange-shirt-day-3/
END:VEVENT
BEGIN:VEVENT
DTSTART;VALUE=DATE:20220930
DTEND;VALUE=DATE:20221001
DTSTAMP:20260424T151312
CREATED:20220526T232522Z
LAST-MODIFIED:20220526T232522Z
UID:5054-1664496000-1664582399@elementary.sd42.ca
SUMMARY:National Day for Truth and Reconciliation
DESCRIPTION:Statutory holiday. School not in session.
URL:https://elementary.sd42.ca/glenwood/event/national-day-for-truth-and-reconciliation-2/
CATEGORIES:district calendar
END:VEVENT
END:VCALENDAR