BEGIN:VCALENDAR
VERSION:2.0
PRODID:-//Glenwood Elementary - ECPv6.15.14//NONSGML v1.0//EN
CALSCALE:GREGORIAN
METHOD:PUBLISH
X-WR-CALNAME:Glenwood Elementary
X-ORIGINAL-URL:https://elementary.sd42.ca/glenwood
X-WR-CALDESC:Events for Glenwood Elementary
REFRESH-INTERVAL;VALUE=DURATION:PT1H
X-Robots-Tag:noindex
X-PUBLISHED-TTL:PT1H
BEGIN:VTIMEZONE
TZID:America/Vancouver
BEGIN:DAYLIGHT
TZOFFSETFROM:-0800
TZOFFSETTO:-0700
TZNAME:PDT
DTSTART:20200308T100000
END:DAYLIGHT
BEGIN:STANDARD
TZOFFSETFROM:-0700
TZOFFSETTO:-0800
TZNAME:PST
DTSTART:20201101T090000
END:STANDARD
BEGIN:DAYLIGHT
TZOFFSETFROM:-0800
TZOFFSETTO:-0700
TZNAME:PDT
DTSTART:20210314T100000
END:DAYLIGHT
BEGIN:STANDARD
TZOFFSETFROM:-0700
TZOFFSETTO:-0800
TZNAME:PST
DTSTART:20211107T090000
END:STANDARD
BEGIN:DAYLIGHT
TZOFFSETFROM:-0800
TZOFFSETTO:-0700
TZNAME:PDT
DTSTART:20220313T100000
END:DAYLIGHT
BEGIN:STANDARD
TZOFFSETFROM:-0700
TZOFFSETTO:-0800
TZNAME:PST
DTSTART:20221106T090000
END:STANDARD
END:VTIMEZONE
BEGIN:VEVENT
DTSTART;TZID=America/Vancouver:20210907T123000
DTEND;TZID=America/Vancouver:20210907T142500
DTSTAMP:20260422T214342
CREATED:20210426T184103Z
LAST-MODIFIED:20210829T001611Z
UID:3977-1631017800-1631024700@elementary.sd42.ca
SUMMARY:Opening Day for Students
DESCRIPTION:Student attend from 12:30-2:25 pm ONLY
URL:https://elementary.sd42.ca/glenwood/event/opening-day-for-students/
END:VEVENT
BEGIN:VEVENT
DTSTART;VALUE=DATE:20210930
DTEND;VALUE=DATE:20211001
DTSTAMP:20260422T214342
CREATED:20210827T225417Z
LAST-MODIFIED:20210827T225417Z
UID:4359-1632960000-1633046399@elementary.sd42.ca
SUMMARY:National Day for Truth and Reconciliation
DESCRIPTION:Schools closed for statutory holiday.
URL:https://elementary.sd42.ca/glenwood/event/national-day-for-truth-and-reconciliation/
END:VEVENT
END:VCALENDAR