BEGIN:VCALENDAR
VERSION:2.0
PRODID:-//Glenwood Elementary - ECPv6.15.14//NONSGML v1.0//EN
CALSCALE:GREGORIAN
METHOD:PUBLISH
X-WR-CALNAME:Glenwood Elementary
X-ORIGINAL-URL:https://elementary.sd42.ca/glenwood
X-WR-CALDESC:Events for Glenwood Elementary
REFRESH-INTERVAL;VALUE=DURATION:PT1H
X-Robots-Tag:noindex
X-PUBLISHED-TTL:PT1H
BEGIN:VTIMEZONE
TZID:America/Vancouver
BEGIN:DAYLIGHT
TZOFFSETFROM:-0800
TZOFFSETTO:-0700
TZNAME:PDT
DTSTART:20180311T100000
END:DAYLIGHT
BEGIN:STANDARD
TZOFFSETFROM:-0700
TZOFFSETTO:-0800
TZNAME:PST
DTSTART:20181104T090000
END:STANDARD
BEGIN:DAYLIGHT
TZOFFSETFROM:-0800
TZOFFSETTO:-0700
TZNAME:PDT
DTSTART:20190310T100000
END:DAYLIGHT
BEGIN:STANDARD
TZOFFSETFROM:-0700
TZOFFSETTO:-0800
TZNAME:PST
DTSTART:20191103T090000
END:STANDARD
BEGIN:DAYLIGHT
TZOFFSETFROM:-0800
TZOFFSETTO:-0700
TZNAME:PDT
DTSTART:20200308T100000
END:DAYLIGHT
BEGIN:STANDARD
TZOFFSETFROM:-0700
TZOFFSETTO:-0800
TZNAME:PST
DTSTART:20201101T090000
END:STANDARD
BEGIN:DAYLIGHT
TZOFFSETFROM:-0800
TZOFFSETTO:-0700
TZNAME:PDT
DTSTART:20210314T100000
END:DAYLIGHT
BEGIN:STANDARD
TZOFFSETFROM:-0700
TZOFFSETTO:-0800
TZNAME:PST
DTSTART:20211107T090000
END:STANDARD
END:VTIMEZONE
BEGIN:VEVENT
DTSTART;VALUE=DATE:20191223
DTEND;VALUE=DATE:20200104
DTSTAMP:20260420T160302
CREATED:20180528T185300Z
LAST-MODIFIED:20180528T185300Z
UID:1080-1577059200-1578095999@elementary.sd42.ca
SUMMARY:Winter break
DESCRIPTION:School closed for winter break.
URL:https://elementary.sd42.ca/glenwood/event/winter-break-3/
CATEGORIES:district calendar
END:VEVENT
BEGIN:VEVENT
DTSTART;VALUE=DATE:20200106
DTEND;VALUE=DATE:20200107
DTSTAMP:20260420T160302
CREATED:20180528T185302Z
LAST-MODIFIED:20180528T185302Z
UID:1081-1578268800-1578355199@elementary.sd42.ca
SUMMARY:School reopens after winter break
DESCRIPTION:School reopens after winter break.
URL:https://elementary.sd42.ca/glenwood/event/school-reopens-after-winter-break-3/
CATEGORIES:district calendar
END:VEVENT
BEGIN:VEVENT
DTSTART;TZID=America/Vancouver:20200107T080000
DTEND;TZID=America/Vancouver:20200107T170000
DTSTAMP:20260420T160302
CREATED:20190606T211012Z
LAST-MODIFIED:20190606T211012Z
UID:1886-1578384000-1578416400@elementary.sd42.ca
SUMMARY:Assembly Every 1st Tuesday of the month at 11:15 am
DESCRIPTION:
URL:https://elementary.sd42.ca/glenwood/event/assembly-every-1st-tuesday-of-the-month-at-1115-am-5/
END:VEVENT
BEGIN:VEVENT
DTSTART;TZID=America/Vancouver:20200110T000000
DTEND;TZID=America/Vancouver:20200110T000000
DTSTAMP:20260420T160302
CREATED:20200107T155711Z
LAST-MODIFIED:20200107T155711Z
UID:2500-1578614400-1578614400@elementary.sd42.ca
SUMMARY:Pizza by the slice $2
DESCRIPTION:PAC
URL:https://elementary.sd42.ca/glenwood/event/pizza-by-the-slice-2/
END:VEVENT
BEGIN:VEVENT
DTSTART;TZID=America/Vancouver:20200113T080000
DTEND;TZID=America/Vancouver:20200113T170000
DTSTAMP:20260420T160302
CREATED:20190610T160816Z
LAST-MODIFIED:20190610T160816Z
UID:1957-1578902400-1578934800@elementary.sd42.ca
SUMMARY:Staff Committee at 2:30 in the Library
DESCRIPTION:
URL:https://elementary.sd42.ca/glenwood/event/staff-committee-at-230-in-the-library-5/
END:VEVENT
BEGIN:VEVENT
DTSTART;TZID=America/Vancouver:20200113T080000
DTEND;TZID=America/Vancouver:20200113T170000
DTSTAMP:20260420T160302
CREATED:20200107T155816Z
LAST-MODIFIED:20200107T155816Z
UID:2502-1578902400-1578934800@elementary.sd42.ca
SUMMARY:Fort Day - a fun event organized by Student Leadership
DESCRIPTION:See your child’s teacher for more information.
URL:https://elementary.sd42.ca/glenwood/event/fort-day-a-fun-event-organized-by-student-leadership/
END:VEVENT
BEGIN:VEVENT
DTSTART;TZID=America/Vancouver:20200116T080000
DTEND;TZID=America/Vancouver:20200116T170000
DTSTAMP:20260420T160302
CREATED:20190610T161401Z
LAST-MODIFIED:20190610T161401Z
UID:1978-1579161600-1579194000@elementary.sd42.ca
SUMMARY:Staff Meeting 2:30 to 4:15 pm in the library
DESCRIPTION:
URL:https://elementary.sd42.ca/glenwood/event/staff-meeting-230-to-415-pm-in-the-library-3/
END:VEVENT
BEGIN:VEVENT
DTSTART;TZID=America/Vancouver:20200121T000000
DTEND;TZID=America/Vancouver:20200121T000000
DTSTAMP:20260420T160302
CREATED:20200117T193245Z
LAST-MODIFIED:20200117T193245Z
UID:2522-1579564800-1579564800@elementary.sd42.ca
SUMMARY:PAC Subway orders due
DESCRIPTION:
URL:https://elementary.sd42.ca/glenwood/event/pac-subway-orders-due/
END:VEVENT
BEGIN:VEVENT
DTSTART;TZID=America/Vancouver:20200123T000000
DTEND;TZID=America/Vancouver:20200123T000000
DTSTAMP:20260420T160302
CREATED:20200117T193210Z
LAST-MODIFIED:20200117T193210Z
UID:2520-1579737600-1579737600@elementary.sd42.ca
SUMMARY:PAC Frozen Yogurt - orders due Jan 14
DESCRIPTION:
URL:https://elementary.sd42.ca/glenwood/event/pac-frozen-yogurt-orders-due-jan-14/
END:VEVENT
BEGIN:VEVENT
DTSTART;TZID=America/Vancouver:20200123T080000
DTEND;TZID=America/Vancouver:20200123T170000
DTSTAMP:20260420T160302
CREATED:20200107T155842Z
LAST-MODIFIED:20200107T155842Z
UID:2504-1579766400-1579798800@elementary.sd42.ca
SUMMARY:Field Trip - Div 6\, 8 to Aquarium
DESCRIPTION:
URL:https://elementary.sd42.ca/glenwood/event/field-trip-div-6-8-to-aquarium/
END:VEVENT
BEGIN:VEVENT
DTSTART;TZID=America/Vancouver:20200123T180000
DTEND;TZID=America/Vancouver:20200123T190000
DTSTAMP:20260420T160302
CREATED:20200107T155913Z
LAST-MODIFIED:20200107T155913Z
UID:2506-1579802400-1579806000@elementary.sd42.ca
SUMMARY:PAC meeting in library
DESCRIPTION:
URL:https://elementary.sd42.ca/glenwood/event/pac-meeting-in-library/
END:VEVENT
BEGIN:VEVENT
DTSTART;VALUE=DATE:20200124
DTEND;VALUE=DATE:20200125
DTSTAMP:20260420T160302
CREATED:20180528T185303Z
LAST-MODIFIED:20180528T185303Z
UID:1082-1579824000-1579910399@elementary.sd42.ca
SUMMARY:Non-instructional day
DESCRIPTION:School not in session.
URL:https://elementary.sd42.ca/glenwood/event/non-instructional-day-3/
CATEGORIES:district calendar
END:VEVENT
BEGIN:VEVENT
DTSTART;TZID=America/Vancouver:20200128T000000
DTEND;TZID=America/Vancouver:20200128T000000
DTSTAMP:20260420T160302
CREATED:20200127T191856Z
LAST-MODIFIED:20200127T191856Z
UID:2566-1580169600-1580169600@elementary.sd42.ca
SUMMARY:Field Trip - Div 2 and 3 - Skating at 10:00 to 12:00
DESCRIPTION:
URL:https://elementary.sd42.ca/glenwood/event/field-trip-div-2-and-3-skating-at-1000-to-1200/
END:VEVENT
BEGIN:VEVENT
DTSTART;TZID=America/Vancouver:20200131T000000
DTEND;TZID=America/Vancouver:20200131T000000
DTSTAMP:20260420T160302
CREATED:20200117T193330Z
LAST-MODIFIED:20200117T193330Z
UID:2524-1580428800-1580428800@elementary.sd42.ca
SUMMARY:PAC Subway lunch - orders due Jan 21
DESCRIPTION:
URL:https://elementary.sd42.ca/glenwood/event/pac-subway-lunch-orders-due-jan-21/
END:VEVENT
BEGIN:VEVENT
DTSTART;TZID=America/Vancouver:20200131T084000
DTEND;TZID=America/Vancouver:20200131T084000
DTSTAMP:20260420T160302
CREATED:20191122T181323Z
LAST-MODIFIED:20191122T181323Z
UID:2396-1580460000-1580460000@elementary.sd42.ca
SUMMARY:Kinder Vision/Hearing Screening w Health Nurse
DESCRIPTION:
URL:https://elementary.sd42.ca/glenwood/event/kinder-vision-hearing-screening-w-health-nurse/
END:VEVENT
END:VCALENDAR