BEGIN:VCALENDAR
VERSION:2.0
PRODID:-//Glenwood Elementary - ECPv6.15.14//NONSGML v1.0//EN
CALSCALE:GREGORIAN
METHOD:PUBLISH
X-WR-CALNAME:Glenwood Elementary
X-ORIGINAL-URL:https://elementary.sd42.ca/glenwood
X-WR-CALDESC:Events for Glenwood Elementary
REFRESH-INTERVAL;VALUE=DURATION:PT1H
X-Robots-Tag:noindex
X-PUBLISHED-TTL:PT1H
BEGIN:VTIMEZONE
TZID:America/Vancouver
BEGIN:DAYLIGHT
TZOFFSETFROM:-0800
TZOFFSETTO:-0700
TZNAME:PDT
DTSTART:20230312T100000
END:DAYLIGHT
BEGIN:STANDARD
TZOFFSETFROM:-0700
TZOFFSETTO:-0800
TZNAME:PST
DTSTART:20231105T090000
END:STANDARD
BEGIN:DAYLIGHT
TZOFFSETFROM:-0800
TZOFFSETTO:-0700
TZNAME:PDT
DTSTART:20240310T100000
END:DAYLIGHT
BEGIN:STANDARD
TZOFFSETFROM:-0700
TZOFFSETTO:-0800
TZNAME:PST
DTSTART:20241103T090000
END:STANDARD
BEGIN:DAYLIGHT
TZOFFSETFROM:-0800
TZOFFSETTO:-0700
TZNAME:PDT
DTSTART:20250309T100000
END:DAYLIGHT
BEGIN:STANDARD
TZOFFSETFROM:-0700
TZOFFSETTO:-0800
TZNAME:PST
DTSTART:20251102T090000
END:STANDARD
END:VTIMEZONE
BEGIN:VEVENT
DTSTART;TZID=America/Vancouver:20240213T120000
DTEND;TZID=America/Vancouver:20240227T235900
DTSTAMP:20260419T180801
CREATED:20240208T224455Z
LAST-MODIFIED:20240208T225415Z
UID:6038-1707825600-1709078340@elementary.sd42.ca
SUMMARY:Gr. 8 Registration
DESCRIPTION:Grade 8 Transfer Period Information 2024/25\n\nFor parents of Grade 7 students going into Grade 8\n\n\n\n\n\nONLINE REGISTRATION\nRegistration takes place on the Parent Portal (https://parents.sd42.ca).In-District Students: Families with children currently enrolled in a Maple Ridge – Pitt Meadows School District (SD42) elementary school should submit an Existing Student Transfer Request in the Grade 8 Transfer Period. \nOut-of-District Students: Families with children currently enrolled in an elementary school outside of the Maple Ridge – Pitt Meadows School District (SD42) should submit a New Student Registration in the Grade 8 Transfer Period.\n\n\n\n\n\n\nONLINE REGISTRATION \nOnline registration OPENS at noon\, Tuesday\, February 13\, 2024. Deadline for completing a request for the Grade 8 Transfer Period is 11:59 pm\, Tuesday\, February 27\, 2024. If you do not register by the online registration deadline\, you will need to complete a request under the Enrolment Requests – New; Transfer; Withdraw (2024/2025) school year. See information under following tab\, Transfer requests (K-12)\, including late Grade 8 registration. \nGrade 8 students who did not register during the Feb 13 – 27 registration period will be able to register on the Parent Portal starting noon\, Wednesday\, March 13\, 2024\, in the early enrolment period for the 2024/25 school year. \n\n\n\n\nPLACEMENT NOTIFICATION\nParents/guardians will be notified by email by Friday\, March 8\, 2024\, about their child’s assigned school.\n\n\n\n 
URL:https://elementary.sd42.ca/glenwood/event/gr-8-registration/
ATTACH;FMTTYPE=image/jpeg:https://wordpress1.blob.core.windows.net/glenwood/2024/02/Gr.-8-Registration.jpg
END:VEVENT
BEGIN:VEVENT
DTSTART;TZID=America/Vancouver:20240216T120000
DTEND;TZID=America/Vancouver:20240216T120000
DTSTAMP:20260419T180801
CREATED:20240130T222024Z
LAST-MODIFIED:20240130T223701Z
UID:6005-1708084800-1708084800@elementary.sd42.ca
SUMMARY:PAC Lunch Fundraiser - Pizza by the Slice
DESCRIPTION:
URL:https://elementary.sd42.ca/glenwood/event/pac-lunch-fundraiser-pizza-by-the-slice/
ATTACH;FMTTYPE=image/jpeg:https://wordpress1.blob.core.windows.net/glenwood/2022/10/Slice-of-Pizza.jpg
END:VEVENT
END:VCALENDAR