BEGIN:VCALENDAR
VERSION:2.0
PRODID:-//Glenwood Elementary - ECPv6.15.14//NONSGML v1.0//EN
CALSCALE:GREGORIAN
METHOD:PUBLISH
X-ORIGINAL-URL:https://elementary.sd42.ca/glenwood
X-WR-CALDESC:Events for Glenwood Elementary
REFRESH-INTERVAL;VALUE=DURATION:PT1H
X-Robots-Tag:noindex
X-PUBLISHED-TTL:PT1H
BEGIN:VTIMEZONE
TZID:America/Vancouver
BEGIN:DAYLIGHT
TZOFFSETFROM:-0800
TZOFFSETTO:-0700
TZNAME:PDT
DTSTART:20220313T100000
END:DAYLIGHT
BEGIN:STANDARD
TZOFFSETFROM:-0700
TZOFFSETTO:-0800
TZNAME:PST
DTSTART:20221106T090000
END:STANDARD
BEGIN:DAYLIGHT
TZOFFSETFROM:-0800
TZOFFSETTO:-0700
TZNAME:PDT
DTSTART:20230312T100000
END:DAYLIGHT
BEGIN:STANDARD
TZOFFSETFROM:-0700
TZOFFSETTO:-0800
TZNAME:PST
DTSTART:20231105T090000
END:STANDARD
BEGIN:DAYLIGHT
TZOFFSETFROM:-0800
TZOFFSETTO:-0700
TZNAME:PDT
DTSTART:20240310T100000
END:DAYLIGHT
BEGIN:STANDARD
TZOFFSETFROM:-0700
TZOFFSETTO:-0800
TZNAME:PST
DTSTART:20241103T090000
END:STANDARD
END:VTIMEZONE
BEGIN:VEVENT
DTSTART;TZID=America/Vancouver:20231221T090000
DTEND;TZID=America/Vancouver:20231221T140000
DTSTAMP:20260422T175108
CREATED:20231129T220941Z
LAST-MODIFIED:20231129T220941Z
UID:5951-1703149200-1703167200@elementary.sd42.ca
SUMMARY:Winter Concert
DESCRIPTION:Glenwood Elementary staff and students are excited to be doing an in-person Winter Concert this year.  Our shows for friends and family will be at 9:00 am and 1:00 pm on Thursday\, December 21. \nWe will be opening our gymnasium 30 minutes prior to each show for guests to be seated.  There are no tickets as seats will be on a first come\, first serve basis\, but we do ask that guests attend only ONE show as we are limited to 250 seats per show.
URL:https://elementary.sd42.ca/glenwood/event/winter-concert/
ATTACH;FMTTYPE=image/jpeg:https://wordpress1.blob.core.windows.net/glenwood/2023/11/Winter-Concert.jpg
END:VEVENT
END:VCALENDAR