BEGIN:VCALENDAR
VERSION:2.0
PRODID:-//Glenwood Elementary - ECPv6.15.14//NONSGML v1.0//EN
CALSCALE:GREGORIAN
METHOD:PUBLISH
X-ORIGINAL-URL:https://elementary.sd42.ca/glenwood
X-WR-CALDESC:Events for Glenwood Elementary
REFRESH-INTERVAL;VALUE=DURATION:PT1H
X-Robots-Tag:noindex
X-PUBLISHED-TTL:PT1H
BEGIN:VTIMEZONE
TZID:America/Vancouver
BEGIN:DAYLIGHT
TZOFFSETFROM:-0800
TZOFFSETTO:-0700
TZNAME:PDT
DTSTART:20220313T100000
END:DAYLIGHT
BEGIN:STANDARD
TZOFFSETFROM:-0700
TZOFFSETTO:-0800
TZNAME:PST
DTSTART:20221106T090000
END:STANDARD
BEGIN:DAYLIGHT
TZOFFSETFROM:-0800
TZOFFSETTO:-0700
TZNAME:PDT
DTSTART:20230312T100000
END:DAYLIGHT
BEGIN:STANDARD
TZOFFSETFROM:-0700
TZOFFSETTO:-0800
TZNAME:PST
DTSTART:20231105T090000
END:STANDARD
BEGIN:DAYLIGHT
TZOFFSETFROM:-0800
TZOFFSETTO:-0700
TZNAME:PDT
DTSTART:20240310T100000
END:DAYLIGHT
BEGIN:STANDARD
TZOFFSETFROM:-0700
TZOFFSETTO:-0800
TZNAME:PST
DTSTART:20241103T090000
END:STANDARD
END:VTIMEZONE
BEGIN:VEVENT
DTSTART;TZID=America/Vancouver:20230928T133000
DTEND;TZID=America/Vancouver:20230928T140000
DTSTAMP:20260423T005500
CREATED:20230913T220842Z
LAST-MODIFIED:20230920T221047Z
UID:5818-1695907800-1695909600@elementary.sd42.ca
SUMMARY:Terry Fox Run
DESCRIPTION:
URL:https://elementary.sd42.ca/glenwood/event/terry-fox-run-4/
ATTACH;FMTTYPE=image/jpeg:https://wordpress1.blob.core.windows.net/glenwood/2023/09/Terry-Fox-Run.jpg
END:VEVENT
BEGIN:VEVENT
DTSTART;TZID=America/Vancouver:20230928T183000
DTEND;TZID=America/Vancouver:20230928T193000
DTSTAMP:20260423T005500
CREATED:20230913T221100Z
LAST-MODIFIED:20230920T221133Z
UID:5820-1695925800-1695929400@elementary.sd42.ca
SUMMARY:Glenwood P.A.C. Meeting
DESCRIPTION:The first Parent Advisory Council (PAC) meeting will be in the school library on Thursday\, September 28 @ 6:30 pm. All Glenwood parents are welcome to attend. \nGlenwood PAC Executive for 2023/2024: \n\nPresident Co-chairs – Samantha Hathaway & Kirstie Chitticks\nSecretary – Amy Denham\nTreasurer – Jennifer Simm\nDPAC School rep – Vacancy (to be filled in Fall 2023)\nHot Lunch lead coordinator – Sally Dickie (plus additional vacancy to be filled in Fall 2023)\n\nhttps://www.facebook.com/GlenwoodPAC
URL:https://elementary.sd42.ca/glenwood/event/glenwood-p-a-c-meeting/
ATTACH;FMTTYPE=image/png:https://wordpress1.blob.core.windows.net/glenwood/2021/11/PAC.png
END:VEVENT
END:VCALENDAR