BEGIN:VCALENDAR
VERSION:2.0
PRODID:-//Glenwood Elementary - ECPv6.15.14//NONSGML v1.0//EN
CALSCALE:GREGORIAN
METHOD:PUBLISH
X-WR-CALNAME:Glenwood Elementary
X-ORIGINAL-URL:https://elementary.sd42.ca/glenwood
X-WR-CALDESC:Events for Glenwood Elementary
REFRESH-INTERVAL;VALUE=DURATION:PT1H
X-Robots-Tag:noindex
X-PUBLISHED-TTL:PT1H
BEGIN:VTIMEZONE
TZID:America/Vancouver
BEGIN:DAYLIGHT
TZOFFSETFROM:-0800
TZOFFSETTO:-0700
TZNAME:PDT
DTSTART:20220313T100000
END:DAYLIGHT
BEGIN:STANDARD
TZOFFSETFROM:-0700
TZOFFSETTO:-0800
TZNAME:PST
DTSTART:20221106T090000
END:STANDARD
BEGIN:DAYLIGHT
TZOFFSETFROM:-0800
TZOFFSETTO:-0700
TZNAME:PDT
DTSTART:20230312T100000
END:DAYLIGHT
BEGIN:STANDARD
TZOFFSETFROM:-0700
TZOFFSETTO:-0800
TZNAME:PST
DTSTART:20231105T090000
END:STANDARD
BEGIN:DAYLIGHT
TZOFFSETFROM:-0800
TZOFFSETTO:-0700
TZNAME:PDT
DTSTART:20240310T100000
END:DAYLIGHT
BEGIN:STANDARD
TZOFFSETFROM:-0700
TZOFFSETTO:-0800
TZNAME:PST
DTSTART:20241103T090000
END:STANDARD
END:VTIMEZONE
BEGIN:VEVENT
DTSTART;VALUE=DATE:20230906
DTEND;VALUE=DATE:20230909
DTSTAMP:20260423T004747
CREATED:20230705T150854Z
LAST-MODIFIED:20230705T150854Z
UID:5779-1693958400-1694217599@elementary.sd42.ca
SUMMARY:Kindergarten Students Attend Gradual Entry Schedule
DESCRIPTION:Kindergarten students start attending on Wednesday\, September 6 and will follow their assigned gradual entry schedule for the first two weeks of school in September.  Please refer to the Group A or B Schedule that was provided during the Kindergarten Orientation.  If you require a copy of your child’s schedule\, please contact the school office once we re-open following summer break on August 28th. \nGroup A     8:30-11:05 am \nGroup B     11:45 am – 2:20 pm
URL:https://elementary.sd42.ca/glenwood/event/kindergarten-students-attend-gradual-entry-schedule/
END:VEVENT
END:VCALENDAR