BEGIN:VCALENDAR
VERSION:2.0
PRODID:-//Glenwood Elementary - ECPv6.15.14//NONSGML v1.0//EN
CALSCALE:GREGORIAN
METHOD:PUBLISH
X-ORIGINAL-URL:https://elementary.sd42.ca/glenwood
X-WR-CALDESC:Events for Glenwood Elementary
REFRESH-INTERVAL;VALUE=DURATION:PT1H
X-Robots-Tag:noindex
X-PUBLISHED-TTL:PT1H
BEGIN:VTIMEZONE
TZID:America/Vancouver
BEGIN:DAYLIGHT
TZOFFSETFROM:-0800
TZOFFSETTO:-0700
TZNAME:PDT
DTSTART:20220313T100000
END:DAYLIGHT
BEGIN:STANDARD
TZOFFSETFROM:-0700
TZOFFSETTO:-0800
TZNAME:PST
DTSTART:20221106T090000
END:STANDARD
BEGIN:DAYLIGHT
TZOFFSETFROM:-0800
TZOFFSETTO:-0700
TZNAME:PDT
DTSTART:20230312T100000
END:DAYLIGHT
BEGIN:STANDARD
TZOFFSETFROM:-0700
TZOFFSETTO:-0800
TZNAME:PST
DTSTART:20231105T090000
END:STANDARD
BEGIN:DAYLIGHT
TZOFFSETFROM:-0800
TZOFFSETTO:-0700
TZNAME:PDT
DTSTART:20240310T100000
END:DAYLIGHT
BEGIN:STANDARD
TZOFFSETFROM:-0700
TZOFFSETTO:-0800
TZNAME:PST
DTSTART:20241103T090000
END:STANDARD
END:VTIMEZONE
BEGIN:VEVENT
DTSTART;TZID=America/Vancouver:20230222T120000
DTEND;TZID=America/Vancouver:20230630T235900
DTSTAMP:20260425T150929
CREATED:20230109T202126Z
LAST-MODIFIED:20230704T215612Z
UID:5418-1677067200-1688169540@elementary.sd42.ca
SUMMARY:Kindergarten Registration 2023-24 - Late Phase
DESCRIPTION:Welcome to the Maple Ridge – Pitt Meadows School District (SD42). We are proud to be one of BC’s most innovative school districts and make it our mission to ensure that all our learners feel valued and reach their potential. Download our Programs of Choice booklet to learn about some of the dynamic programs offered in our district. \nFor information about our online registration process\, including registration phases\, required supporting documentation and acceptance criteria\, explore the sections below or download our brochure.
URL:https://elementary.sd42.ca/glenwood/event/kindergarten-registration-2023-24-late-phase/
ATTACH;FMTTYPE=image/jpeg:https://wordpress1.blob.core.windows.net/glenwood/2017/07/K-Registration-2022-2023.jpg
END:VEVENT
BEGIN:VEVENT
DTSTART;TZID=America/Vancouver:20230606T183000
DTEND;TZID=America/Vancouver:20230606T203000
DTSTAMP:20260425T150929
CREATED:20230525T210009Z
LAST-MODIFIED:20230525T211028Z
UID:5478-1686076200-1686083400@elementary.sd42.ca
SUMMARY:PAC Annual General Meeting + Elections for 2023/2024
DESCRIPTION:Glenwood PAC would like to invite you to our next PAC meeting followed by our Annual General Meeting on Tuesday June 6 at 6:30 pm in the school library.  Incoming Kindergarten parents welcomed and encouraged! \nOur agenda will cover current funds available\, funding requests from teachers\, as well as our PAC Executive nominations and elections. Please see attached for more details regarding nominations and how you can get involved!  Hope to see you there! \nIf you have any questions about the nomination process\, PAC roles or general inquires please email Samantha Hathaway at glenwood.pac@gmail.com. \nPAC Nomination Notice
URL:https://elementary.sd42.ca/glenwood/event/pac-meeting-agm-last-meeting/
ATTACH;FMTTYPE=image/jpeg:https://wordpress1.blob.core.windows.net/glenwood/2022/12/PAC-meeting.jpg
END:VEVENT
END:VCALENDAR