BEGIN:VCALENDAR
VERSION:2.0
PRODID:-//Glenwood Elementary - ECPv6.15.14//NONSGML v1.0//EN
CALSCALE:GREGORIAN
METHOD:PUBLISH
X-WR-CALNAME:Glenwood Elementary
X-ORIGINAL-URL:https://elementary.sd42.ca/glenwood
X-WR-CALDESC:Events for Glenwood Elementary
REFRESH-INTERVAL;VALUE=DURATION:PT1H
X-Robots-Tag:noindex
X-PUBLISHED-TTL:PT1H
BEGIN:VTIMEZONE
TZID:America/Vancouver
BEGIN:DAYLIGHT
TZOFFSETFROM:-0800
TZOFFSETTO:-0700
TZNAME:PDT
DTSTART:20220313T100000
END:DAYLIGHT
BEGIN:STANDARD
TZOFFSETFROM:-0700
TZOFFSETTO:-0800
TZNAME:PST
DTSTART:20221106T090000
END:STANDARD
BEGIN:DAYLIGHT
TZOFFSETFROM:-0800
TZOFFSETTO:-0700
TZNAME:PDT
DTSTART:20230312T100000
END:DAYLIGHT
BEGIN:STANDARD
TZOFFSETFROM:-0700
TZOFFSETTO:-0800
TZNAME:PST
DTSTART:20231105T090000
END:STANDARD
BEGIN:DAYLIGHT
TZOFFSETFROM:-0800
TZOFFSETTO:-0700
TZNAME:PDT
DTSTART:20240310T100000
END:DAYLIGHT
BEGIN:STANDARD
TZOFFSETFROM:-0700
TZOFFSETTO:-0800
TZNAME:PST
DTSTART:20241103T090000
END:STANDARD
END:VTIMEZONE
BEGIN:VEVENT
DTSTART;TZID=America/Vancouver:20230222T120000
DTEND;TZID=America/Vancouver:20230630T235900
DTSTAMP:20260424T151610
CREATED:20230109T202126Z
LAST-MODIFIED:20230704T215612Z
UID:5418-1677067200-1688169540@elementary.sd42.ca
SUMMARY:Kindergarten Registration 2023-24 - Late Phase
DESCRIPTION:Welcome to the Maple Ridge – Pitt Meadows School District (SD42). We are proud to be one of BC’s most innovative school districts and make it our mission to ensure that all our learners feel valued and reach their potential. Download our Programs of Choice booklet to learn about some of the dynamic programs offered in our district. \nFor information about our online registration process\, including registration phases\, required supporting documentation and acceptance criteria\, explore the sections below or download our brochure.
URL:https://elementary.sd42.ca/glenwood/event/kindergarten-registration-2023-24-late-phase/
ATTACH;FMTTYPE=image/jpeg:https://wordpress1.blob.core.windows.net/glenwood/2017/07/K-Registration-2022-2023.jpg
END:VEVENT
BEGIN:VEVENT
DTSTART;VALUE=DATE:20230526
DTEND;VALUE=DATE:20230527
DTSTAMP:20260424T151610
CREATED:20230525T183914Z
LAST-MODIFIED:20230525T183915Z
UID:5701-1685059200-1685145599@elementary.sd42.ca
SUMMARY:Last Chance to Purchase Yearbook $17 each
DESCRIPTION:Yearbooks are now on sale ONLINE (only) – please click HERE to order. The deadline to order online is Friday\, May 26 to avoid shipping charges. \n** Re: SHIPPING ** Just leave the “Direct Ship” box unchecked and continue to the next screen for FREE shipping to the school. LATE ORDERS will be charged $7 extra for shipping. \nThe 2022-2023 Glenwood Yearbook is a wonderful way to preserve memories of this school year for your child. The yearbooks are full colour and include photos of all students\, classes\, staff\, and space for autographs. In addition\, there will be candid photos from throughout the year.
URL:https://elementary.sd42.ca/glenwood/event/last-chance-to-purchase-yearbook-17-each/
ATTACH;FMTTYPE=image/jpeg:https://wordpress1.blob.core.windows.net/glenwood/2023/05/Last-day-to-order-yearbook.jpeg
END:VEVENT
BEGIN:VEVENT
DTSTART;TZID=America/Vancouver:20230526T100000
DTEND;TZID=America/Vancouver:20230526T113000
DTSTAMP:20260424T151610
CREATED:20230525T170011Z
LAST-MODIFIED:20230525T185532Z
UID:5161-1685095200-1685100600@elementary.sd42.ca
SUMMARY:Gr. 6 Immunizations
DESCRIPTION:
URL:https://elementary.sd42.ca/glenwood/event/gr-6-immunizations-3/
END:VEVENT
BEGIN:VEVENT
DTSTART;TZID=America/Vancouver:20230526T120000
DTEND;TZID=America/Vancouver:20230526T120000
DTSTAMP:20260424T151610
CREATED:20230223T214030Z
LAST-MODIFIED:20230302T191243Z
UID:5536-1685102400-1685102400@elementary.sd42.ca
SUMMARY:Boston Pizza P.A.C. Lunch
DESCRIPTION:Order online @ https://munchalunch.com/schools/glenwood/ by May 17
URL:https://elementary.sd42.ca/glenwood/event/boston-pizza-p-a-c-lunch/
ATTACH;FMTTYPE=image/jpeg:https://wordpress1.blob.core.windows.net/glenwood/2023/02/Boston-Pizza-May-17th.jpg
END:VEVENT
BEGIN:VEVENT
DTSTART;TZID=America/Vancouver:20230526T140000
DTEND;TZID=America/Vancouver:20230526T143000
DTSTAMP:20260424T151610
CREATED:20230525T205127Z
LAST-MODIFIED:20230525T205247Z
UID:5716-1685109600-1685111400@elementary.sd42.ca
SUMMARY:PAC "Freezie Treat Friday" May 26
DESCRIPTION:PAC will be running Freezie Treat Friday after school outside on the basketball court TOMORROW – Friday\, May 26. \nCash only. \n$2   Jumbo Freezie \n25¢ Mini Freezie
URL:https://elementary.sd42.ca/glenwood/event/pac-freezie-treat-friday-may-26/
ATTACH;FMTTYPE=image/jpeg:https://wordpress1.blob.core.windows.net/glenwood/2023/05/Freezie-Friday.jpg
END:VEVENT
END:VCALENDAR