BEGIN:VCALENDAR
VERSION:2.0
PRODID:-//Glenwood Elementary - ECPv6.15.14//NONSGML v1.0//EN
CALSCALE:GREGORIAN
METHOD:PUBLISH
X-WR-CALNAME:Glenwood Elementary
X-ORIGINAL-URL:https://elementary.sd42.ca/glenwood
X-WR-CALDESC:Events for Glenwood Elementary
REFRESH-INTERVAL;VALUE=DURATION:PT1H
X-Robots-Tag:noindex
X-PUBLISHED-TTL:PT1H
BEGIN:VTIMEZONE
TZID:America/Vancouver
BEGIN:DAYLIGHT
TZOFFSETFROM:-0800
TZOFFSETTO:-0700
TZNAME:PDT
DTSTART:20210314T100000
END:DAYLIGHT
BEGIN:STANDARD
TZOFFSETFROM:-0700
TZOFFSETTO:-0800
TZNAME:PST
DTSTART:20211107T090000
END:STANDARD
BEGIN:DAYLIGHT
TZOFFSETFROM:-0800
TZOFFSETTO:-0700
TZNAME:PDT
DTSTART:20220313T100000
END:DAYLIGHT
BEGIN:STANDARD
TZOFFSETFROM:-0700
TZOFFSETTO:-0800
TZNAME:PST
DTSTART:20221106T090000
END:STANDARD
BEGIN:DAYLIGHT
TZOFFSETFROM:-0800
TZOFFSETTO:-0700
TZNAME:PDT
DTSTART:20230312T100000
END:DAYLIGHT
BEGIN:STANDARD
TZOFFSETFROM:-0700
TZOFFSETTO:-0800
TZNAME:PST
DTSTART:20231105T090000
END:STANDARD
END:VTIMEZONE
BEGIN:VEVENT
DTSTART;VALUE=DATE:20220621
DTEND;VALUE=DATE:20220622
DTSTAMP:20260423T035056
CREATED:20220518T210945Z
LAST-MODIFIED:20220518T213112Z
UID:5039-1655769600-1655855999@elementary.sd42.ca
SUMMARY:National Indigenous Peoples Day
DESCRIPTION:This June 21\, 2021 is the national 25th anniversary of celebrating the heritage\, diverse cultures and outstanding achievements of First Nations\, Inuit and Métis peoples!
URL:https://elementary.sd42.ca/glenwood/event/national-indigenous-peoples-day-3/
END:VEVENT
BEGIN:VEVENT
DTSTART;TZID=America/Vancouver:20220621T103000
DTEND;TZID=America/Vancouver:20220621T140000
DTSTAMP:20260423T035056
CREATED:20220607T215428Z
LAST-MODIFIED:20220607T215428Z
UID:5094-1655807400-1655820000@elementary.sd42.ca
SUMMARY:Div. 13\, 16\, 17\, 18 Field Trip Kin Park
DESCRIPTION:
URL:https://elementary.sd42.ca/glenwood/event/div-13-16-17-18-field-trip-kin-park/
END:VEVENT
BEGIN:VEVENT
DTSTART;TZID=America/Vancouver:20220621T120000
DTEND;TZID=America/Vancouver:20220621T140000
DTSTAMP:20260423T035056
CREATED:20220516T184718Z
LAST-MODIFIED:20220516T184818Z
UID:5023-1655812800-1655820000@elementary.sd42.ca
SUMMARY:Gr. 7 Leaving Ceremony
DESCRIPTION:
URL:https://elementary.sd42.ca/glenwood/event/gr-7-leaving-ceremony-2/
ATTACH;FMTTYPE=image/jpeg:https://wordpress1.blob.core.windows.net/glenwood/2022/05/Gr.-7-Leaving-Ceremony.jpeg
END:VEVENT
END:VCALENDAR