BEGIN:VCALENDAR
VERSION:2.0
PRODID:-//Glenwood Elementary - ECPv6.15.14//NONSGML v1.0//EN
CALSCALE:GREGORIAN
METHOD:PUBLISH
X-WR-CALNAME:Glenwood Elementary
X-ORIGINAL-URL:https://elementary.sd42.ca/glenwood
X-WR-CALDESC:Events for Glenwood Elementary
REFRESH-INTERVAL;VALUE=DURATION:PT1H
X-Robots-Tag:noindex
X-PUBLISHED-TTL:PT1H
BEGIN:VTIMEZONE
TZID:America/Vancouver
BEGIN:DAYLIGHT
TZOFFSETFROM:-0800
TZOFFSETTO:-0700
TZNAME:PDT
DTSTART:20210314T100000
END:DAYLIGHT
BEGIN:STANDARD
TZOFFSETFROM:-0700
TZOFFSETTO:-0800
TZNAME:PST
DTSTART:20211107T090000
END:STANDARD
BEGIN:DAYLIGHT
TZOFFSETFROM:-0800
TZOFFSETTO:-0700
TZNAME:PDT
DTSTART:20220313T100000
END:DAYLIGHT
BEGIN:STANDARD
TZOFFSETFROM:-0700
TZOFFSETTO:-0800
TZNAME:PST
DTSTART:20221106T090000
END:STANDARD
BEGIN:DAYLIGHT
TZOFFSETFROM:-0800
TZOFFSETTO:-0700
TZNAME:PDT
DTSTART:20230312T100000
END:DAYLIGHT
BEGIN:STANDARD
TZOFFSETFROM:-0700
TZOFFSETTO:-0800
TZNAME:PST
DTSTART:20231105T090000
END:STANDARD
END:VTIMEZONE
BEGIN:VEVENT
DTSTART;TZID=America/Vancouver:20220614T083000
DTEND;TZID=America/Vancouver:20220614T123000
DTSTAMP:20260423T054633
CREATED:20220607T214815Z
LAST-MODIFIED:20220607T215633Z
UID:5090-1655195400-1655209800@elementary.sd42.ca
SUMMARY:Div. 8\, 14\, 15\, 16 Katzie Slough Field Trip
DESCRIPTION:
URL:https://elementary.sd42.ca/glenwood/event/katzie-slough-field-trip-div-8-14-15-16/
END:VEVENT
BEGIN:VEVENT
DTSTART;TZID=America/Vancouver:20220614T183000
DTEND;TZID=America/Vancouver:20220614T193000
DTSTAMP:20260423T054633
CREATED:20220518T170029Z
LAST-MODIFIED:20220518T170051Z
UID:4899-1655231400-1655235000@elementary.sd42.ca
SUMMARY:PAC Meeting
DESCRIPTION:
URL:https://elementary.sd42.ca/glenwood/event/pac-meeting-8/
END:VEVENT
END:VCALENDAR