BEGIN:VCALENDAR
VERSION:2.0
PRODID:-//Glenwood Elementary - ECPv6.15.14//NONSGML v1.0//EN
CALSCALE:GREGORIAN
METHOD:PUBLISH
X-ORIGINAL-URL:https://elementary.sd42.ca/glenwood
X-WR-CALDESC:Events for Glenwood Elementary
REFRESH-INTERVAL;VALUE=DURATION:PT1H
X-Robots-Tag:noindex
X-PUBLISHED-TTL:PT1H
BEGIN:VTIMEZONE
TZID:America/Vancouver
BEGIN:DAYLIGHT
TZOFFSETFROM:-0800
TZOFFSETTO:-0700
TZNAME:PDT
DTSTART:20210314T100000
END:DAYLIGHT
BEGIN:STANDARD
TZOFFSETFROM:-0700
TZOFFSETTO:-0800
TZNAME:PST
DTSTART:20211107T090000
END:STANDARD
BEGIN:DAYLIGHT
TZOFFSETFROM:-0800
TZOFFSETTO:-0700
TZNAME:PDT
DTSTART:20220313T100000
END:DAYLIGHT
BEGIN:STANDARD
TZOFFSETFROM:-0700
TZOFFSETTO:-0800
TZNAME:PST
DTSTART:20221106T090000
END:STANDARD
BEGIN:DAYLIGHT
TZOFFSETFROM:-0800
TZOFFSETTO:-0700
TZNAME:PDT
DTSTART:20230312T100000
END:DAYLIGHT
BEGIN:STANDARD
TZOFFSETFROM:-0700
TZOFFSETTO:-0800
TZNAME:PST
DTSTART:20231105T090000
END:STANDARD
END:VTIMEZONE
BEGIN:VEVENT
DTSTART;TZID=America/Vancouver:20220401T080000
DTEND;TZID=America/Vancouver:20220418T150000
DTSTAMP:20260422T175127
CREATED:20220329T220044Z
LAST-MODIFIED:20220329T220045Z
UID:4934-1648800000-1650294000@elementary.sd42.ca
SUMMARY:Spring Flower Fundraiser
DESCRIPTION:Growing Smiles Spring Flower fundraiser –order online from April 1-18 with delivery set for the week of May 3 – just in time for Mother’s Day. https://glenwoodelementary.growingsmilesfundraising.com
URL:https://elementary.sd42.ca/glenwood/event/spring-flower-fundraiser/
ATTACH;FMTTYPE=image/jpeg:https://wordpress1.blob.core.windows.net/glenwood/2022/03/Plant-Sale.jpg
END:VEVENT
BEGIN:VEVENT
DTSTART;VALUE=DATE:20220411
DTEND;VALUE=DATE:20220412
DTSTAMP:20260422T175127
CREATED:20220329T191031Z
LAST-MODIFIED:20220329T191104Z
UID:4930-1649635200-1649721599@elementary.sd42.ca
SUMMARY:"Created By Kids" artwork due at school office
DESCRIPTION:If you will be ordering art cards from the “Created By Kids” fundraiser\, please return your child’s original art card to the school office by Monday\, April 11. \nArt cards can be ordered at:  https://shop.photoexpressions.ca/clients/glenwood-elementary-school-maple-ridge/glenwood-elementary-cbk-spring-2022/access 
URL:https://elementary.sd42.ca/glenwood/event/created-by-kids-artwork-due-at-school-office/
END:VEVENT
END:VCALENDAR