BEGIN:VCALENDAR
VERSION:2.0
PRODID:-//Glenwood Elementary - ECPv6.15.14//NONSGML v1.0//EN
CALSCALE:GREGORIAN
METHOD:PUBLISH
X-ORIGINAL-URL:https://elementary.sd42.ca/glenwood
X-WR-CALDESC:Events for Glenwood Elementary
REFRESH-INTERVAL;VALUE=DURATION:PT1H
X-Robots-Tag:noindex
X-PUBLISHED-TTL:PT1H
BEGIN:VTIMEZONE
TZID:America/Vancouver
BEGIN:DAYLIGHT
TZOFFSETFROM:-0800
TZOFFSETTO:-0700
TZNAME:PDT
DTSTART:20210314T100000
END:DAYLIGHT
BEGIN:STANDARD
TZOFFSETFROM:-0700
TZOFFSETTO:-0800
TZNAME:PST
DTSTART:20211107T090000
END:STANDARD
BEGIN:DAYLIGHT
TZOFFSETFROM:-0800
TZOFFSETTO:-0700
TZNAME:PDT
DTSTART:20220313T100000
END:DAYLIGHT
BEGIN:STANDARD
TZOFFSETFROM:-0700
TZOFFSETTO:-0800
TZNAME:PST
DTSTART:20221106T090000
END:STANDARD
BEGIN:DAYLIGHT
TZOFFSETFROM:-0800
TZOFFSETTO:-0700
TZNAME:PDT
DTSTART:20230312T100000
END:DAYLIGHT
BEGIN:STANDARD
TZOFFSETFROM:-0700
TZOFFSETTO:-0800
TZNAME:PST
DTSTART:20231105T090000
END:STANDARD
END:VTIMEZONE
BEGIN:VEVENT
DTSTART;VALUE=DATE:20220309
DTEND;VALUE=DATE:20220329
DTSTAMP:20260419T235552
CREATED:20220308T170143Z
LAST-MODIFIED:20220308T170339Z
UID:4889-1646784000-1648511999@elementary.sd42.ca
SUMMARY:Glenwood PAC is fundraising with Purdy's Chocolatier\, just in time for Easter!
DESCRIPTION:Fundraiser will run online from March 9 – 28 and will be delivered to the school the week of April 11-14. Pick up information will be announced closer to the event. \nIf you’d like to support us in fundraising towards new playground equipment through purchasing some sweet Easter gifts for friends\, family and yourself\, please click the link below: \nhttps://fundraising.purdys.com/4022-92609 \nAfter you’ve signed in you can place an order or invite others to join and support our Fundraising Campaign. \nThank you for your support. \nGlenwood PAC
URL:https://elementary.sd42.ca/glenwood/event/glenwood-pac-is-fundraising-with-purdys-chocolatier-just-in-time-for-easter/
ATTACH;FMTTYPE=image/jpeg:https://wordpress1.blob.core.windows.net/glenwood/2021/11/Purdys-Logo.jpg
END:VEVENT
END:VCALENDAR