BEGIN:VCALENDAR
VERSION:2.0
PRODID:-//Glenwood Elementary - ECPv6.15.14//NONSGML v1.0//EN
CALSCALE:GREGORIAN
METHOD:PUBLISH
X-WR-CALNAME:Glenwood Elementary
X-ORIGINAL-URL:https://elementary.sd42.ca/glenwood
X-WR-CALDESC:Events for Glenwood Elementary
REFRESH-INTERVAL;VALUE=DURATION:PT1H
X-Robots-Tag:noindex
X-PUBLISHED-TTL:PT1H
BEGIN:VTIMEZONE
TZID:America/Vancouver
BEGIN:DAYLIGHT
TZOFFSETFROM:-0800
TZOFFSETTO:-0700
TZNAME:PDT
DTSTART:20200308T100000
END:DAYLIGHT
BEGIN:STANDARD
TZOFFSETFROM:-0700
TZOFFSETTO:-0800
TZNAME:PST
DTSTART:20201101T090000
END:STANDARD
BEGIN:DAYLIGHT
TZOFFSETFROM:-0800
TZOFFSETTO:-0700
TZNAME:PDT
DTSTART:20210314T100000
END:DAYLIGHT
BEGIN:STANDARD
TZOFFSETFROM:-0700
TZOFFSETTO:-0800
TZNAME:PST
DTSTART:20211107T090000
END:STANDARD
BEGIN:DAYLIGHT
TZOFFSETFROM:-0800
TZOFFSETTO:-0700
TZNAME:PDT
DTSTART:20220313T100000
END:DAYLIGHT
BEGIN:STANDARD
TZOFFSETFROM:-0700
TZOFFSETTO:-0800
TZNAME:PST
DTSTART:20221106T090000
END:STANDARD
END:VTIMEZONE
BEGIN:VEVENT
DTSTART;VALUE=DATE:20211210
DTEND;VALUE=DATE:20211211
DTSTAMP:20260421T082700
CREATED:20211203T222539Z
LAST-MODIFIED:20211203T222539Z
UID:4717-1639094400-1639180799@elementary.sd42.ca
SUMMARY:Pink Shirt Orders Due
DESCRIPTION:On February 23\, 2022 – Pink Shirt Day\, we encourage everyone to wear pink to symbolize that we do not tolerate bullying. We will be ordering “Kindness Counts” t-shirts and hoodies and are sending home paper order forms. One student name (only) per order form please. \nThis year we have the choice of pink or black T-shirts and black Hoodies.  The prices are $10 / T-shirt and $35 / hoodie. Payment can be made by cash\, cheque – payable to Glenwood Elementary\, or credit card via the Parent Portal. \nAll orders must submit the paper form to the school office – even if paying online via the Parent Portal. \nT-shirts and Hoodies will be sent home with students once the orders are filled in the New Year. \nPlease email gl_reception@sd42.ca if you have any questions. \nOrders are due to the school office by Friday\, December 10th. \n Please note:  we are ordering stock early this year to allow extra time for shipment.
URL:https://elementary.sd42.ca/glenwood/event/pink-shirt-orders-due-3/
ATTACH;FMTTYPE=image/jpeg:https://wordpress1.blob.core.windows.net/glenwood/2021/12/Kindness-Counts-Shirts.jpg
END:VEVENT
BEGIN:VEVENT
DTSTART;TZID=America/Vancouver:20211210T115000
DTEND;TZID=America/Vancouver:20211210T115000
DTSTAMP:20260421T082700
CREATED:20211118T191712Z
LAST-MODIFIED:20211118T191712Z
UID:4664-1639137000-1639137000@elementary.sd42.ca
SUMMARY:PAC Subway Lunch
DESCRIPTION:Pre-orders only \nhttps://munchalunch.com/schools/glenwood/
URL:https://elementary.sd42.ca/glenwood/event/pac-subway-lunch-3/
END:VEVENT
END:VCALENDAR