BEGIN:VCALENDAR
VERSION:2.0
PRODID:-//Glenwood Elementary - ECPv6.15.14//NONSGML v1.0//EN
CALSCALE:GREGORIAN
METHOD:PUBLISH
X-ORIGINAL-URL:https://elementary.sd42.ca/glenwood
X-WR-CALDESC:Events for Glenwood Elementary
REFRESH-INTERVAL;VALUE=DURATION:PT1H
X-Robots-Tag:noindex
X-PUBLISHED-TTL:PT1H
BEGIN:VTIMEZONE
TZID:America/Vancouver
BEGIN:DAYLIGHT
TZOFFSETFROM:-0800
TZOFFSETTO:-0700
TZNAME:PDT
DTSTART:20200308T100000
END:DAYLIGHT
BEGIN:STANDARD
TZOFFSETFROM:-0700
TZOFFSETTO:-0800
TZNAME:PST
DTSTART:20201101T090000
END:STANDARD
BEGIN:DAYLIGHT
TZOFFSETFROM:-0800
TZOFFSETTO:-0700
TZNAME:PDT
DTSTART:20210314T100000
END:DAYLIGHT
BEGIN:STANDARD
TZOFFSETFROM:-0700
TZOFFSETTO:-0800
TZNAME:PST
DTSTART:20211107T090000
END:STANDARD
BEGIN:DAYLIGHT
TZOFFSETFROM:-0800
TZOFFSETTO:-0700
TZNAME:PDT
DTSTART:20220313T100000
END:DAYLIGHT
BEGIN:STANDARD
TZOFFSETFROM:-0700
TZOFFSETTO:-0800
TZNAME:PST
DTSTART:20221106T090000
END:STANDARD
END:VTIMEZONE
BEGIN:VEVENT
DTSTART;VALUE=DATE:20211126
DTEND;VALUE=DATE:20211204
DTSTAMP:20260421T181710
CREATED:20211117T160035Z
LAST-MODIFIED:20211117T185602Z
UID:4618-1637884800-1638575999@elementary.sd42.ca
SUMMARY:Scholastic Book Fair
DESCRIPTION:Glenwood is having a Scholastic Book fair from November 26th to December 3rd.  There will be an in-person fair open to students and an online extension of the fair for parents to visit.  All online orders have free shipping and will be delivered to Glenwood Elementary on December 9th.  This is a great chance to support literacy at Glenwood!\n\n\n\nScholastic Book Fair Nov 26 – Dec 3Scholastic Book Fair Nov 26 – Dec 3 \nhttps://virtualbookfairs.scholastic.ca/pages/5166438
URL:https://elementary.sd42.ca/glenwood/event/scholastic-book-fair/
ATTACH;FMTTYPE=image/png:https://wordpress1.blob.core.windows.net/glenwood/2021/11/Scholastic-Book-Fairs.png
END:VEVENT
BEGIN:VEVENT
DTSTART;TZID=America/Vancouver:20211126T115000
DTEND;TZID=America/Vancouver:20211126T123000
DTSTAMP:20260421T181710
CREATED:20211025T170050Z
LAST-MODIFIED:20211025T180647Z
UID:4556-1637927400-1637929800@elementary.sd42.ca
SUMMARY:PAC Popcorn Day
DESCRIPTION:NOVEMBER HOT LUNCHES – ORDER ONLINE UNTIL NOVEMBER 11 \nNovember 26 (Kernels Popcorn) \n  \nPlease note we are NOT ACCEPTING CASH/CHEQUES for Hot Lunches this year\, all orders must be paid online by Nov 11 for orders to be placed. Thank you.10 \nHOW TO REGISTER:\n1) Go to: https://munchalunch.com/schools/glenwood \n2) Click the “Register Here” button (as shown below). The system will guide you through \n3) After adding your children\, click the green “Order Lunch!” button to order \n4) Next time\, just click the “Login Here” button to access your account.
URL:https://elementary.sd42.ca/glenwood/event/pac-popcorn-day/
END:VEVENT
END:VCALENDAR