BEGIN:VCALENDAR
VERSION:2.0
PRODID:-//Glenwood Elementary - ECPv6.15.14//NONSGML v1.0//EN
CALSCALE:GREGORIAN
METHOD:PUBLISH
X-WR-CALNAME:Glenwood Elementary
X-ORIGINAL-URL:https://elementary.sd42.ca/glenwood
X-WR-CALDESC:Events for Glenwood Elementary
REFRESH-INTERVAL;VALUE=DURATION:PT1H
X-Robots-Tag:noindex
X-PUBLISHED-TTL:PT1H
BEGIN:VTIMEZONE
TZID:America/Vancouver
BEGIN:DAYLIGHT
TZOFFSETFROM:-0800
TZOFFSETTO:-0700
TZNAME:PDT
DTSTART:20200308T100000
END:DAYLIGHT
BEGIN:STANDARD
TZOFFSETFROM:-0700
TZOFFSETTO:-0800
TZNAME:PST
DTSTART:20201101T090000
END:STANDARD
BEGIN:DAYLIGHT
TZOFFSETFROM:-0800
TZOFFSETTO:-0700
TZNAME:PDT
DTSTART:20210314T100000
END:DAYLIGHT
BEGIN:STANDARD
TZOFFSETFROM:-0700
TZOFFSETTO:-0800
TZNAME:PST
DTSTART:20211107T090000
END:STANDARD
BEGIN:DAYLIGHT
TZOFFSETFROM:-0800
TZOFFSETTO:-0700
TZNAME:PDT
DTSTART:20220313T100000
END:DAYLIGHT
BEGIN:STANDARD
TZOFFSETFROM:-0700
TZOFFSETTO:-0800
TZNAME:PST
DTSTART:20221106T090000
END:STANDARD
END:VTIMEZONE
BEGIN:VEVENT
DTSTART;TZID=America/Vancouver:20210531T080000
DTEND;TZID=America/Vancouver:20210604T170000
DTSTAMP:20260423T202047
CREATED:20210422T143841Z
LAST-MODIFIED:20210422T143841Z
UID:3959-1622448000-1622826000@elementary.sd42.ca
SUMMARY:Bike to school week
DESCRIPTION:
URL:https://elementary.sd42.ca/glenwood/event/bike-to-school-week/
END:VEVENT
BEGIN:VEVENT
DTSTART;TZID=America/Vancouver:20210601T080000
DTEND;TZID=America/Vancouver:20210630T170000
DTSTAMP:20260423T202047
CREATED:20200703T181752Z
LAST-MODIFIED:20200703T181752Z
UID:3194-1622534400-1625072400@elementary.sd42.ca
SUMMARY:National Indigenous History Month
DESCRIPTION:
URL:https://elementary.sd42.ca/glenwood/event/national-indigenous-history-month/
END:VEVENT
BEGIN:VEVENT
DTSTART;TZID=America/Vancouver:20210601T080000
DTEND;TZID=America/Vancouver:20210630T170000
DTSTAMP:20260423T202047
CREATED:20200703T181858Z
LAST-MODIFIED:20200703T181858Z
UID:3198-1622534400-1625072400@elementary.sd42.ca
SUMMARY:Pride Month
DESCRIPTION:
URL:https://elementary.sd42.ca/glenwood/event/pride-month/
END:VEVENT
BEGIN:VEVENT
DTSTART;TZID=America/Vancouver:20210603T090000
DTEND;TZID=America/Vancouver:20210603T100000
DTSTAMP:20260423T202047
CREATED:20210525T170123Z
LAST-MODIFIED:20210525T181023Z
UID:4118-1622710800-1622714400@elementary.sd42.ca
SUMMARY:NED’s Mindset Mission
DESCRIPTION:We have an exciting upcoming school-wide live stream event. It’s called NED’s Mindset Mission. \nThe show will be on June 3\, 2021 at 9 am. \n‍NED’s Mindset Mission is a positive behavior program. A world-class performer takes our students on an interactive educational journey filled with storytelling\, illusions\, yo-top tricks and humor. NED’s message and memorable friends inspire students\, promote academic achievement\, and support our school goals.
URL:https://elementary.sd42.ca/glenwood/event/neds-mindset-mission/
ATTACH;FMTTYPE=image/png:https://wordpress1.blob.core.windows.net/glenwood/2021/05/Ned-Show.png
END:VEVENT
BEGIN:VEVENT
DTSTART;TZID=America/Vancouver:20210603T190000
DTEND;TZID=America/Vancouver:20210603T200000
DTSTAMP:20260423T202047
CREATED:20210525T182019Z
LAST-MODIFIED:20210525T182019Z
UID:4123-1622746800-1622750400@elementary.sd42.ca
SUMMARY:Ready\, Set\, Kindergarten - parent info session
DESCRIPTION:We will be holding a parent Zoom info session on Thursday\, June 3 at 7 pm.  On that evening we will have an opportunity to share about the kindergarten year\, some of the things you can do in the summer to prepare for the year and answer any questions you may have.   The zoom link has been emailed directly to parents that have Kindergarten students registered at Glenwood for September 2021.
URL:https://elementary.sd42.ca/glenwood/event/ready-set-kindergarten-parent-info-session/
ATTACH;FMTTYPE=image/jpeg:https://wordpress1.blob.core.windows.net/glenwood/2021/04/RSK-Orientation.jpg
END:VEVENT
END:VCALENDAR