BEGIN:VCALENDAR
VERSION:2.0
PRODID:-//Glenwood Elementary - ECPv6.15.14//NONSGML v1.0//EN
CALSCALE:GREGORIAN
METHOD:PUBLISH
X-ORIGINAL-URL:https://elementary.sd42.ca/glenwood
X-WR-CALDESC:Events for Glenwood Elementary
REFRESH-INTERVAL;VALUE=DURATION:PT1H
X-Robots-Tag:noindex
X-PUBLISHED-TTL:PT1H
BEGIN:VTIMEZONE
TZID:America/Vancouver
BEGIN:DAYLIGHT
TZOFFSETFROM:-0800
TZOFFSETTO:-0700
TZNAME:PDT
DTSTART:20200308T100000
END:DAYLIGHT
BEGIN:STANDARD
TZOFFSETFROM:-0700
TZOFFSETTO:-0800
TZNAME:PST
DTSTART:20201101T090000
END:STANDARD
BEGIN:DAYLIGHT
TZOFFSETFROM:-0800
TZOFFSETTO:-0700
TZNAME:PDT
DTSTART:20210314T100000
END:DAYLIGHT
BEGIN:STANDARD
TZOFFSETFROM:-0700
TZOFFSETTO:-0800
TZNAME:PST
DTSTART:20211107T090000
END:STANDARD
BEGIN:DAYLIGHT
TZOFFSETFROM:-0800
TZOFFSETTO:-0700
TZNAME:PDT
DTSTART:20220313T100000
END:DAYLIGHT
BEGIN:STANDARD
TZOFFSETFROM:-0700
TZOFFSETTO:-0800
TZNAME:PST
DTSTART:20221106T090000
END:STANDARD
END:VTIMEZONE
BEGIN:VEVENT
DTSTART;TZID=America/Vancouver:20210412T080000
DTEND;TZID=America/Vancouver:20210511T170000
DTSTAMP:20260421T113248
CREATED:20200703T181651Z
LAST-MODIFIED:20200703T181651Z
UID:3190-1618214400-1620752400@elementary.sd42.ca
SUMMARY:Ramadan
DESCRIPTION:
URL:https://elementary.sd42.ca/glenwood/event/ramadan/
END:VEVENT
BEGIN:VEVENT
DTSTART;TZID=America/Vancouver:20210504T080000
DTEND;TZID=America/Vancouver:20210504T170000
DTSTAMP:20260421T113248
CREATED:20200819T024507Z
LAST-MODIFIED:20200819T024507Z
UID:3224-1620115200-1620147600@elementary.sd42.ca
SUMMARY:Star Wars Day - May the Fourth be with you
DESCRIPTION:
URL:https://elementary.sd42.ca/glenwood/event/star-wars-day-may-the-fourth-be-with-you/
END:VEVENT
BEGIN:VEVENT
DTSTART;TZID=America/Vancouver:20210504T111500
DTEND;TZID=America/Vancouver:20210504T120000
DTSTAMP:20260421T113248
CREATED:20200428T182954Z
LAST-MODIFIED:20200428T183236Z
UID:2930-1620126900-1620129600@elementary.sd42.ca
SUMMARY:Assembly every 1st Tuesday of month at 11:15 am
DESCRIPTION:
URL:https://elementary.sd42.ca/glenwood/event/assembly-every-1st-tuesday-of-month-at-1115-am-4/
END:VEVENT
END:VCALENDAR