BEGIN:VCALENDAR
VERSION:2.0
PRODID:-//Glenwood Elementary - ECPv6.15.14//NONSGML v1.0//EN
CALSCALE:GREGORIAN
METHOD:PUBLISH
X-ORIGINAL-URL:https://elementary.sd42.ca/glenwood
X-WR-CALDESC:Events for Glenwood Elementary
REFRESH-INTERVAL;VALUE=DURATION:PT1H
X-Robots-Tag:noindex
X-PUBLISHED-TTL:PT1H
BEGIN:VTIMEZONE
TZID:America/Vancouver
BEGIN:DAYLIGHT
TZOFFSETFROM:-0800
TZOFFSETTO:-0700
TZNAME:PDT
DTSTART:20190310T100000
END:DAYLIGHT
BEGIN:STANDARD
TZOFFSETFROM:-0700
TZOFFSETTO:-0800
TZNAME:PST
DTSTART:20191103T090000
END:STANDARD
BEGIN:DAYLIGHT
TZOFFSETFROM:-0800
TZOFFSETTO:-0700
TZNAME:PDT
DTSTART:20200308T100000
END:DAYLIGHT
BEGIN:STANDARD
TZOFFSETFROM:-0700
TZOFFSETTO:-0800
TZNAME:PST
DTSTART:20201101T090000
END:STANDARD
BEGIN:DAYLIGHT
TZOFFSETFROM:-0800
TZOFFSETTO:-0700
TZNAME:PDT
DTSTART:20210314T100000
END:DAYLIGHT
BEGIN:STANDARD
TZOFFSETFROM:-0700
TZOFFSETTO:-0800
TZNAME:PST
DTSTART:20211107T090000
END:STANDARD
END:VTIMEZONE
BEGIN:VEVENT
DTSTART;TZID=America/Vancouver:20200201T110000
DTEND;TZID=America/Vancouver:20200201T150000
DTSTAMP:20260421T073727
CREATED:20190128T163024Z
LAST-MODIFIED:20200128T165756Z
UID:2473-1580554800-1580569200@elementary.sd42.ca
SUMMARY:PAC Textile Drive - 11 am-3 pm
DESCRIPTION:HELP SUPPORT THE GLENWOOD GRADE 7 TEXTILE DRIVE \n \nDate: February 1\, 2020 between 11 am and 3 pm\nLocation: Glenwood Elementary School\nCollection Days: Now until February 1\nGoal: To raise money to help our Grade 7’s go to camp\nDonations can also be dropped off at the office by Feb 1 \n\nAcceptable Items:\n– Re-wearable household clothing and shoes\n– Paired Shoes\n– Belts\n– Purses\n– Towels\n– Linens \nWe CANNOT accept:\n– Corporate clothing\n– Fabric rolls /scrap pieces\n– Fabric sample books\n– Oiled rags \nAll items must be in:\nPlastic Bags and Clean Wearable Condition \nAny questions? Email gwgrade7@gmail.com
URL:https://elementary.sd42.ca/glenwood/event/pac-clothing-drive-time-tba/
END:VEVENT
END:VCALENDAR