BEGIN:VCALENDAR
VERSION:2.0
PRODID:-//Glenwood Elementary - ECPv6.15.14//NONSGML v1.0//EN
CALSCALE:GREGORIAN
METHOD:PUBLISH
X-ORIGINAL-URL:https://elementary.sd42.ca/glenwood
X-WR-CALDESC:Events for Glenwood Elementary
REFRESH-INTERVAL;VALUE=DURATION:PT1H
X-Robots-Tag:noindex
X-PUBLISHED-TTL:PT1H
BEGIN:VTIMEZONE
TZID:America/Vancouver
BEGIN:DAYLIGHT
TZOFFSETFROM:-0800
TZOFFSETTO:-0700
TZNAME:PDT
DTSTART:20180311T100000
END:DAYLIGHT
BEGIN:STANDARD
TZOFFSETFROM:-0700
TZOFFSETTO:-0800
TZNAME:PST
DTSTART:20181104T090000
END:STANDARD
BEGIN:DAYLIGHT
TZOFFSETFROM:-0800
TZOFFSETTO:-0700
TZNAME:PDT
DTSTART:20190310T100000
END:DAYLIGHT
BEGIN:STANDARD
TZOFFSETFROM:-0700
TZOFFSETTO:-0800
TZNAME:PST
DTSTART:20191103T090000
END:STANDARD
BEGIN:DAYLIGHT
TZOFFSETFROM:-0800
TZOFFSETTO:-0700
TZNAME:PDT
DTSTART:20200308T100000
END:DAYLIGHT
BEGIN:STANDARD
TZOFFSETFROM:-0700
TZOFFSETTO:-0800
TZNAME:PST
DTSTART:20201101T090000
END:STANDARD
END:VTIMEZONE
BEGIN:VEVENT
DTSTART;TZID=America/Vancouver:20190831T080000
DTEND;TZID=America/Vancouver:20190930T170000
DTSTAMP:20260421T181745
CREATED:20190627T190300Z
LAST-MODIFIED:20190627T190300Z
UID:2045-1567238400-1569862800@elementary.sd42.ca
SUMMARY:SCHOOL SCHEDULE FOR SEPTEMBER 2019 -->
DESCRIPTION:SCHOOL SCHEDULE FOR 2019-2020 \n  \n\n\n\n8-25 AM\nWARNING BELL\n\n\n8-30 AM\nSCHOOL STARTS\n\n\n10:20 AM — 10:35 AM\nRECESS\n\n\n11:50 AM — 12:30 PM\nLUNCH\n\n\n2:20 PM\nDISMISSAL
URL:https://elementary.sd42.ca/glenwood/event/school-schedule-for-september-2019/
END:VEVENT
BEGIN:VEVENT
DTSTART;VALUE=DATE:20190903
DTEND;VALUE=DATE:20190904
DTSTAMP:20260421T181745
CREATED:20180528T185247Z
LAST-MODIFIED:20180528T185247Z
UID:1073-1567468800-1567555199@elementary.sd42.ca
SUMMARY:School opens following summer holidays
DESCRIPTION:School opens following summer holidays.
URL:https://elementary.sd42.ca/glenwood/event/school-opens-following-summer-holidays-2/
CATEGORIES:district calendar
END:VEVENT
BEGIN:VEVENT
DTSTART;TZID=America/Vancouver:20190903T080000
DTEND;TZID=America/Vancouver:20190903T170000
DTSTAMP:20260421T181745
CREATED:20190606T210612Z
LAST-MODIFIED:20190610T223202Z
UID:1875-1567497600-1567530000@elementary.sd42.ca
SUMMARY:Students attend classes in "Family Groups" : 8:30 am to 11:00 am on Tuesday
DESCRIPTION:Tuesday\, September 3\, 2019:  \n\nFirst bell is at 8:25 am.\nStudents are to return to their previous school year’s teacher/classroom\nNew students are to report to the library\nParents have been reminded to not send their child with school supplies in the first week.\nK students of June 2019 – see the board outside – where to go\nStudents will be in “Family Groups” (different ages) for the rest of the first week\nDISMISSAL AT 11:00 am\n\n 
URL:https://elementary.sd42.ca/glenwood/event/students-attend-classes-in-family-groups-830-am-to-220-pm-daily/
END:VEVENT
END:VCALENDAR