BEGIN:VCALENDAR
VERSION:2.0
PRODID:-//Glenwood Elementary - ECPv6.15.14//NONSGML v1.0//EN
CALSCALE:GREGORIAN
METHOD:PUBLISH
X-ORIGINAL-URL:https://elementary.sd42.ca/glenwood
X-WR-CALDESC:Events for Glenwood Elementary
REFRESH-INTERVAL;VALUE=DURATION:PT1H
X-Robots-Tag:noindex
X-PUBLISHED-TTL:PT1H
BEGIN:VTIMEZONE
TZID:America/Vancouver
BEGIN:DAYLIGHT
TZOFFSETFROM:-0800
TZOFFSETTO:-0700
TZNAME:PDT
DTSTART:20170312T100000
END:DAYLIGHT
BEGIN:STANDARD
TZOFFSETFROM:-0700
TZOFFSETTO:-0800
TZNAME:PST
DTSTART:20171105T090000
END:STANDARD
BEGIN:DAYLIGHT
TZOFFSETFROM:-0800
TZOFFSETTO:-0700
TZNAME:PDT
DTSTART:20180311T100000
END:DAYLIGHT
BEGIN:STANDARD
TZOFFSETFROM:-0700
TZOFFSETTO:-0800
TZNAME:PST
DTSTART:20181104T090000
END:STANDARD
BEGIN:DAYLIGHT
TZOFFSETFROM:-0800
TZOFFSETTO:-0700
TZNAME:PDT
DTSTART:20190310T100000
END:DAYLIGHT
BEGIN:STANDARD
TZOFFSETFROM:-0700
TZOFFSETTO:-0800
TZNAME:PST
DTSTART:20191103T090000
END:STANDARD
END:VTIMEZONE
BEGIN:VEVENT
DTSTART;TZID=America/Vancouver:20180516T130000
DTEND;TZID=America/Vancouver:20180516T130000
DTSTAMP:20260420T071547
CREATED:20180426T202857Z
LAST-MODIFIED:20180426T202857Z
UID:811-1526475600-1526475600@elementary.sd42.ca
SUMMARY:A traveling performance of Cinderella\, Return to the Glass Slipper\, with her musical theater group from MRSS. approximately 50 minutes in duration at 1 pm – time To Be Confirmed – in gym
DESCRIPTION:K to gr 3 only
URL:https://elementary.sd42.ca/glenwood/event/a-traveling-performance-of-cinderella-return-to-the-glass-slipper-with-her-musical-theater-group-from-mrss-approximately-50-minutes-in-duration-at-1-pm-time-to-be-confirmed-in-g/
END:VEVENT
END:VCALENDAR