BEGIN:VCALENDAR
VERSION:2.0
PRODID:-//Glenwood Elementary - ECPv6.15.14//NONSGML v1.0//EN
CALSCALE:GREGORIAN
METHOD:PUBLISH
X-WR-CALNAME:Glenwood Elementary
X-ORIGINAL-URL:https://elementary.sd42.ca/glenwood
X-WR-CALDESC:Events for Glenwood Elementary
REFRESH-INTERVAL;VALUE=DURATION:PT1H
X-Robots-Tag:noindex
X-PUBLISHED-TTL:PT1H
BEGIN:VTIMEZONE
TZID:America/Toronto
BEGIN:DAYLIGHT
TZOFFSETFROM:-0500
TZOFFSETTO:-0400
TZNAME:EDT
DTSTART:20160313T070000
END:DAYLIGHT
BEGIN:STANDARD
TZOFFSETFROM:-0400
TZOFFSETTO:-0500
TZNAME:EST
DTSTART:20161106T060000
END:STANDARD
BEGIN:DAYLIGHT
TZOFFSETFROM:-0500
TZOFFSETTO:-0400
TZNAME:EDT
DTSTART:20170312T070000
END:DAYLIGHT
BEGIN:STANDARD
TZOFFSETFROM:-0400
TZOFFSETTO:-0500
TZNAME:EST
DTSTART:20171105T060000
END:STANDARD
BEGIN:DAYLIGHT
TZOFFSETFROM:-0500
TZOFFSETTO:-0400
TZNAME:EDT
DTSTART:20180311T070000
END:DAYLIGHT
BEGIN:STANDARD
TZOFFSETFROM:-0400
TZOFFSETTO:-0500
TZNAME:EST
DTSTART:20181104T060000
END:STANDARD
END:VTIMEZONE
BEGIN:VEVENT
DTSTART;TZID=America/Toronto:20170901T080000
DTEND;TZID=America/Toronto:20170901T170000
DTSTAMP:20260420T055254
CREATED:20170902T015005Z
LAST-MODIFIED:20170902T015005Z
UID:236-1504252800-1504285200@elementary.sd42.ca
SUMMARY:School opens Sept. 5\, 2017 at 8-30am! Dismissal on the 5th - 11:00 am.
DESCRIPTION:
URL:https://elementary.sd42.ca/glenwood/event/school-opens-sept-5-2017-at-8-30am-dismissal-on-the-5th-1100-am/
END:VEVENT
END:VCALENDAR