BEGIN:VCALENDAR
VERSION:2.0
PRODID:-//Fairview Elementary - ECPv6.15.14//NONSGML v1.0//EN
CALSCALE:GREGORIAN
METHOD:PUBLISH
X-ORIGINAL-URL:https://elementary.sd42.ca/fairview
X-WR-CALDESC:Events for Fairview Elementary
REFRESH-INTERVAL;VALUE=DURATION:PT1H
X-Robots-Tag:noindex
X-PUBLISHED-TTL:PT1H
BEGIN:VTIMEZONE
TZID:America/Toronto
BEGIN:DAYLIGHT
TZOFFSETFROM:-0500
TZOFFSETTO:-0400
TZNAME:EDT
DTSTART:20180311T070000
END:DAYLIGHT
BEGIN:STANDARD
TZOFFSETFROM:-0400
TZOFFSETTO:-0500
TZNAME:EST
DTSTART:20181104T060000
END:STANDARD
BEGIN:DAYLIGHT
TZOFFSETFROM:-0500
TZOFFSETTO:-0400
TZNAME:EDT
DTSTART:20190310T070000
END:DAYLIGHT
BEGIN:STANDARD
TZOFFSETFROM:-0400
TZOFFSETTO:-0500
TZNAME:EST
DTSTART:20191103T060000
END:STANDARD
BEGIN:DAYLIGHT
TZOFFSETFROM:-0500
TZOFFSETTO:-0400
TZNAME:EDT
DTSTART:20200308T070000
END:DAYLIGHT
BEGIN:STANDARD
TZOFFSETFROM:-0400
TZOFFSETTO:-0500
TZNAME:EST
DTSTART:20201101T060000
END:STANDARD
END:VTIMEZONE
BEGIN:VTIMEZONE
TZID:America/Vancouver
BEGIN:DAYLIGHT
TZOFFSETFROM:-0800
TZOFFSETTO:-0700
TZNAME:PDT
DTSTART:20180311T100000
END:DAYLIGHT
BEGIN:STANDARD
TZOFFSETFROM:-0700
TZOFFSETTO:-0800
TZNAME:PST
DTSTART:20181104T090000
END:STANDARD
BEGIN:DAYLIGHT
TZOFFSETFROM:-0800
TZOFFSETTO:-0700
TZNAME:PDT
DTSTART:20190310T100000
END:DAYLIGHT
BEGIN:STANDARD
TZOFFSETFROM:-0700
TZOFFSETTO:-0800
TZNAME:PST
DTSTART:20191103T090000
END:STANDARD
BEGIN:DAYLIGHT
TZOFFSETFROM:-0800
TZOFFSETTO:-0700
TZNAME:PDT
DTSTART:20200308T100000
END:DAYLIGHT
BEGIN:STANDARD
TZOFFSETFROM:-0700
TZOFFSETTO:-0800
TZNAME:PST
DTSTART:20201101T090000
END:STANDARD
END:VTIMEZONE
BEGIN:VEVENT
DTSTART;TZID=America/Toronto:20190305T084500
DTEND;TZID=America/Toronto:20190305T093000
DTSTAMP:20260421T120856
CREATED:20180629T212305Z
LAST-MODIFIED:20180629T212305Z
UID:730-1551775500-1551778200@elementary.sd42.ca
SUMMARY:STUDENT STAR ASSEMBLY
DESCRIPTION:
URL:https://elementary.sd42.ca/fairview/event/student-star-assembly-15/
END:VEVENT
BEGIN:VEVENT
DTSTART;TZID=America/Vancouver:20190305T143000
DTEND;TZID=America/Vancouver:20190305T170000
DTSTAMP:20260421T120856
CREATED:20190225T160124Z
LAST-MODIFIED:20190225T160124Z
UID:1028-1551796200-1551805200@elementary.sd42.ca
SUMMARY:MAKE UP GIRLS BASKETBALL GAME--AT FAIRVIEW
DESCRIPTION:
URL:https://elementary.sd42.ca/fairview/event/make-up-girls-basketball-game-at-fairview/
LOCATION:Golden Ears Winter Club (Planet Ice)
END:VEVENT
BEGIN:VEVENT
DTSTART;TZID=America/Vancouver:20190306T150000
DTEND;TZID=America/Vancouver:20190306T170000
DTSTAMP:20260421T120856
CREATED:20190121T203635Z
LAST-MODIFIED:20190121T203635Z
UID:976-1551884400-1551891600@elementary.sd42.ca
SUMMARY:Tier 1 Boys Basketball--PLAYOFFS . TBA
DESCRIPTION:
URL:https://elementary.sd42.ca/fairview/event/tier-1-boys-basketball-playoffs-tba/
END:VEVENT
BEGIN:VEVENT
DTSTART;TZID=America/Vancouver:20190312T103000
DTEND;TZID=America/Vancouver:20190312T113000
DTSTAMP:20260421T120856
CREATED:20181219T190654Z
LAST-MODIFIED:20181219T190654Z
UID:947-1552386600-1552390200@elementary.sd42.ca
SUMMARY:Reading link--School Challenge
DESCRIPTION:
URL:https://elementary.sd42.ca/fairview/event/reading-link-school-challenge/
END:VEVENT
BEGIN:VEVENT
DTSTART;TZID=America/Vancouver:20190312T150000
DTEND;TZID=America/Vancouver:20190312T170000
DTSTAMP:20260421T120856
CREATED:20190121T203723Z
LAST-MODIFIED:20190121T203723Z
UID:978-1552402800-1552410000@elementary.sd42.ca
SUMMARY:Tier 1 Boys Basketball . FINALS . TBA
DESCRIPTION:
URL:https://elementary.sd42.ca/fairview/event/tier-1-boys-basketball-finals-tba/
END:VEVENT
BEGIN:VEVENT
DTSTART;TZID=America/Vancouver:20190312T190000
DTEND;TZID=America/Vancouver:20190312T203000
DTSTAMP:20260421T120856
CREATED:20181017T191457Z
LAST-MODIFIED:20181017T191457Z
UID:834-1552417200-1552422600@elementary.sd42.ca
SUMMARY:Fairview PAC meeting
DESCRIPTION:
URL:https://elementary.sd42.ca/fairview/event/fairview-pac-meeting-5/
END:VEVENT
BEGIN:VEVENT
DTSTART;TZID=America/Vancouver:20190313T080000
DTEND;TZID=America/Vancouver:20190313T170000
DTSTAMP:20260421T120856
CREATED:20190307T144633Z
LAST-MODIFIED:20190307T144808Z
UID:1036-1552464000-1552496400@elementary.sd42.ca
SUMMARY:Hot Dog Day
DESCRIPTION:https://munchalunch.com/schools/FairviewMapleRidge/
URL:https://elementary.sd42.ca/fairview/event/hot-dog-day/
END:VEVENT
BEGIN:VEVENT
DTSTART;TZID=America/Toronto:20190314T110000
DTEND;TZID=America/Toronto:20190314T110000
DTSTAMP:20260421T120856
CREATED:20180629T213423Z
LAST-MODIFIED:20180629T213423Z
UID:744-1552561200-1552561200@elementary.sd42.ca
SUMMARY:EARLY DISMISSAL FOR STUDENTS
DESCRIPTION:THREE WAY CONFERENCES IN THE AFTERNOON
URL:https://elementary.sd42.ca/fairview/event/early-dismissal-for-students-4/
END:VEVENT
BEGIN:VEVENT
DTSTART;TZID=America/Toronto:20190314T120000
DTEND;TZID=America/Toronto:20190314T190000
DTSTAMP:20260421T120856
CREATED:20180629T213500Z
LAST-MODIFIED:20180629T213500Z
UID:746-1552564800-1552590000@elementary.sd42.ca
SUMMARY:3WAY CONFERENCES
DESCRIPTION:
URL:https://elementary.sd42.ca/fairview/event/3way-conferences-3/
END:VEVENT
BEGIN:VEVENT
DTSTART;VALUE=DATE:20190315
DTEND;VALUE=DATE:20190316
DTSTAMP:20260421T120856
CREATED:20180526T003343Z
LAST-MODIFIED:20180526T021455Z
UID:644-1552608000-1552694399@elementary.sd42.ca
SUMMARY:Last day of school before spring break
DESCRIPTION:Last day of school before spring break.
URL:https://elementary.sd42.ca/fairview/event/school-closes-for-spring-break/
CATEGORIES:district calendar
END:VEVENT
BEGIN:VEVENT
DTSTART;VALUE=DATE:20190315
DTEND;VALUE=DATE:20190316
DTSTAMP:20260421T120856
CREATED:20180629T213547Z
LAST-MODIFIED:20180629T213547Z
UID:748-1552608000-1552694399@elementary.sd42.ca
SUMMARY:3WAY CONFERENCES
DESCRIPTION:REGULAR SCHOOL NOT IN SESSION
URL:https://elementary.sd42.ca/fairview/event/3way-conferences-4/
END:VEVENT
BEGIN:VEVENT
DTSTART;VALUE=DATE:20190318
DTEND;VALUE=DATE:20190323
DTSTAMP:20260421T120856
CREATED:20180526T003345Z
LAST-MODIFIED:20180526T003345Z
UID:645-1552867200-1553299199@elementary.sd42.ca
SUMMARY:Spring break
DESCRIPTION:School closed for spring break.
URL:https://elementary.sd42.ca/fairview/event/spring-break-2/
CATEGORIES:district calendar
END:VEVENT
BEGIN:VEVENT
DTSTART;VALUE=DATE:20190325
DTEND;VALUE=DATE:20190330
DTSTAMP:20260421T120856
CREATED:20180526T003347Z
LAST-MODIFIED:20180526T003347Z
UID:646-1553472000-1553903999@elementary.sd42.ca
SUMMARY:School not in session
DESCRIPTION:School not in session.
URL:https://elementary.sd42.ca/fairview/event/school-not-in-session-4/
CATEGORIES:district calendar
END:VEVENT
END:VCALENDAR