BEGIN:VCALENDAR
VERSION:2.0
PRODID:-//Fairview Elementary - ECPv6.15.14//NONSGML v1.0//EN
CALSCALE:GREGORIAN
METHOD:PUBLISH
X-WR-CALNAME:Fairview Elementary
X-ORIGINAL-URL:https://elementary.sd42.ca/fairview
X-WR-CALDESC:Events for Fairview Elementary
REFRESH-INTERVAL;VALUE=DURATION:PT1H
X-Robots-Tag:noindex
X-PUBLISHED-TTL:PT1H
BEGIN:VTIMEZONE
TZID:America/Toronto
BEGIN:DAYLIGHT
TZOFFSETFROM:-0500
TZOFFSETTO:-0400
TZNAME:EDT
DTSTART:20170312T070000
END:DAYLIGHT
BEGIN:STANDARD
TZOFFSETFROM:-0400
TZOFFSETTO:-0500
TZNAME:EST
DTSTART:20171105T060000
END:STANDARD
BEGIN:DAYLIGHT
TZOFFSETFROM:-0500
TZOFFSETTO:-0400
TZNAME:EDT
DTSTART:20180311T070000
END:DAYLIGHT
BEGIN:STANDARD
TZOFFSETFROM:-0400
TZOFFSETTO:-0500
TZNAME:EST
DTSTART:20181104T060000
END:STANDARD
BEGIN:DAYLIGHT
TZOFFSETFROM:-0500
TZOFFSETTO:-0400
TZNAME:EDT
DTSTART:20190310T070000
END:DAYLIGHT
BEGIN:STANDARD
TZOFFSETFROM:-0400
TZOFFSETTO:-0500
TZNAME:EST
DTSTART:20191103T060000
END:STANDARD
END:VTIMEZONE
BEGIN:VTIMEZONE
TZID:America/Vancouver
BEGIN:DAYLIGHT
TZOFFSETFROM:-0800
TZOFFSETTO:-0700
TZNAME:PDT
DTSTART:20170312T100000
END:DAYLIGHT
BEGIN:STANDARD
TZOFFSETFROM:-0700
TZOFFSETTO:-0800
TZNAME:PST
DTSTART:20171105T090000
END:STANDARD
BEGIN:DAYLIGHT
TZOFFSETFROM:-0800
TZOFFSETTO:-0700
TZNAME:PDT
DTSTART:20180311T100000
END:DAYLIGHT
BEGIN:STANDARD
TZOFFSETFROM:-0700
TZOFFSETTO:-0800
TZNAME:PST
DTSTART:20181104T090000
END:STANDARD
BEGIN:DAYLIGHT
TZOFFSETFROM:-0800
TZOFFSETTO:-0700
TZNAME:PDT
DTSTART:20190310T100000
END:DAYLIGHT
BEGIN:STANDARD
TZOFFSETFROM:-0700
TZOFFSETTO:-0800
TZNAME:PST
DTSTART:20191103T090000
END:STANDARD
END:VTIMEZONE
BEGIN:VEVENT
DTSTART;TZID=America/Toronto:20180501T084500
DTEND;TZID=America/Toronto:20180501T093000
DTSTAMP:20260421T083721
CREATED:20170828T194330Z
LAST-MODIFIED:20170828T194349Z
UID:218-1525164300-1525167000@elementary.sd42.ca
SUMMARY:Student Star assembly
DESCRIPTION:Student Star assembly.
URL:https://elementary.sd42.ca/fairview/event/student-star-assembly-8/
CATEGORIES:District Events
END:VEVENT
BEGIN:VEVENT
DTSTART;TZID=America/Toronto:20180503T144500
DTEND;TZID=America/Toronto:20180503T160000
DTSTAMP:20260421T083721
CREATED:20170828T194524Z
LAST-MODIFIED:20170828T194619Z
UID:221-1525358700-1525363200@elementary.sd42.ca
SUMMARY:Staff meeting
DESCRIPTION:Staff meeting.
URL:https://elementary.sd42.ca/fairview/event/staff-meeting-6/
CATEGORIES:District Events
END:VEVENT
BEGIN:VEVENT
DTSTART;TZID=America/Toronto:20180518T113000
DTEND;TZID=America/Toronto:20180518T120000
DTSTAMP:20260421T083721
CREATED:20180517T225957Z
LAST-MODIFIED:20180517T225957Z
UID:571-1526643000-1526644800@elementary.sd42.ca
SUMMARY:School Track Awards
DESCRIPTION:
URL:https://elementary.sd42.ca/fairview/event/school-track-awards/
LOCATION:Golden Ears Winter Club (Planet Ice)
END:VEVENT
BEGIN:VEVENT
DTSTART;TZID=America/Toronto:20180518T123000
DTEND;TZID=America/Toronto:20180518T140000
DTSTAMP:20260421T083721
CREATED:20180517T230524Z
LAST-MODIFIED:20180517T230524Z
UID:573-1526646600-1526652000@elementary.sd42.ca
SUMMARY:Walk for Water
DESCRIPTION:
URL:https://elementary.sd42.ca/fairview/event/walk-for-water/
LOCATION:Fairview Elementary Library
END:VEVENT
BEGIN:VEVENT
DTSTART;VALUE=DATE:20180521
DTEND;VALUE=DATE:20180522
DTSTAMP:20260421T083721
CREATED:20170817T223455Z
LAST-MODIFIED:20170817T223455Z
UID:104-1526860800-1526947199@elementary.sd42.ca
SUMMARY:Victoria Day
DESCRIPTION:Statutory holiday. School not in session.
URL:https://elementary.sd42.ca/fairview/event/victoria-day/
CATEGORIES:district calendar
END:VEVENT
BEGIN:VEVENT
DTSTART;VALUE=DATE:20180522
DTEND;VALUE=DATE:20180523
DTSTAMP:20260421T083721
CREATED:20170817T223501Z
LAST-MODIFIED:20170817T223501Z
UID:105-1526947200-1527033599@elementary.sd42.ca
SUMMARY:Non-instructional day (district)
DESCRIPTION:School not in session.
URL:https://elementary.sd42.ca/fairview/event/non-instructional-day-district-2/
CATEGORIES:district calendar
END:VEVENT
BEGIN:VEVENT
DTSTART;TZID=America/Toronto:20180523T103000
DTEND;TZID=America/Toronto:20180523T120000
DTSTAMP:20260421T083721
CREATED:20180517T230619Z
LAST-MODIFIED:20180517T230619Z
UID:576-1527071400-1527076800@elementary.sd42.ca
SUMMARY:Michael Mitchell
DESCRIPTION:presentation to Primary classes
URL:https://elementary.sd42.ca/fairview/event/michael-mitchell/
END:VEVENT
BEGIN:VEVENT
DTSTART;TZID=America/Toronto:20180528T083000
DTEND;TZID=America/Toronto:20180528T133000
DTSTAMP:20260421T083721
CREATED:20180517T230722Z
LAST-MODIFIED:20180517T233217Z
UID:578-1527496200-1527514200@elementary.sd42.ca
SUMMARY:Kindergarten classes to Belcarra
DESCRIPTION:
URL:https://elementary.sd42.ca/fairview/event/kindergarten-classes-to-belcarra/
END:VEVENT
BEGIN:VEVENT
DTSTART;TZID=America/Toronto:20180529T084500
DTEND;TZID=America/Toronto:20180529T093000
DTSTAMP:20260421T083721
CREATED:20170828T194755Z
LAST-MODIFIED:20170828T194755Z
UID:223-1527583500-1527586200@elementary.sd42.ca
SUMMARY:Student Star assembly
DESCRIPTION:Student Star assembly.
URL:https://elementary.sd42.ca/fairview/event/student-star-assembly-9/
CATEGORIES:District Events
END:VEVENT
BEGIN:VEVENT
DTSTART;VALUE=DATE:20180530
DTEND;VALUE=DATE:20180531
DTSTAMP:20260421T083721
CREATED:20170828T194922Z
LAST-MODIFIED:20170828T194956Z
UID:225-1527638400-1527724799@elementary.sd42.ca
SUMMARY:Grade 8 Day
DESCRIPTION:Grade 7s visit their high schools for the day.
URL:https://elementary.sd42.ca/fairview/event/grade-8-day/
CATEGORIES:District Events
END:VEVENT
BEGIN:VEVENT
DTSTART;TZID=America/Toronto:20180530T083000
DTEND;TZID=America/Toronto:20180530T133000
DTSTAMP:20260421T083721
CREATED:20180517T230848Z
LAST-MODIFIED:20180517T233135Z
UID:580-1527669000-1527687000@elementary.sd42.ca
SUMMARY:Divisions 10 + 11 to Belcarra
DESCRIPTION:Fieldtrip
URL:https://elementary.sd42.ca/fairview/event/divisions-10-11-to-belcarra/
END:VEVENT
BEGIN:VEVENT
DTSTART;TZID=America/Toronto:20180531T144500
DTEND;TZID=America/Toronto:20180531T160000
DTSTAMP:20260421T083721
CREATED:20170828T195129Z
LAST-MODIFIED:20170828T195210Z
UID:227-1527777900-1527782400@elementary.sd42.ca
SUMMARY:Staff meeting
DESCRIPTION:Staff meeting.
URL:https://elementary.sd42.ca/fairview/event/staff-meeting-7/
CATEGORIES:District Events
END:VEVENT
END:VCALENDAR