BEGIN:VCALENDAR
VERSION:2.0
PRODID:-//Fairview Elementary - ECPv6.15.14//NONSGML v1.0//EN
CALSCALE:GREGORIAN
METHOD:PUBLISH
X-ORIGINAL-URL:https://elementary.sd42.ca/fairview
X-WR-CALDESC:Events for Fairview Elementary
REFRESH-INTERVAL;VALUE=DURATION:PT1H
X-Robots-Tag:noindex
X-PUBLISHED-TTL:PT1H
BEGIN:VTIMEZONE
TZID:America/Vancouver
BEGIN:DAYLIGHT
TZOFFSETFROM:-0800
TZOFFSETTO:-0700
TZNAME:PDT
DTSTART:20180311T100000
END:DAYLIGHT
BEGIN:STANDARD
TZOFFSETFROM:-0700
TZOFFSETTO:-0800
TZNAME:PST
DTSTART:20181104T090000
END:STANDARD
BEGIN:DAYLIGHT
TZOFFSETFROM:-0800
TZOFFSETTO:-0700
TZNAME:PDT
DTSTART:20190310T100000
END:DAYLIGHT
BEGIN:STANDARD
TZOFFSETFROM:-0700
TZOFFSETTO:-0800
TZNAME:PST
DTSTART:20191103T090000
END:STANDARD
BEGIN:DAYLIGHT
TZOFFSETFROM:-0800
TZOFFSETTO:-0700
TZNAME:PDT
DTSTART:20200308T100000
END:DAYLIGHT
BEGIN:STANDARD
TZOFFSETFROM:-0700
TZOFFSETTO:-0800
TZNAME:PST
DTSTART:20201101T090000
END:STANDARD
END:VTIMEZONE
BEGIN:VEVENT
DTSTART;TZID=America/Vancouver:20190312T103000
DTEND;TZID=America/Vancouver:20190312T113000
DTSTAMP:20260421T191622
CREATED:20181219T190654Z
LAST-MODIFIED:20181219T190654Z
UID:947-1552386600-1552390200@elementary.sd42.ca
SUMMARY:Reading link--School Challenge
DESCRIPTION:
URL:https://elementary.sd42.ca/fairview/event/reading-link-school-challenge/
END:VEVENT
BEGIN:VEVENT
DTSTART;TZID=America/Vancouver:20190312T150000
DTEND;TZID=America/Vancouver:20190312T170000
DTSTAMP:20260421T191622
CREATED:20190121T203723Z
LAST-MODIFIED:20190121T203723Z
UID:978-1552402800-1552410000@elementary.sd42.ca
SUMMARY:Tier 1 Boys Basketball . FINALS . TBA
DESCRIPTION:
URL:https://elementary.sd42.ca/fairview/event/tier-1-boys-basketball-finals-tba/
END:VEVENT
BEGIN:VEVENT
DTSTART;TZID=America/Vancouver:20190312T190000
DTEND;TZID=America/Vancouver:20190312T203000
DTSTAMP:20260421T191622
CREATED:20181017T191457Z
LAST-MODIFIED:20181017T191457Z
UID:834-1552417200-1552422600@elementary.sd42.ca
SUMMARY:Fairview PAC meeting
DESCRIPTION:
URL:https://elementary.sd42.ca/fairview/event/fairview-pac-meeting-5/
END:VEVENT
END:VCALENDAR