BEGIN:VCALENDAR
VERSION:2.0
PRODID:-//Fairview Elementary - ECPv6.15.14//NONSGML v1.0//EN
CALSCALE:GREGORIAN
METHOD:PUBLISH
X-WR-CALNAME:Fairview Elementary
X-ORIGINAL-URL:https://elementary.sd42.ca/fairview
X-WR-CALDESC:Events for Fairview Elementary
REFRESH-INTERVAL;VALUE=DURATION:PT1H
X-Robots-Tag:noindex
X-PUBLISHED-TTL:PT1H
BEGIN:VTIMEZONE
TZID:America/Toronto
BEGIN:DAYLIGHT
TZOFFSETFROM:-0500
TZOFFSETTO:-0400
TZNAME:EDT
DTSTART:20160313T070000
END:DAYLIGHT
BEGIN:STANDARD
TZOFFSETFROM:-0400
TZOFFSETTO:-0500
TZNAME:EST
DTSTART:20161106T060000
END:STANDARD
BEGIN:DAYLIGHT
TZOFFSETFROM:-0500
TZOFFSETTO:-0400
TZNAME:EDT
DTSTART:20170312T070000
END:DAYLIGHT
BEGIN:STANDARD
TZOFFSETFROM:-0400
TZOFFSETTO:-0500
TZNAME:EST
DTSTART:20171105T060000
END:STANDARD
BEGIN:DAYLIGHT
TZOFFSETFROM:-0500
TZOFFSETTO:-0400
TZNAME:EDT
DTSTART:20180311T070000
END:DAYLIGHT
BEGIN:STANDARD
TZOFFSETFROM:-0400
TZOFFSETTO:-0500
TZNAME:EST
DTSTART:20181104T060000
END:STANDARD
END:VTIMEZONE
BEGIN:VEVENT
DTSTART;VALUE=DATE:20171120
DTEND;VALUE=DATE:20171121
DTSTAMP:20260421T100030
CREATED:20171101T194820Z
LAST-MODIFIED:20171101T194820Z
UID:378-1511136000-1511222399@elementary.sd42.ca
SUMMARY:The Great November Nose Blow Out--Draw #2
DESCRIPTION:One item of SPIRIT WEAR!!!
URL:https://elementary.sd42.ca/fairview/event/the-great-november-nose-blow-out-draw-2/
END:VEVENT
BEGIN:VEVENT
DTSTART;TZID=America/Toronto:20171120T150000
DTEND;TZID=America/Toronto:20171120T170000
DTSTAMP:20260421T100030
CREATED:20171002T185150Z
LAST-MODIFIED:20171002T203743Z
UID:345-1511190000-1511197200@elementary.sd42.ca
SUMMARY:Boys Volleyball--away game
DESCRIPTION:vs. Whonnock Elementary
URL:https://elementary.sd42.ca/fairview/event/boys-volleyball-away-game-3/
LOCATION:Whonnock Elementary\, 27471 112th Avenue\, Maple Ridge\, BC\, Canada
CATEGORIES:Sport Events
END:VEVENT
END:VCALENDAR