BEGIN:VCALENDAR
VERSION:2.0
PRODID:-//Fairview Elementary - ECPv6.15.14//NONSGML v1.0//EN
CALSCALE:GREGORIAN
METHOD:PUBLISH
X-ORIGINAL-URL:https://elementary.sd42.ca/fairview
X-WR-CALDESC:Events for Fairview Elementary
REFRESH-INTERVAL;VALUE=DURATION:PT1H
X-Robots-Tag:noindex
X-PUBLISHED-TTL:PT1H
BEGIN:VTIMEZONE
TZID:America/Toronto
BEGIN:DAYLIGHT
TZOFFSETFROM:-0500
TZOFFSETTO:-0400
TZNAME:EDT
DTSTART:20160313T070000
END:DAYLIGHT
BEGIN:STANDARD
TZOFFSETFROM:-0400
TZOFFSETTO:-0500
TZNAME:EST
DTSTART:20161106T060000
END:STANDARD
BEGIN:DAYLIGHT
TZOFFSETFROM:-0500
TZOFFSETTO:-0400
TZNAME:EDT
DTSTART:20170312T070000
END:DAYLIGHT
BEGIN:STANDARD
TZOFFSETFROM:-0400
TZOFFSETTO:-0500
TZNAME:EST
DTSTART:20171105T060000
END:STANDARD
BEGIN:DAYLIGHT
TZOFFSETFROM:-0500
TZOFFSETTO:-0400
TZNAME:EDT
DTSTART:20180311T070000
END:DAYLIGHT
BEGIN:STANDARD
TZOFFSETFROM:-0400
TZOFFSETTO:-0500
TZNAME:EST
DTSTART:20181104T060000
END:STANDARD
END:VTIMEZONE
BEGIN:VEVENT
DTSTART;TZID=America/Toronto:20171031T084500
DTEND;TZID=America/Toronto:20171031T093000
DTSTAMP:20260421T134900
CREATED:20170826T021404Z
LAST-MODIFIED:20170826T021404Z
UID:160-1509439500-1509442200@elementary.sd42.ca
SUMMARY:Student Star Assembly
DESCRIPTION:Student Star Assembly.
URL:https://elementary.sd42.ca/fairview/event/student-star-assembly-2/
CATEGORIES:District Events
END:VEVENT
BEGIN:VEVENT
DTSTART;TZID=America/Toronto:20171031T090000
DTEND;TZID=America/Toronto:20171031T093000
DTSTAMP:20260421T134900
CREATED:20171029T220316Z
LAST-MODIFIED:20171029T220316Z
UID:372-1509440400-1509442200@elementary.sd42.ca
SUMMARY:GHOSTS AND GOBLINS/PRINCESSES AND SUPERHEROS ON PARADE
DESCRIPTION:
URL:https://elementary.sd42.ca/fairview/event/ghosts-and-goblinsprincesses-and-superheros-on-parade/
END:VEVENT
END:VCALENDAR