BEGIN:VCALENDAR
VERSION:2.0
PRODID:-//Fairview Elementary - ECPv6.15.14//NONSGML v1.0//EN
CALSCALE:GREGORIAN
METHOD:PUBLISH
X-ORIGINAL-URL:https://elementary.sd42.ca/fairview
X-WR-CALDESC:Events for Fairview Elementary
REFRESH-INTERVAL;VALUE=DURATION:PT1H
X-Robots-Tag:noindex
X-PUBLISHED-TTL:PT1H
BEGIN:VTIMEZONE
TZID:America/Toronto
BEGIN:DAYLIGHT
TZOFFSETFROM:-0500
TZOFFSETTO:-0400
TZNAME:EDT
DTSTART:20160313T070000
END:DAYLIGHT
BEGIN:STANDARD
TZOFFSETFROM:-0400
TZOFFSETTO:-0500
TZNAME:EST
DTSTART:20161106T060000
END:STANDARD
BEGIN:DAYLIGHT
TZOFFSETFROM:-0500
TZOFFSETTO:-0400
TZNAME:EDT
DTSTART:20170312T070000
END:DAYLIGHT
BEGIN:STANDARD
TZOFFSETFROM:-0400
TZOFFSETTO:-0500
TZNAME:EST
DTSTART:20171105T060000
END:STANDARD
BEGIN:DAYLIGHT
TZOFFSETFROM:-0500
TZOFFSETTO:-0400
TZNAME:EDT
DTSTART:20180311T070000
END:DAYLIGHT
BEGIN:STANDARD
TZOFFSETFROM:-0400
TZOFFSETTO:-0500
TZNAME:EST
DTSTART:20181104T060000
END:STANDARD
END:VTIMEZONE
BEGIN:VEVENT
DTSTART;VALUE=DATE:20171026
DTEND;VALUE=DATE:20171027
DTSTAMP:20260421T101305
CREATED:20170826T021249Z
LAST-MODIFIED:20170922T184816Z
UID:158-1508976000-1509062399@elementary.sd42.ca
SUMMARY:Intermediate Bike Program
DESCRIPTION:Intermediate Bike Program.
URL:https://elementary.sd42.ca/fairview/event/intermediate-bike-program-5/
CATEGORIES:District Events
END:VEVENT
BEGIN:VEVENT
DTSTART;TZID=America/Toronto:20171026T150000
DTEND;TZID=America/Toronto:20171026T170000
DTSTAMP:20260421T101305
CREATED:20171002T184208Z
LAST-MODIFIED:20171002T184208Z
UID:330-1509030000-1509037200@elementary.sd42.ca
SUMMARY:Girls Volleyball--home game
DESCRIPTION:vs. Hope Lutheran
URL:https://elementary.sd42.ca/fairview/event/girls-volleyball-home-game/
CATEGORIES:Sport Events
END:VEVENT
END:VCALENDAR