BEGIN:VCALENDAR
VERSION:2.0
PRODID:-//École Eric Langton Elementary - ECPv6.15.14//NONSGML v1.0//EN
CALSCALE:GREGORIAN
METHOD:PUBLISH
X-WR-CALNAME:École Eric Langton Elementary
X-ORIGINAL-URL:https://elementary.sd42.ca/ericlangton
X-WR-CALDESC:Events for École Eric Langton Elementary
REFRESH-INTERVAL;VALUE=DURATION:PT1H
X-Robots-Tag:noindex
X-PUBLISHED-TTL:PT1H
BEGIN:VTIMEZONE
TZID:America/Vancouver
BEGIN:DAYLIGHT
TZOFFSETFROM:-0800
TZOFFSETTO:-0700
TZNAME:PDT
DTSTART:20220313T100000
END:DAYLIGHT
BEGIN:STANDARD
TZOFFSETFROM:-0700
TZOFFSETTO:-0800
TZNAME:PST
DTSTART:20221106T090000
END:STANDARD
BEGIN:DAYLIGHT
TZOFFSETFROM:-0800
TZOFFSETTO:-0700
TZNAME:PDT
DTSTART:20230312T100000
END:DAYLIGHT
BEGIN:STANDARD
TZOFFSETFROM:-0700
TZOFFSETTO:-0800
TZNAME:PST
DTSTART:20231105T090000
END:STANDARD
BEGIN:DAYLIGHT
TZOFFSETFROM:-0800
TZOFFSETTO:-0700
TZNAME:PDT
DTSTART:20240310T100000
END:DAYLIGHT
BEGIN:STANDARD
TZOFFSETFROM:-0700
TZOFFSETTO:-0800
TZNAME:PST
DTSTART:20241103T090000
END:STANDARD
BEGIN:DAYLIGHT
TZOFFSETFROM:-0800
TZOFFSETTO:-0700
TZNAME:PDT
DTSTART:20250309T100000
END:DAYLIGHT
BEGIN:STANDARD
TZOFFSETFROM:-0700
TZOFFSETTO:-0800
TZNAME:PST
DTSTART:20251102T090000
END:STANDARD
END:VTIMEZONE
BEGIN:VEVENT
DTSTART;VALUE=DATE:20240220
DTEND;VALUE=DATE:20240221
DTSTAMP:20260420T170627
CREATED:20231213T225327Z
LAST-MODIFIED:20231213T225327Z
UID:1876-1708387200-1708473599@elementary.sd42.ca
SUMMARY:Non-instructional day (school-based)
DESCRIPTION:School not in session.
URL:https://elementary.sd42.ca/ericlangton/event/non-instructional-day-school-based-14/
CATEGORIES:District Calendar
END:VEVENT
BEGIN:VEVENT
DTSTART;VALUE=DATE:20240219
DTEND;VALUE=DATE:20240220
DTSTAMP:20260420T170627
CREATED:20231213T225327Z
LAST-MODIFIED:20231213T225327Z
UID:1875-1708300800-1708387199@elementary.sd42.ca
SUMMARY:Family Day
DESCRIPTION:Statutory holiday. School not in session.
URL:https://elementary.sd42.ca/ericlangton/event/family-day-8/
CATEGORIES:District Calendar
END:VEVENT
BEGIN:VEVENT
DTSTART;VALUE=DATE:20240124
DTEND;VALUE=DATE:20240125
DTSTAMP:20260420T170627
CREATED:20231213T225326Z
LAST-MODIFIED:20231213T225326Z
UID:1874-1706054400-1706140799@elementary.sd42.ca
SUMMARY:Non-instructional day (district-based)
DESCRIPTION:School not in session.
URL:https://elementary.sd42.ca/ericlangton/event/non-instructional-day-district-based-9/
CATEGORIES:District Calendar
END:VEVENT
BEGIN:VEVENT
DTSTART;VALUE=DATE:20240108
DTEND;VALUE=DATE:20240109
DTSTAMP:20260420T170627
CREATED:20231213T225313Z
LAST-MODIFIED:20231213T225313Z
UID:1873-1704672000-1704758399@elementary.sd42.ca
SUMMARY:School reopens after winter break
DESCRIPTION:School reopens after break.
URL:https://elementary.sd42.ca/ericlangton/event/school-reopens-after-winter-break-8/
CATEGORIES:District Calendar
END:VEVENT
BEGIN:VEVENT
DTSTART;VALUE=DATE:20231225
DTEND;VALUE=DATE:20240106
DTSTAMP:20260420T170627
CREATED:20231213T225312Z
LAST-MODIFIED:20231213T225312Z
UID:1872-1703462400-1704499199@elementary.sd42.ca
SUMMARY:Winter break
DESCRIPTION:School closed for winter break.
URL:https://elementary.sd42.ca/ericlangton/event/winter-break-7/
CATEGORIES:District Calendar
END:VEVENT
BEGIN:VEVENT
DTSTART;VALUE=DATE:20231222
DTEND;VALUE=DATE:20231223
DTSTAMP:20260420T170627
CREATED:20231213T225312Z
LAST-MODIFIED:20231213T225312Z
UID:1871-1703203200-1703289599@elementary.sd42.ca
SUMMARY:Last day of school before winter break
DESCRIPTION:Last day of school before winter break.
URL:https://elementary.sd42.ca/ericlangton/event/last-day-of-school-before-winter-break-6/
CATEGORIES:District Calendar
END:VEVENT
BEGIN:VEVENT
DTSTART;VALUE=DATE:20231113
DTEND;VALUE=DATE:20231114
DTSTAMP:20260420T170627
CREATED:20231213T225312Z
LAST-MODIFIED:20231213T225312Z
UID:1870-1699833600-1699919999@elementary.sd42.ca
SUMMARY:Remembrance Day
DESCRIPTION:Statutory holiday. School not in session.
URL:https://elementary.sd42.ca/ericlangton/event/remembrance-day-8/
CATEGORIES:District Calendar
END:VEVENT
BEGIN:VEVENT
DTSTART;VALUE=DATE:20231110
DTEND;VALUE=DATE:20231111
DTSTAMP:20260420T170627
CREATED:20231213T225311Z
LAST-MODIFIED:20231213T225311Z
UID:1869-1699574400-1699660799@elementary.sd42.ca
SUMMARY:Non-instructional day (school-based)
DESCRIPTION:School not in session.
URL:https://elementary.sd42.ca/ericlangton/event/non-instructional-day-school-based-13/
CATEGORIES:District Calendar
END:VEVENT
END:VCALENDAR