BEGIN:VCALENDAR
VERSION:2.0
PRODID:-//Edith McDermott Elementary - ECPv6.15.14//NONSGML v1.0//EN
CALSCALE:GREGORIAN
METHOD:PUBLISH
X-ORIGINAL-URL:https://elementary.sd42.ca/edithmcdermott
X-WR-CALDESC:Events for Edith McDermott Elementary
REFRESH-INTERVAL;VALUE=DURATION:PT1H
X-Robots-Tag:noindex
X-PUBLISHED-TTL:PT1H
BEGIN:VTIMEZONE
TZID:America/Vancouver
BEGIN:DAYLIGHT
TZOFFSETFROM:-0800
TZOFFSETTO:-0700
TZNAME:PDT
DTSTART:20230312T100000
END:DAYLIGHT
BEGIN:STANDARD
TZOFFSETFROM:-0700
TZOFFSETTO:-0800
TZNAME:PST
DTSTART:20231105T090000
END:STANDARD
BEGIN:DAYLIGHT
TZOFFSETFROM:-0800
TZOFFSETTO:-0700
TZNAME:PDT
DTSTART:20240310T100000
END:DAYLIGHT
BEGIN:STANDARD
TZOFFSETFROM:-0700
TZOFFSETTO:-0800
TZNAME:PST
DTSTART:20241103T090000
END:STANDARD
BEGIN:DAYLIGHT
TZOFFSETFROM:-0800
TZOFFSETTO:-0700
TZNAME:PDT
DTSTART:20250309T100000
END:DAYLIGHT
BEGIN:STANDARD
TZOFFSETFROM:-0700
TZOFFSETTO:-0800
TZNAME:PST
DTSTART:20251102T090000
END:STANDARD
BEGIN:DAYLIGHT
TZOFFSETFROM:-0800
TZOFFSETTO:-0700
TZNAME:PDT
DTSTART:20260308T100000
END:DAYLIGHT
BEGIN:STANDARD
TZOFFSETFROM:-0700
TZOFFSETTO:-0800
TZNAME:PST
DTSTART:20261101T090000
END:STANDARD
END:VTIMEZONE
BEGIN:VEVENT
DTSTART;VALUE=DATE:20241223
DTEND;VALUE=DATE:20250104
DTSTAMP:20260421T151942
CREATED:20240702T211622Z
LAST-MODIFIED:20240702T211622Z
UID:2684-1734912000-1735948799@elementary.sd42.ca
SUMMARY:Winter break
DESCRIPTION:School closed for winter break.
URL:https://elementary.sd42.ca/edithmcdermott/event/winter-break-7/
CATEGORIES:district calendar
END:VEVENT
BEGIN:VEVENT
DTSTART;VALUE=DATE:20250106
DTEND;VALUE=DATE:20250107
DTSTAMP:20260421T151942
CREATED:20240702T211622Z
LAST-MODIFIED:20240702T211622Z
UID:2685-1736121600-1736207999@elementary.sd42.ca
SUMMARY:School reopens after winter break
DESCRIPTION:School reopens after break.
URL:https://elementary.sd42.ca/edithmcdermott/event/school-reopens-after-winter-break-8/
CATEGORIES:district calendar
END:VEVENT
BEGIN:VEVENT
DTSTART;VALUE=DATE:20250107
DTEND;VALUE=DATE:20250112
DTSTAMP:20260421T151942
CREATED:20241202T175018Z
LAST-MODIFIED:20241202T175040Z
UID:2776-1736208000-1736639999@elementary.sd42.ca
SUMMARY:Kindergarten Registration - SIBLING
DESCRIPTION:
URL:https://elementary.sd42.ca/edithmcdermott/event/kindergarten-registration-sibling/
END:VEVENT
BEGIN:VEVENT
DTSTART;VALUE=DATE:20250108
DTEND;VALUE=DATE:20250111
DTSTAMP:20260421T151942
CREATED:20241202T175117Z
LAST-MODIFIED:20241202T175117Z
UID:2778-1736294400-1736553599@elementary.sd42.ca
SUMMARY:Kindergarten Registration - ENVIRONMENTAL SCHOOL
DESCRIPTION:
URL:https://elementary.sd42.ca/edithmcdermott/event/kindergarten-registration-environmental-school/
END:VEVENT
BEGIN:VEVENT
DTSTART;VALUE=DATE:20250115
DTEND;VALUE=DATE:20250121
DTSTAMP:20260421T151942
CREATED:20241202T175753Z
LAST-MODIFIED:20241202T175753Z
UID:2789-1736899200-1737417599@elementary.sd42.ca
SUMMARY:Kindergarten Registration - CHOICE
DESCRIPTION:
URL:https://elementary.sd42.ca/edithmcdermott/event/kindergarten-registration-choice-2/
END:VEVENT
BEGIN:VEVENT
DTSTART;VALUE=DATE:20250128
DTEND;VALUE=DATE:20250129
DTSTAMP:20260421T151942
CREATED:20240702T211635Z
LAST-MODIFIED:20240702T211635Z
UID:2686-1738022400-1738108799@elementary.sd42.ca
SUMMARY:Non-instructional day (district-based)
DESCRIPTION:School not in session.
URL:https://elementary.sd42.ca/edithmcdermott/event/non-instructional-day-district-based-9/
CATEGORIES:district calendar
END:VEVENT
BEGIN:VEVENT
DTSTART;VALUE=DATE:20250129
DTEND;VALUE=DATE:20250205
DTSTAMP:20260421T151942
CREATED:20241202T175149Z
LAST-MODIFIED:20241202T175236Z
UID:2781-1738108800-1738713599@elementary.sd42.ca
SUMMARY:Kindergarten Registration - GENERAL
DESCRIPTION:
URL:https://elementary.sd42.ca/edithmcdermott/event/kindergarten-registration-choice/
END:VEVENT
END:VCALENDAR