BEGIN:VCALENDAR
VERSION:2.0
PRODID:-//Edith McDermott Elementary - ECPv6.15.14//NONSGML v1.0//EN
CALSCALE:GREGORIAN
METHOD:PUBLISH
X-WR-CALNAME:Edith McDermott Elementary
X-ORIGINAL-URL:https://elementary.sd42.ca/edithmcdermott
X-WR-CALDESC:Events for Edith McDermott Elementary
REFRESH-INTERVAL;VALUE=DURATION:PT1H
X-Robots-Tag:noindex
X-PUBLISHED-TTL:PT1H
BEGIN:VTIMEZONE
TZID:America/Vancouver
BEGIN:DAYLIGHT
TZOFFSETFROM:-0800
TZOFFSETTO:-0700
TZNAME:PDT
DTSTART:20180311T100000
END:DAYLIGHT
BEGIN:STANDARD
TZOFFSETFROM:-0700
TZOFFSETTO:-0800
TZNAME:PST
DTSTART:20181104T090000
END:STANDARD
BEGIN:DAYLIGHT
TZOFFSETFROM:-0800
TZOFFSETTO:-0700
TZNAME:PDT
DTSTART:20190310T100000
END:DAYLIGHT
BEGIN:STANDARD
TZOFFSETFROM:-0700
TZOFFSETTO:-0800
TZNAME:PST
DTSTART:20191103T090000
END:STANDARD
BEGIN:DAYLIGHT
TZOFFSETFROM:-0800
TZOFFSETTO:-0700
TZNAME:PDT
DTSTART:20200308T100000
END:DAYLIGHT
BEGIN:STANDARD
TZOFFSETFROM:-0700
TZOFFSETTO:-0800
TZNAME:PST
DTSTART:20201101T090000
END:STANDARD
END:VTIMEZONE
BEGIN:VEVENT
DTSTART;TZID=America/Vancouver:20191004T080000
DTEND;TZID=America/Vancouver:20191004T143000
DTSTAMP:20260420T214317
CREATED:20190919T202251Z
LAST-MODIFIED:20190919T202251Z
UID:800-1570176000-1570199400@elementary.sd42.ca
SUMMARY:Wacky Hair Day!
DESCRIPTION:Bad hair day?   No problem …. it’s Wacky Hair Day….so make it wild and join the fun!
URL:https://elementary.sd42.ca/edithmcdermott/event/wacky-hair-day/
END:VEVENT
BEGIN:VEVENT
DTSTART;TZID=America/Vancouver:20191007T130000
DTEND;TZID=America/Vancouver:20191007T140000
DTSTAMP:20260420T214317
CREATED:20191004T211837Z
LAST-MODIFIED:20191004T211837Z
UID:818-1570453200-1570456800@elementary.sd42.ca
SUMMARY:Oct. 7 - Literacy Camp Out - 1 to 2 p.m.!
DESCRIPTION:On Monday October 7 from 1:00 until 2:00 all our students will be attending Camp Magic… In our gymnasium.  We invite parents and guardians to join us as we gather after a long day at camp (school) to sit in our PJ’s and read quietly.  If you would like to join us please feel free all we ask is that you come in your PJs bring a book and a flashlight and be prepared to read.
URL:https://elementary.sd42.ca/edithmcdermott/event/oct-7-literacy-camp-out-1-to-2-p-m/
END:VEVENT
BEGIN:VEVENT
DTSTART;TZID=America/Vancouver:20191009T090000
DTEND;TZID=America/Vancouver:20191009T100000
DTSTAMP:20260420T214317
CREATED:20190827T162738Z
LAST-MODIFIED:20191007T164516Z
UID:762-1570611600-1570615200@elementary.sd42.ca
SUMMARY:Oct. 9 - Monthly Assembly 9:00 a.m. - Rainbow Hair!
DESCRIPTION:Mr. Millar will be getting Rainbow Hair!      Thanks to everyone for their generous donations to Terry Fox Cancer Research. \nParents are always welcome to attend the monthly assembly.
URL:https://elementary.sd42.ca/edithmcdermott/event/monthly-assembly-900-a-m-2/
END:VEVENT
BEGIN:VEVENT
DTSTART;VALUE=DATE:20191014
DTEND;VALUE=DATE:20191015
DTSTAMP:20260420T214317
CREATED:20180528T214115Z
LAST-MODIFIED:20180528T214115Z
UID:349-1571011200-1571097599@elementary.sd42.ca
SUMMARY:Thanksgiving Day
DESCRIPTION:Statutory holiday. School not in session.
URL:https://elementary.sd42.ca/edithmcdermott/event/thanksgiving-day-3/
CATEGORIES:district calendar
END:VEVENT
BEGIN:VEVENT
DTSTART;TZID=America/Vancouver:20191018T083000
DTEND;TZID=America/Vancouver:20191018T143000
DTSTAMP:20260420T214317
CREATED:20190508T201145Z
LAST-MODIFIED:20190508T201145Z
UID:656-1571387400-1571409000@elementary.sd42.ca
SUMMARY:Oct. 18 - Photo Retakes
DESCRIPTION:If your picture was not taken\, or if you had a bad hair day and need a retake\, complete the photo form and get a “re take”!
URL:https://elementary.sd42.ca/edithmcdermott/event/oct-18-photo-retakes/
END:VEVENT
BEGIN:VEVENT
DTSTART;TZID=America/Vancouver:20191024T183000
DTEND;TZID=America/Vancouver:20191024T203000
DTSTAMP:20260420T214317
CREATED:20191022T201043Z
LAST-MODIFIED:20191022T201043Z
UID:837-1571941800-1571949000@elementary.sd42.ca
SUMMARY:PAC Sponsored Halloween Dance!   6:30 to 8:30 p.m.
DESCRIPTION:Come join the fun!    The Halloween Dance Party PLUS\n24th Oct from 6:30-8:30 \nDancing! Games! Raffle! Food! \n\nYou can pre-purchase tickets for entry and food on Munchalunch.com \nNote that you don’t have to pre-purchase\, we will be taking cash at the event as well 🙂 \nCan’t come to the party? You can still buy raffle tickets for the prize items that speak to you! You do NOT have be to there to win! Check out the PAC Facebook for full details on the prizes \nNot in the PAC Facebook group yet? Go here to join! We always have great information being posted!\nhttps://www.facebook.com/groups/EdithMcDermott/ \n\n________________________\nscare you there! 🙂
URL:https://elementary.sd42.ca/edithmcdermott/event/pac-sponsored-halloween-dance-630-to-830-p-m/
END:VEVENT
BEGIN:VEVENT
DTSTART;VALUE=DATE:20191025
DTEND;VALUE=DATE:20191026
DTSTAMP:20260420T214317
CREATED:20180528T214116Z
LAST-MODIFIED:20180528T214116Z
UID:350-1571961600-1572047999@elementary.sd42.ca
SUMMARY:Non-instructional day (province-wide)
DESCRIPTION:School not in session.
URL:https://elementary.sd42.ca/edithmcdermott/event/non-instructional-day-province-wide-3/
CATEGORIES:district calendar
END:VEVENT
BEGIN:VEVENT
DTSTART;TZID=America/Vancouver:20191031T090000
DTEND;TZID=America/Vancouver:20191031T093000
DTSTAMP:20260420T214317
CREATED:20191030T200713Z
LAST-MODIFIED:20191030T200713Z
UID:842-1572512400-1572514200@elementary.sd42.ca
SUMMARY:Halloween Parade of Costumes!    9:00 a.m.
DESCRIPTION:We will be celebrating all the fun and fabulous Halloween Costumes with a parade of each class in the gym at 9:00 a.m. – Parents are welcome to come join the cheer! \nRemember … no weapons! \n  \n 
URL:https://elementary.sd42.ca/edithmcdermott/event/halloween-parade-of-costumes-900-a-m/
END:VEVENT
END:VCALENDAR