BEGIN:VCALENDAR
VERSION:2.0
PRODID:-//Edith McDermott Elementary - ECPv6.15.14//NONSGML v1.0//EN
CALSCALE:GREGORIAN
METHOD:PUBLISH
X-ORIGINAL-URL:https://elementary.sd42.ca/edithmcdermott
X-WR-CALDESC:Events for Edith McDermott Elementary
REFRESH-INTERVAL;VALUE=DURATION:PT1H
X-Robots-Tag:noindex
X-PUBLISHED-TTL:PT1H
BEGIN:VTIMEZONE
TZID:America/Vancouver
BEGIN:DAYLIGHT
TZOFFSETFROM:-0800
TZOFFSETTO:-0700
TZNAME:PDT
DTSTART:20170312T100000
END:DAYLIGHT
BEGIN:STANDARD
TZOFFSETFROM:-0700
TZOFFSETTO:-0800
TZNAME:PST
DTSTART:20171105T090000
END:STANDARD
BEGIN:DAYLIGHT
TZOFFSETFROM:-0800
TZOFFSETTO:-0700
TZNAME:PDT
DTSTART:20180311T100000
END:DAYLIGHT
BEGIN:STANDARD
TZOFFSETFROM:-0700
TZOFFSETTO:-0800
TZNAME:PST
DTSTART:20181104T090000
END:STANDARD
BEGIN:DAYLIGHT
TZOFFSETFROM:-0800
TZOFFSETTO:-0700
TZNAME:PDT
DTSTART:20190310T100000
END:DAYLIGHT
BEGIN:STANDARD
TZOFFSETFROM:-0700
TZOFFSETTO:-0800
TZNAME:PST
DTSTART:20191103T090000
END:STANDARD
END:VTIMEZONE
BEGIN:VEVENT
DTSTART;VALUE=DATE:20180904
DTEND;VALUE=DATE:20180905
DTSTAMP:20260421T210424
CREATED:20180526T002421Z
LAST-MODIFIED:20180827T164518Z
UID:317-1536019200-1536105599@elementary.sd42.ca
SUMMARY:School Opens!   8:30 a.m. to 11:00 a.m.
DESCRIPTION:Welcome back!     Tuesday\, September 4\, 8:30 a.m. to 11:00 a.m. \nWednesday to Friday – regular hours – 8:30 a.m. to 2:20 p.m. \n  \n  \n 
URL:https://elementary.sd42.ca/edithmcdermott/event/school-opens-following-summer-holidays/
CATEGORIES:district calendar
END:VEVENT
BEGIN:VEVENT
DTSTART;TZID=America/Vancouver:20180905T090000
DTEND;TZID=America/Vancouver:20180905T100000
DTSTAMP:20260421T210424
CREATED:20180831T145410Z
LAST-MODIFIED:20180831T145410Z
UID:424-1536138000-1536141600@elementary.sd42.ca
SUMMARY:2018-2019 Welcome Assembly - 9:00 a.m.
DESCRIPTION:Parents are always most welcome to join the fun at our monthly assemblies!
URL:https://elementary.sd42.ca/edithmcdermott/event/2018-2019-welcome-assembly-900-a-m/
END:VEVENT
BEGIN:VEVENT
DTSTART;TZID=America/Vancouver:20180918T180000
DTEND;TZID=America/Vancouver:20180918T190000
DTSTAMP:20260421T210424
CREATED:20180914T210427Z
LAST-MODIFIED:20180914T211137Z
UID:441-1537293600-1537297200@elementary.sd42.ca
SUMMARY:Sept. 18 - PAC Meeting - 6:00 p.m. to 7:00 p.m.
DESCRIPTION:Come to the PAC Meeting from 6 p.m. to 7 p.m. tonight!
URL:https://elementary.sd42.ca/edithmcdermott/event/sept-18-pac-meeting-600-p-m-to-700-p-m/
END:VEVENT
BEGIN:VEVENT
DTSTART;TZID=America/Vancouver:20180920T180000
DTEND;TZID=America/Vancouver:20180920T190000
DTSTAMP:20260421T210424
CREATED:20180914T211357Z
LAST-MODIFIED:20180914T211726Z
UID:443-1537466400-1537470000@elementary.sd42.ca
SUMMARY:Sept. 20 - Open House 6 p.m. to 7 p.m.
DESCRIPTION:Come check out the school and meet the staff!
URL:https://elementary.sd42.ca/edithmcdermott/event/sept-20-open-house-6-p-m-to-7-p-m/
END:VEVENT
BEGIN:VEVENT
DTSTART;TZID=America/Vancouver:20180921T191500
DTEND;TZID=America/Vancouver:20180921T210000
DTSTAMP:20260421T210424
CREATED:20180914T211832Z
LAST-MODIFIED:20180914T211832Z
UID:445-1537557300-1537563600@elementary.sd42.ca
SUMMARY:Sept. 21 - PAC Welcome Back Movie Night - 7:15 p.m.
DESCRIPTION:More details to follow!
URL:https://elementary.sd42.ca/edithmcdermott/event/sept-21-pac-welcome-back-movie-night-715-p-m/
END:VEVENT
BEGIN:VEVENT
DTSTART;VALUE=DATE:20180924
DTEND;VALUE=DATE:20180925
DTSTAMP:20260421T210424
CREATED:20180526T002422Z
LAST-MODIFIED:20180526T002422Z
UID:318-1537747200-1537833599@elementary.sd42.ca
SUMMARY:Non-instructional day (curriculum implementation)
DESCRIPTION:School not in session.
URL:https://elementary.sd42.ca/edithmcdermott/event/non-instructional-day-curriculum-implementation-3/
CATEGORIES:district calendar
END:VEVENT
BEGIN:VEVENT
DTSTART;TZID=America/Vancouver:20180927T130000
DTEND;TZID=America/Vancouver:20180927T140000
DTSTAMP:20260421T210424
CREATED:20180914T212229Z
LAST-MODIFIED:20180914T212229Z
UID:447-1538053200-1538056800@elementary.sd42.ca
SUMMARY:Terry Fox Run!
DESCRIPTION:The tradition continues … Terry Fox is still making a difference in the fight against cancer!
URL:https://elementary.sd42.ca/edithmcdermott/event/terry-fox-run-2/
END:VEVENT
BEGIN:VEVENT
DTSTART;TZID=America/Vancouver:20180928T080000
DTEND;TZID=America/Vancouver:20180928T170000
DTSTAMP:20260421T210424
CREATED:20180831T202305Z
LAST-MODIFIED:20180831T202305Z
UID:433-1538121600-1538154000@elementary.sd42.ca
SUMMARY:Individual Photo Day - Wear a Smile (but don't wear Green)
DESCRIPTION:Individual Photo Day.   Green clothing does not work against the photo back drop.
URL:https://elementary.sd42.ca/edithmcdermott/event/individual-photo-day-wear-a-smile-but-dont-wear-green/
END:VEVENT
END:VCALENDAR