BEGIN:VCALENDAR
VERSION:2.0
PRODID:-//Edith McDermott Elementary - ECPv6.15.14//NONSGML v1.0//EN
CALSCALE:GREGORIAN
METHOD:PUBLISH
X-WR-CALNAME:Edith McDermott Elementary
X-ORIGINAL-URL:https://elementary.sd42.ca/edithmcdermott
X-WR-CALDESC:Events for Edith McDermott Elementary
REFRESH-INTERVAL;VALUE=DURATION:PT1H
X-Robots-Tag:noindex
X-PUBLISHED-TTL:PT1H
BEGIN:VTIMEZONE
TZID:America/Toronto
BEGIN:DAYLIGHT
TZOFFSETFROM:-0500
TZOFFSETTO:-0400
TZNAME:EDT
DTSTART:20160313T070000
END:DAYLIGHT
BEGIN:STANDARD
TZOFFSETFROM:-0400
TZOFFSETTO:-0500
TZNAME:EST
DTSTART:20161106T060000
END:STANDARD
BEGIN:DAYLIGHT
TZOFFSETFROM:-0500
TZOFFSETTO:-0400
TZNAME:EDT
DTSTART:20170312T070000
END:DAYLIGHT
BEGIN:STANDARD
TZOFFSETFROM:-0400
TZOFFSETTO:-0500
TZNAME:EST
DTSTART:20171105T060000
END:STANDARD
BEGIN:DAYLIGHT
TZOFFSETFROM:-0500
TZOFFSETTO:-0400
TZNAME:EDT
DTSTART:20180311T070000
END:DAYLIGHT
BEGIN:STANDARD
TZOFFSETFROM:-0400
TZOFFSETTO:-0500
TZNAME:EST
DTSTART:20181104T060000
END:STANDARD
END:VTIMEZONE
BEGIN:VTIMEZONE
TZID:America/Vancouver
BEGIN:DAYLIGHT
TZOFFSETFROM:-0800
TZOFFSETTO:-0700
TZNAME:PDT
DTSTART:20160313T100000
END:DAYLIGHT
BEGIN:STANDARD
TZOFFSETFROM:-0700
TZOFFSETTO:-0800
TZNAME:PST
DTSTART:20161106T090000
END:STANDARD
BEGIN:DAYLIGHT
TZOFFSETFROM:-0800
TZOFFSETTO:-0700
TZNAME:PDT
DTSTART:20170312T100000
END:DAYLIGHT
BEGIN:STANDARD
TZOFFSETFROM:-0700
TZOFFSETTO:-0800
TZNAME:PST
DTSTART:20171105T090000
END:STANDARD
BEGIN:DAYLIGHT
TZOFFSETFROM:-0800
TZOFFSETTO:-0700
TZNAME:PDT
DTSTART:20180311T100000
END:DAYLIGHT
BEGIN:STANDARD
TZOFFSETFROM:-0700
TZOFFSETTO:-0800
TZNAME:PST
DTSTART:20181104T090000
END:STANDARD
BEGIN:DAYLIGHT
TZOFFSETFROM:-0800
TZOFFSETTO:-0700
TZNAME:PDT
DTSTART:20190310T100000
END:DAYLIGHT
BEGIN:STANDARD
TZOFFSETFROM:-0700
TZOFFSETTO:-0800
TZNAME:PST
DTSTART:20191103T090000
END:STANDARD
END:VTIMEZONE
BEGIN:VEVENT
DTSTART;TZID=America/Toronto:20171211T110000
DTEND;TZID=America/Toronto:20171211T120000
DTSTAMP:20260421T091427
CREATED:20170918T205024Z
LAST-MODIFIED:20170918T205024Z
UID:178-1512990000-1512993600@elementary.sd42.ca
SUMMARY:PAC meeting Today - 1 p.m.
DESCRIPTION:Come join the PAC meeting today in the library from 1 p.m. to 2 p.m.
URL:https://elementary.sd42.ca/edithmcdermott/event/pac-meeting-today-1-p-m/
END:VEVENT
BEGIN:VEVENT
DTSTART;TZID=America/Toronto:20171220T130000
DTEND;TZID=America/Toronto:20171220T140000
DTSTAMP:20260421T091427
CREATED:20171123T011523Z
LAST-MODIFIED:20171123T011523Z
UID:216-1513774800-1513778400@elementary.sd42.ca
SUMMARY:Christmas Concert  - Dec. 20 & Dec. 21
DESCRIPTION:The Christmas Concert has been scheduled for Wednesday\, December 20 and Thursday\, December 21.  Time is 1 p.m. on both days.   It is the same concert on both days – no tickets required – Parents\, Grandparents and Guardians are welcome to attend.  Students from Kindergarten to Grade 5 will be performing\, with the grade 6’s and grade 7’s providing video presentations and “commercial” breaks.
URL:https://elementary.sd42.ca/edithmcdermott/event/christmas-concert-dec-20-dec-21/
END:VEVENT
BEGIN:VEVENT
DTSTART;TZID=America/Toronto:20171221T130000
DTEND;TZID=America/Toronto:20171221T140000
DTSTAMP:20260421T091427
CREATED:20171123T011642Z
LAST-MODIFIED:20171123T011642Z
UID:219-1513861200-1513864800@elementary.sd42.ca
SUMMARY:Christmas Concert - Dec. 20 & Dec. 21
DESCRIPTION:The Christmas Concert has been scheduled for Wednesday\, December 20 and Thursday\, December 21.  Time is 1 p.m. on both days.   It is the same concert on both days – no tickets required – Parents\, Grandparents and Guardians are welcome to attend.  Students from Kindergarten to Grade 5 will be performing\, with the grade 6’s and grade 7’s providing video presentations and “commercial” breaks.
URL:https://elementary.sd42.ca/edithmcdermott/event/christmas-concert-dec-20-dec-21-2/
END:VEVENT
BEGIN:VEVENT
DTSTART;TZID=America/Toronto:20171222T103000
DTEND;TZID=America/Toronto:20171222T140000
DTSTAMP:20260421T091427
CREATED:20171129T015710Z
LAST-MODIFIED:20171129T015710Z
UID:221-1513938600-1513951200@elementary.sd42.ca
SUMMARY:Entrepreneur Fair - 10:30 a.m. to 2:00 p.m.
DESCRIPTION:On Friday\, December 22nd the grade 6/7s at Edith McDermott are having an Entrepreneur Fair in the school gym.  Students have been learning about business plans\, production\, marketing\, and social responsibility.   The Fair will be open from 10:30 am to 2:00 pm and you are invited to come view and shop for items made and marketed by the grade 6 and 7 students.   Item prices will range from 25 cents to $8.00 with most in the $1 to $2 range. All our young entrepreneurs are donating a portion of their profit to charity.  Please help us make this exciting event a success. \n 
URL:https://elementary.sd42.ca/edithmcdermott/event/entrepreneur-fair-1030-a-m-to-200-p-m/
END:VEVENT
BEGIN:VEVENT
DTSTART;VALUE=DATE:20171225
DTEND;VALUE=DATE:20180106
DTSTAMP:20260421T091427
CREATED:20170817T194743Z
LAST-MODIFIED:20170817T194743Z
UID:106-1514160000-1515196799@elementary.sd42.ca
SUMMARY:School closed for winter break
DESCRIPTION:School closed for winter break. School reopens Monday\, January 8\, 2018
URL:https://elementary.sd42.ca/edithmcdermott/event/school-closed-for-winter-break/
CATEGORIES:district calendar
END:VEVENT
END:VCALENDAR