BEGIN:VCALENDAR
VERSION:2.0
PRODID:-//Edith McDermott Elementary - ECPv6.15.14//NONSGML v1.0//EN
CALSCALE:GREGORIAN
METHOD:PUBLISH
X-WR-CALNAME:Edith McDermott Elementary
X-ORIGINAL-URL:https://elementary.sd42.ca/edithmcdermott
X-WR-CALDESC:Events for Edith McDermott Elementary
REFRESH-INTERVAL;VALUE=DURATION:PT1H
X-Robots-Tag:noindex
X-PUBLISHED-TTL:PT1H
BEGIN:VTIMEZONE
TZID:America/Vancouver
BEGIN:DAYLIGHT
TZOFFSETFROM:-0800
TZOFFSETTO:-0700
TZNAME:PDT
DTSTART:20200308T100000
END:DAYLIGHT
BEGIN:STANDARD
TZOFFSETFROM:-0700
TZOFFSETTO:-0800
TZNAME:PST
DTSTART:20201101T090000
END:STANDARD
BEGIN:DAYLIGHT
TZOFFSETFROM:-0800
TZOFFSETTO:-0700
TZNAME:PDT
DTSTART:20210314T100000
END:DAYLIGHT
BEGIN:STANDARD
TZOFFSETFROM:-0700
TZOFFSETTO:-0800
TZNAME:PST
DTSTART:20211107T090000
END:STANDARD
BEGIN:DAYLIGHT
TZOFFSETFROM:-0800
TZOFFSETTO:-0700
TZNAME:PDT
DTSTART:20220313T100000
END:DAYLIGHT
BEGIN:STANDARD
TZOFFSETFROM:-0700
TZOFFSETTO:-0800
TZNAME:PST
DTSTART:20221106T090000
END:STANDARD
END:VTIMEZONE
BEGIN:VEVENT
DTSTART;TZID=America/Vancouver:20210212T080000
DTEND;TZID=America/Vancouver:20210212T170000
DTSTAMP:20260421T080121
CREATED:20210121T191605Z
LAST-MODIFIED:20210121T191605Z
UID:1492-1613116800-1613149200@elementary.sd42.ca
SUMMARY:Pink & Red Day!  Earn team points ....
DESCRIPTION:Wear Pink.  Wear Red.   Wear Pink and Red!    Earn points for your team by joining the Pink / Red fun! \nGo Owls!  Go Ravens!  Go Eagles!  Go Hawks! \n  \n  \n 
URL:https://elementary.sd42.ca/edithmcdermott/event/pink-red-day-earn-team-points/
END:VEVENT
END:VCALENDAR