BEGIN:VCALENDAR
VERSION:2.0
PRODID:-//Edith McDermott Elementary - ECPv6.15.14//NONSGML v1.0//EN
CALSCALE:GREGORIAN
METHOD:PUBLISH
X-WR-CALNAME:Edith McDermott Elementary
X-ORIGINAL-URL:https://elementary.sd42.ca/edithmcdermott
X-WR-CALDESC:Events for Edith McDermott Elementary
REFRESH-INTERVAL;VALUE=DURATION:PT1H
X-Robots-Tag:noindex
X-PUBLISHED-TTL:PT1H
BEGIN:VTIMEZONE
TZID:America/Vancouver
BEGIN:DAYLIGHT
TZOFFSETFROM:-0800
TZOFFSETTO:-0700
TZNAME:PDT
DTSTART:20200308T100000
END:DAYLIGHT
BEGIN:STANDARD
TZOFFSETFROM:-0700
TZOFFSETTO:-0800
TZNAME:PST
DTSTART:20201101T090000
END:STANDARD
BEGIN:DAYLIGHT
TZOFFSETFROM:-0800
TZOFFSETTO:-0700
TZNAME:PDT
DTSTART:20210314T100000
END:DAYLIGHT
BEGIN:STANDARD
TZOFFSETFROM:-0700
TZOFFSETTO:-0800
TZNAME:PST
DTSTART:20211107T090000
END:STANDARD
BEGIN:DAYLIGHT
TZOFFSETFROM:-0800
TZOFFSETTO:-0700
TZNAME:PDT
DTSTART:20220313T100000
END:DAYLIGHT
BEGIN:STANDARD
TZOFFSETFROM:-0700
TZOFFSETTO:-0800
TZNAME:PST
DTSTART:20221106T090000
END:STANDARD
END:VTIMEZONE
BEGIN:VEVENT
DTSTART;TZID=America/Vancouver:20210203T080000
DTEND;TZID=America/Vancouver:20210210T170000
DTSTAMP:20260421T151339
CREATED:20201203T160942Z
LAST-MODIFIED:20201203T160942Z
UID:1416-1612339200-1612976400@elementary.sd42.ca
SUMMARY:February 3 - General Kindergarten Registration Opens @ Noon
DESCRIPTION:Is your child turning 5 this year?    If so\, it is time to register for September Kindergarten! \nVisit www.sd42.ca for all the details.
URL:https://elementary.sd42.ca/edithmcdermott/event/february-3-general-kindergarten-registration-opens-noon/
END:VEVENT
END:VCALENDAR