BEGIN:VCALENDAR
VERSION:2.0
PRODID:-//Davie Jones Elementary - ECPv6.15.14//NONSGML v1.0//EN
CALSCALE:GREGORIAN
METHOD:PUBLISH
X-WR-CALNAME:Davie Jones Elementary
X-ORIGINAL-URL:https://elementary.sd42.ca/daviejones
X-WR-CALDESC:Events for Davie Jones Elementary
REFRESH-INTERVAL;VALUE=DURATION:PT1H
X-Robots-Tag:noindex
X-PUBLISHED-TTL:PT1H
BEGIN:VTIMEZONE
TZID:America/Vancouver
BEGIN:DAYLIGHT
TZOFFSETFROM:-0800
TZOFFSETTO:-0700
TZNAME:PDT
DTSTART:20240310T100000
END:DAYLIGHT
BEGIN:STANDARD
TZOFFSETFROM:-0700
TZOFFSETTO:-0800
TZNAME:PST
DTSTART:20241103T090000
END:STANDARD
BEGIN:DAYLIGHT
TZOFFSETFROM:-0800
TZOFFSETTO:-0700
TZNAME:PDT
DTSTART:20250309T100000
END:DAYLIGHT
BEGIN:STANDARD
TZOFFSETFROM:-0700
TZOFFSETTO:-0800
TZNAME:PST
DTSTART:20251102T090000
END:STANDARD
BEGIN:DAYLIGHT
TZOFFSETFROM:-0800
TZOFFSETTO:-0700
TZNAME:PDT
DTSTART:20260308T100000
END:DAYLIGHT
BEGIN:STANDARD
TZOFFSETFROM:-0700
TZOFFSETTO:-0800
TZNAME:PST
DTSTART:20261101T090000
END:STANDARD
END:VTIMEZONE
BEGIN:VEVENT
DTSTART;VALUE=DATE:20250214
DTEND;VALUE=DATE:20250215
DTSTAMP:20260420T181859
CREATED:20240702T211216Z
LAST-MODIFIED:20240702T211216Z
UID:4371-1739491200-1739577599@elementary.sd42.ca
SUMMARY:Non-instructional day (school-based)
DESCRIPTION:School not in session.
URL:https://elementary.sd42.ca/daviejones/event/non-instructional-day-school-based-14/
CATEGORIES:District Calendar
END:VEVENT
BEGIN:VEVENT
DTSTART;TZID=America/Vancouver:20250214T080000
DTEND;TZID=America/Vancouver:20250214T080000
DTSTAMP:20260420T181859
CREATED:20240628T190204Z
LAST-MODIFIED:20240628T190204Z
UID:4307-1739520000-1739520000@elementary.sd42.ca
SUMMARY:Non-Instructional Day
DESCRIPTION:
URL:https://elementary.sd42.ca/daviejones/event/non-instructional-day-11/
END:VEVENT
BEGIN:VEVENT
DTSTART;VALUE=DATE:20250217
DTEND;VALUE=DATE:20250218
DTSTAMP:20260420T181859
CREATED:20240702T211216Z
LAST-MODIFIED:20240702T211216Z
UID:4372-1739750400-1739836799@elementary.sd42.ca
SUMMARY:Family Day
DESCRIPTION:Statutory holiday. School not in session.
URL:https://elementary.sd42.ca/daviejones/event/family-day-9/
CATEGORIES:District Calendar
END:VEVENT
BEGIN:VEVENT
DTSTART;TZID=America/Vancouver:20250217T080000
DTEND;TZID=America/Vancouver:20250217T080000
DTSTAMP:20260420T181859
CREATED:20240628T190242Z
LAST-MODIFIED:20240628T190242Z
UID:4309-1739779200-1739779200@elementary.sd42.ca
SUMMARY:Family Day
DESCRIPTION:No Classes
URL:https://elementary.sd42.ca/daviejones/event/family-day-8/
END:VEVENT
BEGIN:VEVENT
DTSTART;TZID=America/Vancouver:20250226T080000
DTEND;TZID=America/Vancouver:20250226T080000
DTSTAMP:20260420T181859
CREATED:20240628T190405Z
LAST-MODIFIED:20240628T190405Z
UID:4311-1740556800-1740556800@elementary.sd42.ca
SUMMARY:Pink Shirt Day
DESCRIPTION:
URL:https://elementary.sd42.ca/daviejones/event/pink-shirt-day/
END:VEVENT
END:VCALENDAR