BEGIN:VCALENDAR
VERSION:2.0
PRODID:-//Davie Jones Elementary - ECPv6.15.14//NONSGML v1.0//EN
CALSCALE:GREGORIAN
METHOD:PUBLISH
X-ORIGINAL-URL:https://elementary.sd42.ca/daviejones
X-WR-CALDESC:Events for Davie Jones Elementary
REFRESH-INTERVAL;VALUE=DURATION:PT1H
X-Robots-Tag:noindex
X-PUBLISHED-TTL:PT1H
BEGIN:VTIMEZONE
TZID:America/Vancouver
BEGIN:DAYLIGHT
TZOFFSETFROM:-0800
TZOFFSETTO:-0700
TZNAME:PDT
DTSTART:20230312T100000
END:DAYLIGHT
BEGIN:STANDARD
TZOFFSETFROM:-0700
TZOFFSETTO:-0800
TZNAME:PST
DTSTART:20231105T090000
END:STANDARD
BEGIN:DAYLIGHT
TZOFFSETFROM:-0800
TZOFFSETTO:-0700
TZNAME:PDT
DTSTART:20240310T100000
END:DAYLIGHT
BEGIN:STANDARD
TZOFFSETFROM:-0700
TZOFFSETTO:-0800
TZNAME:PST
DTSTART:20241103T090000
END:STANDARD
BEGIN:DAYLIGHT
TZOFFSETFROM:-0800
TZOFFSETTO:-0700
TZNAME:PDT
DTSTART:20250309T100000
END:DAYLIGHT
BEGIN:STANDARD
TZOFFSETFROM:-0700
TZOFFSETTO:-0800
TZNAME:PST
DTSTART:20251102T090000
END:STANDARD
END:VTIMEZONE
BEGIN:VEVENT
DTSTART;VALUE=DATE:20240903
DTEND;VALUE=DATE:20240904
DTSTAMP:20260420T040344
CREATED:20240702T211205Z
LAST-MODIFIED:20240702T211205Z
UID:4360-1725321600-1725407999@elementary.sd42.ca
SUMMARY:School opens following summer holidays
DESCRIPTION:School opens following summer holidays.
URL:https://elementary.sd42.ca/daviejones/event/school-opens-following-summer-holidays-7/
CATEGORIES:District Calendar
END:VEVENT
BEGIN:VEVENT
DTSTART;TZID=America/Vancouver:20240903T123000
DTEND;TZID=America/Vancouver:20240903T142000
DTSTAMP:20260420T040344
CREATED:20240628T182052Z
LAST-MODIFIED:20240628T195554Z
UID:4236-1725366600-1725373200@elementary.sd42.ca
SUMMARY:First Day of School-12:30 p.m. start
DESCRIPTION:
URL:https://elementary.sd42.ca/daviejones/event/first-day-of-school-1230-start/
END:VEVENT
BEGIN:VEVENT
DTSTART;TZID=America/Vancouver:20240910T080000
DTEND;TZID=America/Vancouver:20240910T080000
DTSTAMP:20260420T040344
CREATED:20240628T182302Z
LAST-MODIFIED:20240628T182302Z
UID:4241-1725955200-1725955200@elementary.sd42.ca
SUMMARY:Breakfast Club starts 8:00 a.m.
DESCRIPTION:
URL:https://elementary.sd42.ca/daviejones/event/breakfast-club-starts-800-a-m/
END:VEVENT
BEGIN:VEVENT
DTSTART;TZID=America/Vancouver:20240910T080000
DTEND;TZID=America/Vancouver:20240910T080000
DTSTAMP:20260420T040344
CREATED:20240628T182352Z
LAST-MODIFIED:20240628T182352Z
UID:4243-1725955200-1725955200@elementary.sd42.ca
SUMMARY:Open Gym starts - 8:00 a.m.
DESCRIPTION:
URL:https://elementary.sd42.ca/daviejones/event/open-gym-starts-800-a-m/
END:VEVENT
BEGIN:VEVENT
DTSTART;TZID=America/Vancouver:20240913T120000
DTEND;TZID=America/Vancouver:20240913T120000
DTSTAMP:20260420T040344
CREATED:20240628T182443Z
LAST-MODIFIED:20240628T182443Z
UID:4245-1726228800-1726228800@elementary.sd42.ca
SUMMARY:Terry Fox Shirt Orders Due
DESCRIPTION:
URL:https://elementary.sd42.ca/daviejones/event/terry-fox-shirt-orders-due/
END:VEVENT
BEGIN:VEVENT
DTSTART;TZID=America/Vancouver:20240920T080000
DTEND;TZID=America/Vancouver:20240920T080000
DTSTAMP:20260420T040344
CREATED:20240628T182639Z
LAST-MODIFIED:20240628T182639Z
UID:4248-1726819200-1726819200@elementary.sd42.ca
SUMMARY:Photo Day
DESCRIPTION:
URL:https://elementary.sd42.ca/daviejones/event/photo-day/
END:VEVENT
BEGIN:VEVENT
DTSTART;TZID=America/Vancouver:20240927T080000
DTEND;TZID=America/Vancouver:20240927T080000
DTSTAMP:20260420T040344
CREATED:20240628T182708Z
LAST-MODIFIED:20240628T182708Z
UID:4250-1727424000-1727424000@elementary.sd42.ca
SUMMARY:Orange Shirt Day
DESCRIPTION:
URL:https://elementary.sd42.ca/daviejones/event/orange-shirt-day/
END:VEVENT
BEGIN:VEVENT
DTSTART;VALUE=DATE:20240930
DTEND;VALUE=DATE:20241001
DTSTAMP:20260420T040344
CREATED:20240702T211205Z
LAST-MODIFIED:20240702T211205Z
UID:4361-1727654400-1727740799@elementary.sd42.ca
SUMMARY:National Day for Truth and Reconciliation
DESCRIPTION:Statutory holiday. School not in session.
URL:https://elementary.sd42.ca/daviejones/event/national-day-for-truth-and-reconciliation-4/
CATEGORIES:District Calendar
END:VEVENT
BEGIN:VEVENT
DTSTART;TZID=America/Vancouver:20240930T080000
DTEND;TZID=America/Vancouver:20240930T080000
DTSTAMP:20260420T040344
CREATED:20240628T182801Z
LAST-MODIFIED:20240628T182801Z
UID:4252-1727683200-1727683200@elementary.sd42.ca
SUMMARY:National Day of Truth and Reconciliation - Stat Holiday
DESCRIPTION:No Classes
URL:https://elementary.sd42.ca/daviejones/event/national-day-of-truth-and-reconciliation-stat-holiday/
END:VEVENT
END:VCALENDAR