BEGIN:VCALENDAR
VERSION:2.0
PRODID:-//Davie Jones Elementary - ECPv6.15.14//NONSGML v1.0//EN
CALSCALE:GREGORIAN
METHOD:PUBLISH
X-WR-CALNAME:Davie Jones Elementary
X-ORIGINAL-URL:https://elementary.sd42.ca/daviejones
X-WR-CALDESC:Events for Davie Jones Elementary
REFRESH-INTERVAL;VALUE=DURATION:PT1H
X-Robots-Tag:noindex
X-PUBLISHED-TTL:PT1H
BEGIN:VTIMEZONE
TZID:America/Vancouver
BEGIN:DAYLIGHT
TZOFFSETFROM:-0800
TZOFFSETTO:-0700
TZNAME:PDT
DTSTART:20170312T100000
END:DAYLIGHT
BEGIN:STANDARD
TZOFFSETFROM:-0700
TZOFFSETTO:-0800
TZNAME:PST
DTSTART:20171105T090000
END:STANDARD
BEGIN:DAYLIGHT
TZOFFSETFROM:-0800
TZOFFSETTO:-0700
TZNAME:PDT
DTSTART:20180311T100000
END:DAYLIGHT
BEGIN:STANDARD
TZOFFSETFROM:-0700
TZOFFSETTO:-0800
TZNAME:PST
DTSTART:20181104T090000
END:STANDARD
BEGIN:DAYLIGHT
TZOFFSETFROM:-0800
TZOFFSETTO:-0700
TZNAME:PDT
DTSTART:20190310T100000
END:DAYLIGHT
BEGIN:STANDARD
TZOFFSETFROM:-0700
TZOFFSETTO:-0800
TZNAME:PST
DTSTART:20191103T090000
END:STANDARD
BEGIN:DAYLIGHT
TZOFFSETFROM:-0800
TZOFFSETTO:-0700
TZNAME:PDT
DTSTART:20200308T100000
END:DAYLIGHT
BEGIN:STANDARD
TZOFFSETFROM:-0700
TZOFFSETTO:-0800
TZNAME:PST
DTSTART:20201101T090000
END:STANDARD
END:VTIMEZONE
BEGIN:VTIMEZONE
TZID:America/Toronto
BEGIN:DAYLIGHT
TZOFFSETFROM:-0500
TZOFFSETTO:-0400
TZNAME:EDT
DTSTART:20170312T070000
END:DAYLIGHT
BEGIN:STANDARD
TZOFFSETFROM:-0400
TZOFFSETTO:-0500
TZNAME:EST
DTSTART:20171105T060000
END:STANDARD
BEGIN:DAYLIGHT
TZOFFSETFROM:-0500
TZOFFSETTO:-0400
TZNAME:EDT
DTSTART:20180311T070000
END:DAYLIGHT
BEGIN:STANDARD
TZOFFSETFROM:-0400
TZOFFSETTO:-0500
TZNAME:EST
DTSTART:20181104T060000
END:STANDARD
BEGIN:DAYLIGHT
TZOFFSETFROM:-0500
TZOFFSETTO:-0400
TZNAME:EDT
DTSTART:20190310T070000
END:DAYLIGHT
BEGIN:STANDARD
TZOFFSETFROM:-0400
TZOFFSETTO:-0500
TZNAME:EST
DTSTART:20191103T060000
END:STANDARD
BEGIN:DAYLIGHT
TZOFFSETFROM:-0500
TZOFFSETTO:-0400
TZNAME:EDT
DTSTART:20200308T070000
END:DAYLIGHT
BEGIN:STANDARD
TZOFFSETFROM:-0400
TZOFFSETTO:-0500
TZNAME:EST
DTSTART:20201101T060000
END:STANDARD
END:VTIMEZONE
BEGIN:VEVENT
DTSTART;VALUE=DATE:20191111
DTEND;VALUE=DATE:20191112
DTSTAMP:20260425T212356
CREATED:20180528T213827Z
LAST-MODIFIED:20180528T213827Z
UID:1130-1573430400-1573516799@elementary.sd42.ca
SUMMARY:Remembrance Day
DESCRIPTION:Statutory holiday. School not in session.
URL:https://elementary.sd42.ca/daviejones/event/remembrance-day-2/
CATEGORIES:District Calendar
END:VEVENT
BEGIN:VEVENT
DTSTART;VALUE=DATE:20191108
DTEND;VALUE=DATE:20191109
DTSTAMP:20260425T212356
CREATED:20180528T213824Z
LAST-MODIFIED:20180528T213824Z
UID:1129-1573171200-1573257599@elementary.sd42.ca
SUMMARY:Non-instructional day
DESCRIPTION:School not in session.
URL:https://elementary.sd42.ca/daviejones/event/non-instructional-day-3/
CATEGORIES:District Calendar
END:VEVENT
BEGIN:VEVENT
DTSTART;VALUE=DATE:20191025
DTEND;VALUE=DATE:20191026
DTSTAMP:20260425T212356
CREATED:20180528T213823Z
LAST-MODIFIED:20180528T213823Z
UID:1128-1571961600-1572047999@elementary.sd42.ca
SUMMARY:Non-instructional day (province-wide)
DESCRIPTION:School not in session.
URL:https://elementary.sd42.ca/daviejones/event/non-instructional-day-province-wide-3/
CATEGORIES:District Calendar
END:VEVENT
BEGIN:VEVENT
DTSTART;VALUE=DATE:20191014
DTEND;VALUE=DATE:20191015
DTSTAMP:20260425T212356
CREATED:20180528T213822Z
LAST-MODIFIED:20180528T213822Z
UID:1127-1571011200-1571097599@elementary.sd42.ca
SUMMARY:Thanksgiving Day
DESCRIPTION:Statutory holiday. School not in session.
URL:https://elementary.sd42.ca/daviejones/event/thanksgiving-day-3/
CATEGORIES:District Calendar
END:VEVENT
BEGIN:VEVENT
DTSTART;VALUE=DATE:20190923
DTEND;VALUE=DATE:20190924
DTSTAMP:20260425T212356
CREATED:20180528T213820Z
LAST-MODIFIED:20180528T213820Z
UID:1126-1569196800-1569283199@elementary.sd42.ca
SUMMARY:Non-instructional day
DESCRIPTION:School not in session.
URL:https://elementary.sd42.ca/daviejones/event/non-instructional-day-2/
CATEGORIES:District Calendar
END:VEVENT
BEGIN:VEVENT
DTSTART;VALUE=DATE:20190903
DTEND;VALUE=DATE:20190904
DTSTAMP:20260425T212356
CREATED:20180528T213819Z
LAST-MODIFIED:20180528T213819Z
UID:1125-1567468800-1567555199@elementary.sd42.ca
SUMMARY:School opens following summer holidays
DESCRIPTION:School opens following summer holidays.
URL:https://elementary.sd42.ca/daviejones/event/school-opens-following-summer-holidays-2/
CATEGORIES:District Calendar
END:VEVENT
BEGIN:VEVENT
DTSTART;VALUE=DATE:20190628
DTEND;VALUE=DATE:20190629
DTSTAMP:20260425T212356
CREATED:20180526T001656Z
LAST-MODIFIED:20180528T200241Z
UID:1117-1561680000-1561766399@elementary.sd42.ca
SUMMARY:School closes for summer holidays
DESCRIPTION:School closes for summer holidays.
URL:https://elementary.sd42.ca/daviejones/event/school-closes-for-summer-holidays/
CATEGORIES:District Calendar
END:VEVENT
BEGIN:VEVENT
DTSTART;VALUE=DATE:20190627
DTEND;VALUE=DATE:20190628
DTSTAMP:20260425T212356
CREATED:20180526T001655Z
LAST-MODIFIED:20180526T001655Z
UID:1116-1561593600-1561679999@elementary.sd42.ca
SUMMARY:Year-end administrative day
DESCRIPTION:Year-end administrative day.
URL:https://elementary.sd42.ca/daviejones/event/year-end-administrative-day-3/
CATEGORIES:District Calendar
END:VEVENT
BEGIN:VEVENT
DTSTART;VALUE=DATE:20190626
DTEND;VALUE=DATE:20190627
DTSTAMP:20260425T212356
CREATED:20180526T001654Z
LAST-MODIFIED:20180526T001654Z
UID:1115-1561507200-1561593599@elementary.sd42.ca
SUMMARY:Last day for students
DESCRIPTION:Last day for students before summer break.
URL:https://elementary.sd42.ca/daviejones/event/last-day-for-students-3/
CATEGORIES:District Calendar
END:VEVENT
BEGIN:VEVENT
DTSTART;VALUE=DATE:20190521
DTEND;VALUE=DATE:20190522
DTSTAMP:20260425T212356
CREATED:20180526T001653Z
LAST-MODIFIED:20180526T001653Z
UID:1114-1558396800-1558483199@elementary.sd42.ca
SUMMARY:Non-instructional day (school-based)
DESCRIPTION:Statutory holiday. School not in session.
URL:https://elementary.sd42.ca/daviejones/event/non-instructional-day-school-based-4/
CATEGORIES:District Calendar
END:VEVENT
BEGIN:VEVENT
DTSTART;VALUE=DATE:20190520
DTEND;VALUE=DATE:20190521
DTSTAMP:20260425T212356
CREATED:20180526T001652Z
LAST-MODIFIED:20180526T001652Z
UID:1113-1558310400-1558396799@elementary.sd42.ca
SUMMARY:Victoria Day
DESCRIPTION:Statutory holiday. School not in session.
URL:https://elementary.sd42.ca/daviejones/event/victoria-day-3/
CATEGORIES:District Calendar
END:VEVENT
BEGIN:VEVENT
DTSTART;VALUE=DATE:20190429
DTEND;VALUE=DATE:20190430
DTSTAMP:20260425T212356
CREATED:20180526T001649Z
LAST-MODIFIED:20180526T001649Z
UID:1112-1556496000-1556582399@elementary.sd42.ca
SUMMARY:Non-instructional day (district)
DESCRIPTION:School not in session.
URL:https://elementary.sd42.ca/daviejones/event/non-instructional-day-district-4/
CATEGORIES:District Calendar
END:VEVENT
BEGIN:VEVENT
DTSTART;VALUE=DATE:20190422
DTEND;VALUE=DATE:20190423
DTSTAMP:20260425T212356
CREATED:20180526T001648Z
LAST-MODIFIED:20180526T001648Z
UID:1111-1555891200-1555977599@elementary.sd42.ca
SUMMARY:Easter Monday
DESCRIPTION:Statutory holiday. School not in session.
URL:https://elementary.sd42.ca/daviejones/event/easter-monday-3/
CATEGORIES:District Calendar
END:VEVENT
BEGIN:VEVENT
DTSTART;VALUE=DATE:20190419
DTEND;VALUE=DATE:20190420
DTSTAMP:20260425T212356
CREATED:20180526T001647Z
LAST-MODIFIED:20180526T001647Z
UID:1110-1555632000-1555718399@elementary.sd42.ca
SUMMARY:Good Friday
DESCRIPTION:Statutory holiday. School not in session.
URL:https://elementary.sd42.ca/daviejones/event/good-friday-3/
CATEGORIES:District Calendar
END:VEVENT
BEGIN:VEVENT
DTSTART;VALUE=DATE:20190401
DTEND;VALUE=DATE:20190402
DTSTAMP:20260425T212356
CREATED:20180526T001646Z
LAST-MODIFIED:20180526T001646Z
UID:1109-1554076800-1554163199@elementary.sd42.ca
SUMMARY:School reopens after break
DESCRIPTION:School reopens after break.
URL:https://elementary.sd42.ca/daviejones/event/school-reopens-after-break/
CATEGORIES:District Calendar
END:VEVENT
BEGIN:VEVENT
DTSTART;VALUE=DATE:20190325
DTEND;VALUE=DATE:20190330
DTSTAMP:20260425T212356
CREATED:20180526T001645Z
LAST-MODIFIED:20180526T001645Z
UID:1108-1553472000-1553903999@elementary.sd42.ca
SUMMARY:School not in session
DESCRIPTION:School not in session.
URL:https://elementary.sd42.ca/daviejones/event/school-not-in-session-5/
CATEGORIES:District Calendar
END:VEVENT
BEGIN:VEVENT
DTSTART;VALUE=DATE:20190318
DTEND;VALUE=DATE:20190323
DTSTAMP:20260425T212356
CREATED:20180526T001642Z
LAST-MODIFIED:20180526T001642Z
UID:1107-1552867200-1553299199@elementary.sd42.ca
SUMMARY:Spring break
DESCRIPTION:School closed for spring break.
URL:https://elementary.sd42.ca/daviejones/event/spring-break-3/
CATEGORIES:District Calendar
END:VEVENT
BEGIN:VEVENT
DTSTART;VALUE=DATE:20190315
DTEND;VALUE=DATE:20190316
DTSTAMP:20260425T212356
CREATED:20180526T001641Z
LAST-MODIFIED:20180528T200307Z
UID:1106-1552608000-1552694399@elementary.sd42.ca
SUMMARY:Last day of school before spring break
DESCRIPTION:Last day of school before spring break.
URL:https://elementary.sd42.ca/daviejones/event/school-closes-for-spring-break/
CATEGORIES:District Calendar
END:VEVENT
BEGIN:VEVENT
DTSTART;VALUE=DATE:20190218
DTEND;VALUE=DATE:20190219
DTSTAMP:20260425T212356
CREATED:20180526T001639Z
LAST-MODIFIED:20180526T001639Z
UID:1105-1550448000-1550534399@elementary.sd42.ca
SUMMARY:Family Day
DESCRIPTION:Statutory holiday. School not in session.
URL:https://elementary.sd42.ca/daviejones/event/family-day-3/
CATEGORIES:District Calendar
END:VEVENT
BEGIN:VEVENT
DTSTART;VALUE=DATE:20190215
DTEND;VALUE=DATE:20190216
DTSTAMP:20260425T212356
CREATED:20180526T001638Z
LAST-MODIFIED:20180526T001638Z
UID:1104-1550188800-1550275199@elementary.sd42.ca
SUMMARY:School not in session
DESCRIPTION:School not in session.
URL:https://elementary.sd42.ca/daviejones/event/school-not-in-session-4/
CATEGORIES:District Calendar
END:VEVENT
BEGIN:VEVENT
DTSTART;VALUE=DATE:20190214
DTEND;VALUE=DATE:20190215
DTSTAMP:20260425T212356
CREATED:20180526T001637Z
LAST-MODIFIED:20180526T001637Z
UID:1103-1550102400-1550188799@elementary.sd42.ca
SUMMARY:Non-instructional day (school-based)
DESCRIPTION:School not in session.
URL:https://elementary.sd42.ca/daviejones/event/non-instructional-day-school-based-3/
CATEGORIES:District Calendar
END:VEVENT
BEGIN:VEVENT
DTSTART;VALUE=DATE:20190125
DTEND;VALUE=DATE:20190126
DTSTAMP:20260425T212356
CREATED:20180526T001635Z
LAST-MODIFIED:20180526T001635Z
UID:1102-1548374400-1548460799@elementary.sd42.ca
SUMMARY:Non-instructional day (curriculum implementation)
DESCRIPTION:School not in session.
URL:https://elementary.sd42.ca/daviejones/event/non-instructional-day-curriculum-implementation-4/
CATEGORIES:District Calendar
END:VEVENT
BEGIN:VEVENT
DTSTART;VALUE=DATE:20190107
DTEND;VALUE=DATE:20190108
DTSTAMP:20260425T212356
CREATED:20180526T001634Z
LAST-MODIFIED:20180526T001634Z
UID:1101-1546819200-1546905599@elementary.sd42.ca
SUMMARY:School reopens after winter break
DESCRIPTION:School reopens after winter break.
URL:https://elementary.sd42.ca/daviejones/event/school-reopens-after-winter-break/
CATEGORIES:District Calendar
END:VEVENT
BEGIN:VEVENT
DTSTART;VALUE=DATE:20181224
DTEND;VALUE=DATE:20190105
DTSTAMP:20260425T212356
CREATED:20180526T001632Z
LAST-MODIFIED:20180526T001632Z
UID:1100-1545609600-1546646399@elementary.sd42.ca
SUMMARY:Winter break
DESCRIPTION:School closed for winter break.
URL:https://elementary.sd42.ca/daviejones/event/winter-break/
CATEGORIES:District Calendar
END:VEVENT
BEGIN:VEVENT
DTSTART;VALUE=DATE:20181221
DTEND;VALUE=DATE:20181222
DTSTAMP:20260425T212356
CREATED:20180526T001631Z
LAST-MODIFIED:20180528T200328Z
UID:1099-1545350400-1545436799@elementary.sd42.ca
SUMMARY:Last day of school before winter break
DESCRIPTION:Last day of school before winter break.
URL:https://elementary.sd42.ca/daviejones/event/school-closes-for-winter-break/
CATEGORIES:District Calendar
END:VEVENT
BEGIN:VEVENT
DTSTART;VALUE=DATE:20181112
DTEND;VALUE=DATE:20181113
DTSTAMP:20260425T212356
CREATED:20180526T001630Z
LAST-MODIFIED:20180526T001630Z
UID:1098-1541980800-1542067199@elementary.sd42.ca
SUMMARY:Remembrance Day
DESCRIPTION:Statutory holiday. School not in session.
URL:https://elementary.sd42.ca/daviejones/event/remembrance-day-4/
CATEGORIES:District Calendar
END:VEVENT
BEGIN:VEVENT
DTSTART;VALUE=DATE:20181109
DTEND;VALUE=DATE:20181110
DTSTAMP:20260425T212356
CREATED:20180526T001626Z
LAST-MODIFIED:20180526T001626Z
UID:1097-1541721600-1541807999@elementary.sd42.ca
SUMMARY:Non-instructional day (district)
DESCRIPTION:School not in session.
URL:https://elementary.sd42.ca/daviejones/event/non-instructional-day-district-3/
CATEGORIES:District Calendar
END:VEVENT
BEGIN:VEVENT
DTSTART;VALUE=DATE:20181019
DTEND;VALUE=DATE:20181020
DTSTAMP:20260425T212356
CREATED:20180526T001624Z
LAST-MODIFIED:20180526T001624Z
UID:1096-1539907200-1539993599@elementary.sd42.ca
SUMMARY:Non-instructional day (province-wide)
DESCRIPTION:School not in session.
URL:https://elementary.sd42.ca/daviejones/event/non-instructional-day-province-wide-2/
CATEGORIES:District Calendar
END:VEVENT
BEGIN:VEVENT
DTSTART;VALUE=DATE:20181008
DTEND;VALUE=DATE:20181009
DTSTAMP:20260425T212356
CREATED:20180526T001623Z
LAST-MODIFIED:20180526T001623Z
UID:1095-1538956800-1539043199@elementary.sd42.ca
SUMMARY:Thanksgiving Day
DESCRIPTION:Statutory holiday. School not in session.
URL:https://elementary.sd42.ca/daviejones/event/thanksgiving-day-2/
CATEGORIES:District Calendar
END:VEVENT
BEGIN:VEVENT
DTSTART;VALUE=DATE:20180924
DTEND;VALUE=DATE:20180925
DTSTAMP:20260425T212356
CREATED:20180526T001622Z
LAST-MODIFIED:20180526T001622Z
UID:1094-1537747200-1537833599@elementary.sd42.ca
SUMMARY:Non-instructional day (curriculum implementation)
DESCRIPTION:School not in session.
URL:https://elementary.sd42.ca/daviejones/event/non-instructional-day-curriculum-implementation-3/
CATEGORIES:District Calendar
END:VEVENT
END:VCALENDAR