BEGIN:VCALENDAR
VERSION:2.0
PRODID:-//Davie Jones Elementary - ECPv6.15.14//NONSGML v1.0//EN
CALSCALE:GREGORIAN
METHOD:PUBLISH
X-WR-CALNAME:Davie Jones Elementary
X-ORIGINAL-URL:https://elementary.sd42.ca/daviejones
X-WR-CALDESC:Events for Davie Jones Elementary
REFRESH-INTERVAL;VALUE=DURATION:PT1H
X-Robots-Tag:noindex
X-PUBLISHED-TTL:PT1H
BEGIN:VTIMEZONE
TZID:America/Vancouver
BEGIN:DAYLIGHT
TZOFFSETFROM:-0800
TZOFFSETTO:-0700
TZNAME:PDT
DTSTART:20180311T100000
END:DAYLIGHT
BEGIN:STANDARD
TZOFFSETFROM:-0700
TZOFFSETTO:-0800
TZNAME:PST
DTSTART:20181104T090000
END:STANDARD
BEGIN:DAYLIGHT
TZOFFSETFROM:-0800
TZOFFSETTO:-0700
TZNAME:PDT
DTSTART:20190310T100000
END:DAYLIGHT
BEGIN:STANDARD
TZOFFSETFROM:-0700
TZOFFSETTO:-0800
TZNAME:PST
DTSTART:20191103T090000
END:STANDARD
BEGIN:DAYLIGHT
TZOFFSETFROM:-0800
TZOFFSETTO:-0700
TZNAME:PDT
DTSTART:20200308T100000
END:DAYLIGHT
BEGIN:STANDARD
TZOFFSETFROM:-0700
TZOFFSETTO:-0800
TZNAME:PST
DTSTART:20201101T090000
END:STANDARD
BEGIN:DAYLIGHT
TZOFFSETFROM:-0800
TZOFFSETTO:-0700
TZNAME:PDT
DTSTART:20210314T100000
END:DAYLIGHT
BEGIN:STANDARD
TZOFFSETFROM:-0700
TZOFFSETTO:-0800
TZNAME:PST
DTSTART:20211107T090000
END:STANDARD
END:VTIMEZONE
BEGIN:VEVENT
DTSTART;VALUE=DATE:20201218
DTEND;VALUE=DATE:20201219
DTSTAMP:20260425T170842
CREATED:20200629T220131Z
LAST-MODIFIED:20200629T220131Z
UID:2864-1608249600-1608335999@elementary.sd42.ca
SUMMARY:Last day of school before winter break
DESCRIPTION:Last day of school before winter break.
URL:https://elementary.sd42.ca/daviejones/event/last-day-of-school-before-winter-break-2/
CATEGORIES:District Calendar
END:VEVENT
BEGIN:VEVENT
DTSTART;VALUE=DATE:20201112
DTEND;VALUE=DATE:20201113
DTSTAMP:20260425T170842
CREATED:20200629T220131Z
LAST-MODIFIED:20200629T220131Z
UID:2863-1605139200-1605225599@elementary.sd42.ca
SUMMARY:Non-instructional day (school-based)
DESCRIPTION:School not in session.
URL:https://elementary.sd42.ca/daviejones/event/non-instructional-day-school-based-5/
CATEGORIES:District Calendar
END:VEVENT
BEGIN:VEVENT
DTSTART;VALUE=DATE:20201111
DTEND;VALUE=DATE:20201112
DTSTAMP:20260425T170842
CREATED:20200629T220126Z
LAST-MODIFIED:20200629T220126Z
UID:2862-1605052800-1605139199@elementary.sd42.ca
SUMMARY:Remembrance Day
DESCRIPTION:Statutory holiday. School not in session.
URL:https://elementary.sd42.ca/daviejones/event/remembrance-day-3/
CATEGORIES:District Calendar
END:VEVENT
BEGIN:VEVENT
DTSTART;VALUE=DATE:20201023
DTEND;VALUE=DATE:20201024
DTSTAMP:20260425T170842
CREATED:20200629T220126Z
LAST-MODIFIED:20200629T220126Z
UID:2861-1603411200-1603497599@elementary.sd42.ca
SUMMARY:Non-instructional day (province-wide)
DESCRIPTION:School not in session.
URL:https://elementary.sd42.ca/daviejones/event/non-instructional-day-province-wide-4/
CATEGORIES:District Calendar
END:VEVENT
BEGIN:VEVENT
DTSTART;VALUE=DATE:20201012
DTEND;VALUE=DATE:20201013
DTSTAMP:20260425T170842
CREATED:20200629T220125Z
LAST-MODIFIED:20200629T220125Z
UID:2860-1602460800-1602547199@elementary.sd42.ca
SUMMARY:Thanksgiving Day
DESCRIPTION:Statutory holiday. School not in session.
URL:https://elementary.sd42.ca/daviejones/event/thanksgiving-day-4/
CATEGORIES:District Calendar
END:VEVENT
BEGIN:VEVENT
DTSTART;VALUE=DATE:20200928
DTEND;VALUE=DATE:20200929
DTSTAMP:20260425T170842
CREATED:20200629T220125Z
LAST-MODIFIED:20200629T220125Z
UID:2859-1601251200-1601337599@elementary.sd42.ca
SUMMARY:Non-instructional day (school growth-planning day)
DESCRIPTION:School not in session.
URL:https://elementary.sd42.ca/daviejones/event/non-instructional-day-school-growth-planning-day/
CATEGORIES:District Calendar
END:VEVENT
BEGIN:VEVENT
DTSTART;VALUE=DATE:20200908
DTEND;VALUE=DATE:20200909
DTSTAMP:20260425T170842
CREATED:20200629T220124Z
LAST-MODIFIED:20200820T184517Z
UID:2858-1599523200-1599609599@elementary.sd42.ca
SUMMARY:Orientation Week Begins
DESCRIPTION:Maple Ridge – Pitt Meadows School District No. 42 will be implementing a gradual restart plan during the week of September 8. This means that students will NOT be returning to classrooms on September 8 as previously announced. \nThe first two days of school (September 8 and 9) will be reserved for the training of staff on all updated health and safety guidelines and to prepare for the return of our students. Students will begin to return to classrooms on September 10 and 11 in groups at set times for a full orientation on the implemented health and safety protocols and an introduction to their cohort. \nRegular daily attendance for all grade 1-12 students will begin on September 14. Parents of our incoming kindergarten students will be provided an updated detailed gradual start schedule directly by school principals.
URL:https://elementary.sd42.ca/daviejones/event/school-opens-following-summer-holidays-3/
CATEGORIES:District Calendar
END:VEVENT
BEGIN:VEVENT
DTSTART;VALUE=DATE:20200626
DTEND;VALUE=DATE:20200627
DTSTAMP:20260425T170842
CREATED:20180528T213857Z
LAST-MODIFIED:20180528T213857Z
UID:1148-1593129600-1593215999@elementary.sd42.ca
SUMMARY:School closes for summer holidays
DESCRIPTION:School closes for summer holidays
URL:https://elementary.sd42.ca/daviejones/event/school-closes-for-summer-holidays-2/
CATEGORIES:District Calendar
END:VEVENT
BEGIN:VEVENT
DTSTART;VALUE=DATE:20200625
DTEND;VALUE=DATE:20200626
DTSTAMP:20260425T170842
CREATED:20180528T213855Z
LAST-MODIFIED:20180528T213855Z
UID:1147-1593043200-1593129599@elementary.sd42.ca
SUMMARY:Year-end administrative day
DESCRIPTION:Year-end administrative day.
URL:https://elementary.sd42.ca/daviejones/event/year-end-administrative-day-2/
CATEGORIES:District Calendar
END:VEVENT
BEGIN:VEVENT
DTSTART;VALUE=DATE:20200624
DTEND;VALUE=DATE:20200625
DTSTAMP:20260425T170842
CREATED:20180528T213854Z
LAST-MODIFIED:20180528T213854Z
UID:1146-1592956800-1593043199@elementary.sd42.ca
SUMMARY:Last day for students
DESCRIPTION:Last day for students before summer break.
URL:https://elementary.sd42.ca/daviejones/event/last-day-for-students-2/
CATEGORIES:District Calendar
END:VEVENT
BEGIN:VEVENT
DTSTART;VALUE=DATE:20200519
DTEND;VALUE=DATE:20200520
DTSTAMP:20260425T170842
CREATED:20180528T213853Z
LAST-MODIFIED:20180528T213853Z
UID:1145-1589846400-1589932799@elementary.sd42.ca
SUMMARY:Non-instructional day
DESCRIPTION:School not in session.
URL:https://elementary.sd42.ca/daviejones/event/non-instructional-day-6/
CATEGORIES:District Calendar
END:VEVENT
BEGIN:VEVENT
DTSTART;VALUE=DATE:20200518
DTEND;VALUE=DATE:20200519
DTSTAMP:20260425T170842
CREATED:20180528T213849Z
LAST-MODIFIED:20180528T213849Z
UID:1144-1589760000-1589846399@elementary.sd42.ca
SUMMARY:Victoria Day
DESCRIPTION:Statutory holiday. School not in session.
URL:https://elementary.sd42.ca/daviejones/event/victoria-day-2/
CATEGORIES:District Calendar
END:VEVENT
BEGIN:VEVENT
DTSTART;VALUE=DATE:20200413
DTEND;VALUE=DATE:20200414
DTSTAMP:20260425T170842
CREATED:20180528T213847Z
LAST-MODIFIED:20180528T213847Z
UID:1143-1586736000-1586822399@elementary.sd42.ca
SUMMARY:Easter Monday
DESCRIPTION:Statutory holiday. School not in session.
URL:https://elementary.sd42.ca/daviejones/event/easter-monday-2/
CATEGORIES:District Calendar
END:VEVENT
BEGIN:VEVENT
DTSTART;VALUE=DATE:20200410
DTEND;VALUE=DATE:20200411
DTSTAMP:20260425T170842
CREATED:20180528T213845Z
LAST-MODIFIED:20180528T213845Z
UID:1142-1586476800-1586563199@elementary.sd42.ca
SUMMARY:Good Friday
DESCRIPTION:Statutory holiday. School not in session.
URL:https://elementary.sd42.ca/daviejones/event/good-friday-2/
CATEGORIES:District Calendar
END:VEVENT
BEGIN:VEVENT
DTSTART;VALUE=DATE:20200323
DTEND;VALUE=DATE:20200328
DTSTAMP:20260425T170842
CREATED:20180528T213843Z
LAST-MODIFIED:20180528T213843Z
UID:1140-1584921600-1585353599@elementary.sd42.ca
SUMMARY:School not in session
DESCRIPTION:School not in session.
URL:https://elementary.sd42.ca/daviejones/event/school-not-in-session-6/
CATEGORIES:District Calendar
END:VEVENT
BEGIN:VEVENT
DTSTART;VALUE=DATE:20200316
DTEND;VALUE=DATE:20200321
DTSTAMP:20260425T170842
CREATED:20180528T213841Z
LAST-MODIFIED:20180528T213841Z
UID:1139-1584316800-1584748799@elementary.sd42.ca
SUMMARY:Spring break
DESCRIPTION:School closed for spring break.
URL:https://elementary.sd42.ca/daviejones/event/spring-break-2/
CATEGORIES:District Calendar
END:VEVENT
BEGIN:VEVENT
DTSTART;VALUE=DATE:20200313
DTEND;VALUE=DATE:20200314
DTSTAMP:20260425T170842
CREATED:20180528T213839Z
LAST-MODIFIED:20180528T213839Z
UID:1138-1584057600-1584143999@elementary.sd42.ca
SUMMARY:Last day of school before spring break
DESCRIPTION:Last day of school before spring break.
URL:https://elementary.sd42.ca/daviejones/event/last-day-of-school-before-spring-break/
CATEGORIES:District Calendar
END:VEVENT
BEGIN:VEVENT
DTSTART;VALUE=DATE:20200217
DTEND;VALUE=DATE:20200218
DTSTAMP:20260425T170842
CREATED:20180528T213838Z
LAST-MODIFIED:20180528T213838Z
UID:1137-1581897600-1581983999@elementary.sd42.ca
SUMMARY:Family Day
DESCRIPTION:Statutory holiday. School not in session.
URL:https://elementary.sd42.ca/daviejones/event/family-day-2/
CATEGORIES:District Calendar
END:VEVENT
BEGIN:VEVENT
DTSTART;VALUE=DATE:20200214
DTEND;VALUE=DATE:20200215
DTSTAMP:20260425T170842
CREATED:20180528T213837Z
LAST-MODIFIED:20180528T213837Z
UID:1136-1581638400-1581724799@elementary.sd42.ca
SUMMARY:School not in session
DESCRIPTION:School not in session.
URL:https://elementary.sd42.ca/daviejones/event/school-not-in-session-3/
CATEGORIES:District Calendar
END:VEVENT
BEGIN:VEVENT
DTSTART;VALUE=DATE:20200213
DTEND;VALUE=DATE:20200214
DTSTAMP:20260425T170842
CREATED:20180528T213835Z
LAST-MODIFIED:20180528T213835Z
UID:1135-1581552000-1581638399@elementary.sd42.ca
SUMMARY:Non-instructional day
DESCRIPTION:School not in session.
URL:https://elementary.sd42.ca/daviejones/event/non-instructional-day-5/
CATEGORIES:District Calendar
END:VEVENT
BEGIN:VEVENT
DTSTART;VALUE=DATE:20200124
DTEND;VALUE=DATE:20200125
DTSTAMP:20260425T170842
CREATED:20180528T213832Z
LAST-MODIFIED:20180528T213832Z
UID:1134-1579824000-1579910399@elementary.sd42.ca
SUMMARY:Non-instructional day
DESCRIPTION:School not in session.
URL:https://elementary.sd42.ca/daviejones/event/non-instructional-day-4/
CATEGORIES:District Calendar
END:VEVENT
BEGIN:VEVENT
DTSTART;VALUE=DATE:20200106
DTEND;VALUE=DATE:20200107
DTSTAMP:20260425T170842
CREATED:20180528T213831Z
LAST-MODIFIED:20180528T213831Z
UID:1133-1578268800-1578355199@elementary.sd42.ca
SUMMARY:School reopens after winter break
DESCRIPTION:School reopens after winter break.
URL:https://elementary.sd42.ca/daviejones/event/school-reopens-after-winter-break-2/
CATEGORIES:District Calendar
END:VEVENT
BEGIN:VEVENT
DTSTART;VALUE=DATE:20191223
DTEND;VALUE=DATE:20200104
DTSTAMP:20260425T170842
CREATED:20180528T213830Z
LAST-MODIFIED:20180528T213830Z
UID:1132-1577059200-1578095999@elementary.sd42.ca
SUMMARY:Winter break
DESCRIPTION:School closed for winter break.
URL:https://elementary.sd42.ca/daviejones/event/winter-break-2/
CATEGORIES:District Calendar
END:VEVENT
BEGIN:VEVENT
DTSTART;VALUE=DATE:20191220
DTEND;VALUE=DATE:20191221
DTSTAMP:20260425T170842
CREATED:20180528T213829Z
LAST-MODIFIED:20180528T213829Z
UID:1131-1576800000-1576886399@elementary.sd42.ca
SUMMARY:Last day of school before winter break
DESCRIPTION:Last day of school before winter break.
URL:https://elementary.sd42.ca/daviejones/event/last-day-of-school-before-winter-break/
CATEGORIES:District Calendar
END:VEVENT
BEGIN:VEVENT
DTSTART;VALUE=DATE:20191111
DTEND;VALUE=DATE:20191112
DTSTAMP:20260425T170842
CREATED:20180528T213827Z
LAST-MODIFIED:20180528T213827Z
UID:1130-1573430400-1573516799@elementary.sd42.ca
SUMMARY:Remembrance Day
DESCRIPTION:Statutory holiday. School not in session.
URL:https://elementary.sd42.ca/daviejones/event/remembrance-day-2/
CATEGORIES:District Calendar
END:VEVENT
BEGIN:VEVENT
DTSTART;VALUE=DATE:20191108
DTEND;VALUE=DATE:20191109
DTSTAMP:20260425T170842
CREATED:20180528T213824Z
LAST-MODIFIED:20180528T213824Z
UID:1129-1573171200-1573257599@elementary.sd42.ca
SUMMARY:Non-instructional day
DESCRIPTION:School not in session.
URL:https://elementary.sd42.ca/daviejones/event/non-instructional-day-3/
CATEGORIES:District Calendar
END:VEVENT
BEGIN:VEVENT
DTSTART;VALUE=DATE:20191025
DTEND;VALUE=DATE:20191026
DTSTAMP:20260425T170842
CREATED:20180528T213823Z
LAST-MODIFIED:20180528T213823Z
UID:1128-1571961600-1572047999@elementary.sd42.ca
SUMMARY:Non-instructional day (province-wide)
DESCRIPTION:School not in session.
URL:https://elementary.sd42.ca/daviejones/event/non-instructional-day-province-wide-3/
CATEGORIES:District Calendar
END:VEVENT
BEGIN:VEVENT
DTSTART;VALUE=DATE:20191014
DTEND;VALUE=DATE:20191015
DTSTAMP:20260425T170842
CREATED:20180528T213822Z
LAST-MODIFIED:20180528T213822Z
UID:1127-1571011200-1571097599@elementary.sd42.ca
SUMMARY:Thanksgiving Day
DESCRIPTION:Statutory holiday. School not in session.
URL:https://elementary.sd42.ca/daviejones/event/thanksgiving-day-3/
CATEGORIES:District Calendar
END:VEVENT
BEGIN:VEVENT
DTSTART;VALUE=DATE:20190923
DTEND;VALUE=DATE:20190924
DTSTAMP:20260425T170842
CREATED:20180528T213820Z
LAST-MODIFIED:20180528T213820Z
UID:1126-1569196800-1569283199@elementary.sd42.ca
SUMMARY:Non-instructional day
DESCRIPTION:School not in session.
URL:https://elementary.sd42.ca/daviejones/event/non-instructional-day-2/
CATEGORIES:District Calendar
END:VEVENT
BEGIN:VEVENT
DTSTART;VALUE=DATE:20190903
DTEND;VALUE=DATE:20190904
DTSTAMP:20260425T170842
CREATED:20180528T213819Z
LAST-MODIFIED:20180528T213819Z
UID:1125-1567468800-1567555199@elementary.sd42.ca
SUMMARY:School opens following summer holidays
DESCRIPTION:School opens following summer holidays.
URL:https://elementary.sd42.ca/daviejones/event/school-opens-following-summer-holidays-2/
CATEGORIES:District Calendar
END:VEVENT
END:VCALENDAR