BEGIN:VCALENDAR
VERSION:2.0
PRODID:-//Davie Jones Elementary - ECPv6.15.14//NONSGML v1.0//EN
CALSCALE:GREGORIAN
METHOD:PUBLISH
X-ORIGINAL-URL:https://elementary.sd42.ca/daviejones
X-WR-CALDESC:Events for Davie Jones Elementary
REFRESH-INTERVAL;VALUE=DURATION:PT1H
X-Robots-Tag:noindex
X-PUBLISHED-TTL:PT1H
BEGIN:VTIMEZONE
TZID:America/Vancouver
BEGIN:DAYLIGHT
TZOFFSETFROM:-0800
TZOFFSETTO:-0700
TZNAME:PDT
DTSTART:20180311T100000
END:DAYLIGHT
BEGIN:STANDARD
TZOFFSETFROM:-0700
TZOFFSETTO:-0800
TZNAME:PST
DTSTART:20181104T090000
END:STANDARD
BEGIN:DAYLIGHT
TZOFFSETFROM:-0800
TZOFFSETTO:-0700
TZNAME:PDT
DTSTART:20190310T100000
END:DAYLIGHT
BEGIN:STANDARD
TZOFFSETFROM:-0700
TZOFFSETTO:-0800
TZNAME:PST
DTSTART:20191103T090000
END:STANDARD
BEGIN:DAYLIGHT
TZOFFSETFROM:-0800
TZOFFSETTO:-0700
TZNAME:PDT
DTSTART:20200308T100000
END:DAYLIGHT
BEGIN:STANDARD
TZOFFSETFROM:-0700
TZOFFSETTO:-0800
TZNAME:PST
DTSTART:20201101T090000
END:STANDARD
END:VTIMEZONE
BEGIN:VEVENT
DTSTART;TZID=America/Vancouver:20191023T084500
DTEND;TZID=America/Vancouver:20191023T120000
DTSTAMP:20260423T095831
CREATED:20190924T165443Z
LAST-MODIFIED:20190924T170729Z
UID:2171-1571820300-1571832000@elementary.sd42.ca
SUMMARY:Aldor Acres - Div. 13 & 14
DESCRIPTION:
URL:https://elementary.sd42.ca/daviejones/event/aldor-acres-div-13-14/
END:VEVENT
BEGIN:VEVENT
DTSTART;TZID=America/Vancouver:20191023T143000
DTEND;TZID=America/Vancouver:20191023T153000
DTSTAMP:20260423T095831
CREATED:20190924T163641Z
LAST-MODIFIED:20190924T163641Z
UID:2147-1571841000-1571844600@elementary.sd42.ca
SUMMARY:After school-Yoga 2:30-3:30pm
DESCRIPTION:
URL:https://elementary.sd42.ca/daviejones/event/after-school-yoga-230-330pm-4/
END:VEVENT
BEGIN:VEVENT
DTSTART;TZID=America/Vancouver:20191023T145000
DTEND;TZID=America/Vancouver:20191023T145000
DTSTAMP:20260423T095831
CREATED:20190924T170340Z
LAST-MODIFIED:20190924T170340Z
UID:2173-1571842200-1571842200@elementary.sd42.ca
SUMMARY:Primary Cross Country - 2:50 pm
DESCRIPTION:Albion Sports Field
URL:https://elementary.sd42.ca/daviejones/event/primary-cross-country-250-pm/
END:VEVENT
END:VCALENDAR