BEGIN:VCALENDAR
VERSION:2.0
PRODID:-//Davie Jones Elementary - ECPv6.15.14//NONSGML v1.0//EN
CALSCALE:GREGORIAN
METHOD:PUBLISH
X-WR-CALNAME:Davie Jones Elementary
X-ORIGINAL-URL:https://elementary.sd42.ca/daviejones
X-WR-CALDESC:Events for Davie Jones Elementary
REFRESH-INTERVAL;VALUE=DURATION:PT1H
X-Robots-Tag:noindex
X-PUBLISHED-TTL:PT1H
BEGIN:VTIMEZONE
TZID:America/Vancouver
BEGIN:DAYLIGHT
TZOFFSETFROM:-0800
TZOFFSETTO:-0700
TZNAME:PDT
DTSTART:20180311T100000
END:DAYLIGHT
BEGIN:STANDARD
TZOFFSETFROM:-0700
TZOFFSETTO:-0800
TZNAME:PST
DTSTART:20181104T090000
END:STANDARD
BEGIN:DAYLIGHT
TZOFFSETFROM:-0800
TZOFFSETTO:-0700
TZNAME:PDT
DTSTART:20190310T100000
END:DAYLIGHT
BEGIN:STANDARD
TZOFFSETFROM:-0700
TZOFFSETTO:-0800
TZNAME:PST
DTSTART:20191103T090000
END:STANDARD
BEGIN:DAYLIGHT
TZOFFSETFROM:-0800
TZOFFSETTO:-0700
TZNAME:PDT
DTSTART:20200308T100000
END:DAYLIGHT
BEGIN:STANDARD
TZOFFSETFROM:-0700
TZOFFSETTO:-0800
TZNAME:PST
DTSTART:20201101T090000
END:STANDARD
END:VTIMEZONE
BEGIN:VEVENT
DTSTART;TZID=America/Vancouver:20191021T093000
DTEND;TZID=America/Vancouver:20191021T115000
DTSTAMP:20260423T080327
CREATED:20190924T165029Z
LAST-MODIFIED:20190924T165029Z
UID:2165-1571650200-1571658600@elementary.sd42.ca
SUMMARY:Aldor Acres - Div. 15 & 16
DESCRIPTION:9:15 – 11:50 am
URL:https://elementary.sd42.ca/daviejones/event/aldor-acres-div-15-16-4/
END:VEVENT
BEGIN:VEVENT
DTSTART;TZID=America/Vancouver:20191021T123000
DTEND;TZID=America/Vancouver:20191021T140000
DTSTAMP:20260423T080327
CREATED:20191010T163354Z
LAST-MODIFIED:20191010T163354Z
UID:2264-1571661000-1571666400@elementary.sd42.ca
SUMMARY:Student Elections - afternoon
DESCRIPTION:Student elections in Library
URL:https://elementary.sd42.ca/daviejones/event/student-elections-afternoon/
END:VEVENT
BEGIN:VEVENT
DTSTART;TZID=America/Vancouver:20191021T183000
DTEND;TZID=America/Vancouver:20191021T183000
DTSTAMP:20260423T080327
CREATED:20190924T165121Z
LAST-MODIFIED:20190924T165121Z
UID:2167-1571682600-1571682600@elementary.sd42.ca
SUMMARY:PAC Mtg - 6:30 pm
DESCRIPTION:
URL:https://elementary.sd42.ca/daviejones/event/pac-mtg-630-pm/
END:VEVENT
END:VCALENDAR