BEGIN:VCALENDAR
VERSION:2.0
PRODID:-//Davie Jones Elementary - ECPv6.15.14//NONSGML v1.0//EN
CALSCALE:GREGORIAN
METHOD:PUBLISH
X-ORIGINAL-URL:https://elementary.sd42.ca/daviejones
X-WR-CALDESC:Events for Davie Jones Elementary
REFRESH-INTERVAL;VALUE=DURATION:PT1H
X-Robots-Tag:noindex
X-PUBLISHED-TTL:PT1H
BEGIN:VTIMEZONE
TZID:America/Vancouver
BEGIN:DAYLIGHT
TZOFFSETFROM:-0800
TZOFFSETTO:-0700
TZNAME:PDT
DTSTART:20180311T100000
END:DAYLIGHT
BEGIN:STANDARD
TZOFFSETFROM:-0700
TZOFFSETTO:-0800
TZNAME:PST
DTSTART:20181104T090000
END:STANDARD
BEGIN:DAYLIGHT
TZOFFSETFROM:-0800
TZOFFSETTO:-0700
TZNAME:PDT
DTSTART:20190310T100000
END:DAYLIGHT
BEGIN:STANDARD
TZOFFSETFROM:-0700
TZOFFSETTO:-0800
TZNAME:PST
DTSTART:20191103T090000
END:STANDARD
BEGIN:DAYLIGHT
TZOFFSETFROM:-0800
TZOFFSETTO:-0700
TZNAME:PDT
DTSTART:20200308T100000
END:DAYLIGHT
BEGIN:STANDARD
TZOFFSETFROM:-0700
TZOFFSETTO:-0800
TZNAME:PST
DTSTART:20201101T090000
END:STANDARD
END:VTIMEZONE
BEGIN:VEVENT
DTSTART;TZID=America/Vancouver:20191015T083000
DTEND;TZID=America/Vancouver:20191015T083000
DTSTAMP:20260423T095914
CREATED:20190924T164121Z
LAST-MODIFIED:20190924T164121Z
UID:2156-1571128200-1571128200@elementary.sd42.ca
SUMMARY:Photo Retakes
DESCRIPTION:
URL:https://elementary.sd42.ca/daviejones/event/photo-retakes/
END:VEVENT
BEGIN:VEVENT
DTSTART;TZID=America/Vancouver:20191015T083000
DTEND;TZID=America/Vancouver:20191015T100000
DTSTAMP:20260423T095914
CREATED:20190924T164311Z
LAST-MODIFIED:20190924T164311Z
UID:2158-1571128200-1571133600@elementary.sd42.ca
SUMMARY:Gr. 6 Immunizations
DESCRIPTION:
URL:https://elementary.sd42.ca/daviejones/event/gr-6-immunizations-4/
END:VEVENT
END:VCALENDAR