BEGIN:VCALENDAR
VERSION:2.0
PRODID:-//Davie Jones Elementary - ECPv6.15.14//NONSGML v1.0//EN
CALSCALE:GREGORIAN
METHOD:PUBLISH
X-WR-CALNAME:Davie Jones Elementary
X-ORIGINAL-URL:https://elementary.sd42.ca/daviejones
X-WR-CALDESC:Events for Davie Jones Elementary
REFRESH-INTERVAL;VALUE=DURATION:PT1H
X-Robots-Tag:noindex
X-PUBLISHED-TTL:PT1H
BEGIN:VTIMEZONE
TZID:America/Vancouver
BEGIN:DAYLIGHT
TZOFFSETFROM:-0800
TZOFFSETTO:-0700
TZNAME:PDT
DTSTART:20170312T100000
END:DAYLIGHT
BEGIN:STANDARD
TZOFFSETFROM:-0700
TZOFFSETTO:-0800
TZNAME:PST
DTSTART:20171105T090000
END:STANDARD
BEGIN:DAYLIGHT
TZOFFSETFROM:-0800
TZOFFSETTO:-0700
TZNAME:PDT
DTSTART:20180311T100000
END:DAYLIGHT
BEGIN:STANDARD
TZOFFSETFROM:-0700
TZOFFSETTO:-0800
TZNAME:PST
DTSTART:20181104T090000
END:STANDARD
BEGIN:DAYLIGHT
TZOFFSETFROM:-0800
TZOFFSETTO:-0700
TZNAME:PDT
DTSTART:20190310T100000
END:DAYLIGHT
BEGIN:STANDARD
TZOFFSETFROM:-0700
TZOFFSETTO:-0800
TZNAME:PST
DTSTART:20191103T090000
END:STANDARD
END:VTIMEZONE
BEGIN:VEVENT
DTSTART;TZID=America/Vancouver:20181212T083000
DTEND;TZID=America/Vancouver:20181212T083000
DTSTAMP:20260423T080428
CREATED:20181129T190653Z
LAST-MODIFIED:20181129T190653Z
UID:1635-1544603400-1544603400@elementary.sd42.ca
SUMMARY:New Unwrapped Toy -12 Days of Holiday Giving
DESCRIPTION:
URL:https://elementary.sd42.ca/daviejones/event/new-unwrapped-toy-12-days-of-holiday-giving/
END:VEVENT
BEGIN:VEVENT
DTSTART;TZID=America/Vancouver:20181212T124000
DTEND;TZID=America/Vancouver:20181212T140000
DTSTAMP:20260423T080428
CREATED:20181004T171524Z
LAST-MODIFIED:20181025T171230Z
UID:1348-1544618400-1544623200@elementary.sd42.ca
SUMMARY:Skating - Div 1 & 15
DESCRIPTION:
URL:https://elementary.sd42.ca/daviejones/event/skating-div-1-2/
END:VEVENT
END:VCALENDAR