BEGIN:VCALENDAR
VERSION:2.0
PRODID:-//Davie Jones Elementary - ECPv6.15.14//NONSGML v1.0//EN
CALSCALE:GREGORIAN
METHOD:PUBLISH
X-WR-CALNAME:Davie Jones Elementary
X-ORIGINAL-URL:https://elementary.sd42.ca/daviejones
X-WR-CALDESC:Events for Davie Jones Elementary
REFRESH-INTERVAL;VALUE=DURATION:PT1H
X-Robots-Tag:noindex
X-PUBLISHED-TTL:PT1H
BEGIN:VTIMEZONE
TZID:America/Vancouver
BEGIN:DAYLIGHT
TZOFFSETFROM:-0800
TZOFFSETTO:-0700
TZNAME:PDT
DTSTART:20170312T100000
END:DAYLIGHT
BEGIN:STANDARD
TZOFFSETFROM:-0700
TZOFFSETTO:-0800
TZNAME:PST
DTSTART:20171105T090000
END:STANDARD
BEGIN:DAYLIGHT
TZOFFSETFROM:-0800
TZOFFSETTO:-0700
TZNAME:PDT
DTSTART:20180311T100000
END:DAYLIGHT
BEGIN:STANDARD
TZOFFSETFROM:-0700
TZOFFSETTO:-0800
TZNAME:PST
DTSTART:20181104T090000
END:STANDARD
BEGIN:DAYLIGHT
TZOFFSETFROM:-0800
TZOFFSETTO:-0700
TZNAME:PDT
DTSTART:20190310T100000
END:DAYLIGHT
BEGIN:STANDARD
TZOFFSETFROM:-0700
TZOFFSETTO:-0800
TZNAME:PST
DTSTART:20191103T090000
END:STANDARD
END:VTIMEZONE
BEGIN:VEVENT
DTSTART;TZID=America/Vancouver:20181211T083000
DTEND;TZID=America/Vancouver:20181211T083000
DTSTAMP:20260423T080428
CREATED:20181108T165725Z
LAST-MODIFIED:20181108T165725Z
UID:1561-1544517000-1544517000@elementary.sd42.ca
SUMMARY:Class STEM Rotations Christmas - Intermediate
DESCRIPTION:
URL:https://elementary.sd42.ca/daviejones/event/class-stem-rotations-christmas-intermediate/
END:VEVENT
BEGIN:VEVENT
DTSTART;TZID=America/Vancouver:20181211T140000
DTEND;TZID=America/Vancouver:20181211T163000
DTSTAMP:20260423T080428
CREATED:20181023T204534Z
LAST-MODIFIED:20181023T204534Z
UID:1414-1544536800-1544545800@elementary.sd42.ca
SUMMARY:Family Ed After School Club
DESCRIPTION:
URL:https://elementary.sd42.ca/daviejones/event/family-ed-after-school-club-6/
END:VEVENT
END:VCALENDAR