BEGIN:VCALENDAR
VERSION:2.0
PRODID:-//Davie Jones Elementary - ECPv6.15.14//NONSGML v1.0//EN
CALSCALE:GREGORIAN
METHOD:PUBLISH
X-WR-CALNAME:Davie Jones Elementary
X-ORIGINAL-URL:https://elementary.sd42.ca/daviejones
X-WR-CALDESC:Events for Davie Jones Elementary
REFRESH-INTERVAL;VALUE=DURATION:PT1H
X-Robots-Tag:noindex
X-PUBLISHED-TTL:PT1H
BEGIN:VTIMEZONE
TZID:America/Vancouver
BEGIN:DAYLIGHT
TZOFFSETFROM:-0800
TZOFFSETTO:-0700
TZNAME:PDT
DTSTART:20170312T100000
END:DAYLIGHT
BEGIN:STANDARD
TZOFFSETFROM:-0700
TZOFFSETTO:-0800
TZNAME:PST
DTSTART:20171105T090000
END:STANDARD
BEGIN:DAYLIGHT
TZOFFSETFROM:-0800
TZOFFSETTO:-0700
TZNAME:PDT
DTSTART:20180311T100000
END:DAYLIGHT
BEGIN:STANDARD
TZOFFSETFROM:-0700
TZOFFSETTO:-0800
TZNAME:PST
DTSTART:20181104T090000
END:STANDARD
BEGIN:DAYLIGHT
TZOFFSETFROM:-0800
TZOFFSETTO:-0700
TZNAME:PDT
DTSTART:20190310T100000
END:DAYLIGHT
BEGIN:STANDARD
TZOFFSETFROM:-0700
TZOFFSETTO:-0800
TZNAME:PST
DTSTART:20191103T090000
END:STANDARD
END:VTIMEZONE
BEGIN:VEVENT
DTSTART;TZID=America/Vancouver:20181122T100000
DTEND;TZID=America/Vancouver:20181122T120000
DTSTAMP:20260421T151847
CREATED:20181025T171511Z
LAST-MODIFIED:20181025T171511Z
UID:1470-1542880800-1542888000@elementary.sd42.ca
SUMMARY:Visit to Maple Ridge SPCA- Div 6
DESCRIPTION:
URL:https://elementary.sd42.ca/daviejones/event/visit-to-maple-ridge-spca-div-6/
END:VEVENT
BEGIN:VEVENT
DTSTART;TZID=America/Vancouver:20181122T173000
DTEND;TZID=America/Vancouver:20181122T183000
DTSTAMP:20260421T151847
CREATED:20181023T205949Z
LAST-MODIFIED:20181106T201523Z
UID:1430-1542907800-1542911400@elementary.sd42.ca
SUMMARY:PALS - 5:30pm - 6:30pm
DESCRIPTION:Parents as Literacy Support-Rm 1017: Ms. Nelson’s room \nFree literacy program for Ks or Children age 3 & 4
URL:https://elementary.sd42.ca/daviejones/event/pals-3pm-4pm/
END:VEVENT
END:VCALENDAR