BEGIN:VCALENDAR
VERSION:2.0
PRODID:-//Davie Jones Elementary - ECPv6.15.14//NONSGML v1.0//EN
CALSCALE:GREGORIAN
METHOD:PUBLISH
X-ORIGINAL-URL:https://elementary.sd42.ca/daviejones
X-WR-CALDESC:Events for Davie Jones Elementary
REFRESH-INTERVAL;VALUE=DURATION:PT1H
X-Robots-Tag:noindex
X-PUBLISHED-TTL:PT1H
BEGIN:VTIMEZONE
TZID:America/Vancouver
BEGIN:DAYLIGHT
TZOFFSETFROM:-0800
TZOFFSETTO:-0700
TZNAME:PDT
DTSTART:20170312T100000
END:DAYLIGHT
BEGIN:STANDARD
TZOFFSETFROM:-0700
TZOFFSETTO:-0800
TZNAME:PST
DTSTART:20171105T090000
END:STANDARD
BEGIN:DAYLIGHT
TZOFFSETFROM:-0800
TZOFFSETTO:-0700
TZNAME:PDT
DTSTART:20180311T100000
END:DAYLIGHT
BEGIN:STANDARD
TZOFFSETFROM:-0700
TZOFFSETTO:-0800
TZNAME:PST
DTSTART:20181104T090000
END:STANDARD
BEGIN:DAYLIGHT
TZOFFSETFROM:-0800
TZOFFSETTO:-0700
TZNAME:PDT
DTSTART:20190310T100000
END:DAYLIGHT
BEGIN:STANDARD
TZOFFSETFROM:-0700
TZOFFSETTO:-0800
TZNAME:PST
DTSTART:20191103T090000
END:STANDARD
END:VTIMEZONE
BEGIN:VEVENT
DTSTART;TZID=America/Vancouver:20181119T143000
DTEND;TZID=America/Vancouver:20181119T153000
DTSTAMP:20260421T062451
CREATED:20181023T212912Z
LAST-MODIFIED:20181023T212912Z
UID:1459-1542637800-1542641400@elementary.sd42.ca
SUMMARY:Karate\, Rm 1023 2:30pm - 3:30pm
DESCRIPTION:
URL:https://elementary.sd42.ca/daviejones/event/karate-rm-1023-230pm-330pm-10/
END:VEVENT
BEGIN:VEVENT
DTSTART;TZID=America/Vancouver:20181119T183000
DTEND;TZID=America/Vancouver:20181119T183000
DTSTAMP:20260421T062451
CREATED:20181002T165443Z
LAST-MODIFIED:20181002T165443Z
UID:1331-1542652200-1542652200@elementary.sd42.ca
SUMMARY:PAC Mtg @ 6:30pm
DESCRIPTION:
URL:https://elementary.sd42.ca/daviejones/event/pac-mtg-630pm/
END:VEVENT
END:VCALENDAR