BEGIN:VCALENDAR
VERSION:2.0
PRODID:-//Davie Jones Elementary - ECPv6.15.14//NONSGML v1.0//EN
CALSCALE:GREGORIAN
METHOD:PUBLISH
X-ORIGINAL-URL:https://elementary.sd42.ca/daviejones
X-WR-CALDESC:Events for Davie Jones Elementary
REFRESH-INTERVAL;VALUE=DURATION:PT1H
X-Robots-Tag:noindex
X-PUBLISHED-TTL:PT1H
BEGIN:VTIMEZONE
TZID:America/Vancouver
BEGIN:DAYLIGHT
TZOFFSETFROM:-0800
TZOFFSETTO:-0700
TZNAME:PDT
DTSTART:20170312T100000
END:DAYLIGHT
BEGIN:STANDARD
TZOFFSETFROM:-0700
TZOFFSETTO:-0800
TZNAME:PST
DTSTART:20171105T090000
END:STANDARD
BEGIN:DAYLIGHT
TZOFFSETFROM:-0800
TZOFFSETTO:-0700
TZNAME:PDT
DTSTART:20180311T100000
END:DAYLIGHT
BEGIN:STANDARD
TZOFFSETFROM:-0700
TZOFFSETTO:-0800
TZNAME:PST
DTSTART:20181104T090000
END:STANDARD
BEGIN:DAYLIGHT
TZOFFSETFROM:-0800
TZOFFSETTO:-0700
TZNAME:PDT
DTSTART:20190310T100000
END:DAYLIGHT
BEGIN:STANDARD
TZOFFSETFROM:-0700
TZOFFSETTO:-0800
TZNAME:PST
DTSTART:20191103T090000
END:STANDARD
END:VTIMEZONE
BEGIN:VEVENT
DTSTART;TZID=America/Vancouver:20181116T083000
DTEND;TZID=America/Vancouver:20181116T083000
DTSTAMP:20260421T062451
CREATED:20181023T205033Z
LAST-MODIFIED:20181023T205033Z
UID:1422-1542357000-1542357000@elementary.sd42.ca
SUMMARY:Ignite Camp - AbEd Students
DESCRIPTION:Event at WVSS
URL:https://elementary.sd42.ca/daviejones/event/ignite-camp-abed-students-2/
END:VEVENT
BEGIN:VEVENT
DTSTART;TZID=America/Vancouver:20181116T100000
DTEND;TZID=America/Vancouver:20181116T100000
DTSTAMP:20260421T062451
CREATED:20181002T165338Z
LAST-MODIFIED:20181002T165338Z
UID:1329-1542362400-1542362400@elementary.sd42.ca
SUMMARY:PAC Treat Friday at recess
DESCRIPTION:
URL:https://elementary.sd42.ca/daviejones/event/pac-treat-friday-at-recess/
END:VEVENT
BEGIN:VEVENT
DTSTART;TZID=America/Vancouver:20181116T124500
DTEND;TZID=America/Vancouver:20181116T134500
DTSTAMP:20260421T062451
CREATED:20181101T171408Z
LAST-MODIFIED:20181101T171408Z
UID:1532-1542372300-1542375900@elementary.sd42.ca
SUMMARY:Skating - Div 3 & 9
DESCRIPTION:
URL:https://elementary.sd42.ca/daviejones/event/skating-div-3-9/
END:VEVENT
END:VCALENDAR