BEGIN:VCALENDAR
VERSION:2.0
PRODID:-//Davie Jones Elementary - ECPv6.15.14//NONSGML v1.0//EN
CALSCALE:GREGORIAN
METHOD:PUBLISH
X-WR-CALNAME:Davie Jones Elementary
X-ORIGINAL-URL:https://elementary.sd42.ca/daviejones
X-WR-CALDESC:Events for Davie Jones Elementary
REFRESH-INTERVAL;VALUE=DURATION:PT1H
X-Robots-Tag:noindex
X-PUBLISHED-TTL:PT1H
BEGIN:VTIMEZONE
TZID:America/Vancouver
BEGIN:DAYLIGHT
TZOFFSETFROM:-0800
TZOFFSETTO:-0700
TZNAME:PDT
DTSTART:20170312T100000
END:DAYLIGHT
BEGIN:STANDARD
TZOFFSETFROM:-0700
TZOFFSETTO:-0800
TZNAME:PST
DTSTART:20171105T090000
END:STANDARD
BEGIN:DAYLIGHT
TZOFFSETFROM:-0800
TZOFFSETTO:-0700
TZNAME:PDT
DTSTART:20180311T100000
END:DAYLIGHT
BEGIN:STANDARD
TZOFFSETFROM:-0700
TZOFFSETTO:-0800
TZNAME:PST
DTSTART:20181104T090000
END:STANDARD
BEGIN:DAYLIGHT
TZOFFSETFROM:-0800
TZOFFSETTO:-0700
TZNAME:PDT
DTSTART:20190310T100000
END:DAYLIGHT
BEGIN:STANDARD
TZOFFSETFROM:-0700
TZOFFSETTO:-0800
TZNAME:PST
DTSTART:20191103T090000
END:STANDARD
END:VTIMEZONE
BEGIN:VEVENT
DTSTART;TZID=America/Vancouver:20181114T124000
DTEND;TZID=America/Vancouver:20181114T140000
DTSTAMP:20260421T113221
CREATED:20181004T171451Z
LAST-MODIFIED:20181025T171201Z
UID:1346-1542199200-1542204000@elementary.sd42.ca
SUMMARY:Skating - Div 1 & 15
DESCRIPTION:
URL:https://elementary.sd42.ca/daviejones/event/skating-div-1/
END:VEVENT
BEGIN:VEVENT
DTSTART;TZID=America/Vancouver:20181114T143000
DTEND;TZID=America/Vancouver:20181114T153000
DTSTAMP:20260421T113221
CREATED:20181023T212801Z
LAST-MODIFIED:20181023T212801Z
UID:1455-1542205800-1542209400@elementary.sd42.ca
SUMMARY:Karate\, Rm 1023 2:30pm - 3:30pm
DESCRIPTION:
URL:https://elementary.sd42.ca/daviejones/event/karate-rm-1023-230pm-330pm-8/
END:VEVENT
END:VCALENDAR