BEGIN:VCALENDAR
VERSION:2.0
PRODID:-//Davie Jones Elementary - ECPv6.15.14//NONSGML v1.0//EN
CALSCALE:GREGORIAN
METHOD:PUBLISH
X-WR-CALNAME:Davie Jones Elementary
X-ORIGINAL-URL:https://elementary.sd42.ca/daviejones
X-WR-CALDESC:Events for Davie Jones Elementary
REFRESH-INTERVAL;VALUE=DURATION:PT1H
X-Robots-Tag:noindex
X-PUBLISHED-TTL:PT1H
BEGIN:VTIMEZONE
TZID:America/Vancouver
BEGIN:DAYLIGHT
TZOFFSETFROM:-0800
TZOFFSETTO:-0700
TZNAME:PDT
DTSTART:20170312T100000
END:DAYLIGHT
BEGIN:STANDARD
TZOFFSETFROM:-0700
TZOFFSETTO:-0800
TZNAME:PST
DTSTART:20171105T090000
END:STANDARD
BEGIN:DAYLIGHT
TZOFFSETFROM:-0800
TZOFFSETTO:-0700
TZNAME:PDT
DTSTART:20180311T100000
END:DAYLIGHT
BEGIN:STANDARD
TZOFFSETFROM:-0700
TZOFFSETTO:-0800
TZNAME:PST
DTSTART:20181104T090000
END:STANDARD
BEGIN:DAYLIGHT
TZOFFSETFROM:-0800
TZOFFSETTO:-0700
TZNAME:PDT
DTSTART:20190310T100000
END:DAYLIGHT
BEGIN:STANDARD
TZOFFSETFROM:-0700
TZOFFSETTO:-0800
TZNAME:PST
DTSTART:20191103T090000
END:STANDARD
END:VTIMEZONE
BEGIN:VEVENT
DTSTART;TZID=America/Vancouver:20181024T084500
DTEND;TZID=America/Vancouver:20181024T120000
DTSTAMP:20260420T061414
CREATED:20181002T163527Z
LAST-MODIFIED:20181002T163527Z
UID:1321-1540370700-1540382400@elementary.sd42.ca
SUMMARY:Aldor Acres Pumpkin Patch - Div 12\, 13\, & 14
DESCRIPTION:Depart school @8:45am – Arrive back at school 12:00pm
URL:https://elementary.sd42.ca/daviejones/event/aldor-acres-pumpkin-patch-div-12-13-14/
END:VEVENT
BEGIN:VEVENT
DTSTART;TZID=America/Vancouver:20181024T120000
DTEND;TZID=America/Vancouver:20181024T140000
DTSTAMP:20260420T061414
CREATED:20181004T171317Z
LAST-MODIFIED:20181004T171317Z
UID:1344-1540382400-1540389600@elementary.sd42.ca
SUMMARY:Walnut Grove Swimming Pool - Div 1\, 2\, & 3
DESCRIPTION:
URL:https://elementary.sd42.ca/daviejones/event/walnut-grove-swimming-pool-div-1-2-3/
END:VEVENT
BEGIN:VEVENT
DTSTART;TZID=America/Vancouver:20181024T143000
DTEND;TZID=America/Vancouver:20181024T153000
DTSTAMP:20260420T061414
CREATED:20181023T211954Z
LAST-MODIFIED:20181023T211954Z
UID:1441-1540391400-1540395000@elementary.sd42.ca
SUMMARY:Karate\, Rm 1023 2:30pm - 3:30pm
DESCRIPTION:
URL:https://elementary.sd42.ca/daviejones/event/karate-rm-1023-230pm-330pm/
END:VEVENT
END:VCALENDAR