BEGIN:VCALENDAR
VERSION:2.0
PRODID:-//Davie Jones Elementary - ECPv6.15.14//NONSGML v1.0//EN
CALSCALE:GREGORIAN
METHOD:PUBLISH
X-WR-CALNAME:Davie Jones Elementary
X-ORIGINAL-URL:https://elementary.sd42.ca/daviejones
X-WR-CALDESC:Events for Davie Jones Elementary
REFRESH-INTERVAL;VALUE=DURATION:PT1H
X-Robots-Tag:noindex
X-PUBLISHED-TTL:PT1H
BEGIN:VTIMEZONE
TZID:America/Vancouver
BEGIN:DAYLIGHT
TZOFFSETFROM:-0800
TZOFFSETTO:-0700
TZNAME:PDT
DTSTART:20170312T100000
END:DAYLIGHT
BEGIN:STANDARD
TZOFFSETFROM:-0700
TZOFFSETTO:-0800
TZNAME:PST
DTSTART:20171105T090000
END:STANDARD
BEGIN:DAYLIGHT
TZOFFSETFROM:-0800
TZOFFSETTO:-0700
TZNAME:PDT
DTSTART:20180311T100000
END:DAYLIGHT
BEGIN:STANDARD
TZOFFSETFROM:-0700
TZOFFSETTO:-0800
TZNAME:PST
DTSTART:20181104T090000
END:STANDARD
BEGIN:DAYLIGHT
TZOFFSETFROM:-0800
TZOFFSETTO:-0700
TZNAME:PDT
DTSTART:20190310T100000
END:DAYLIGHT
BEGIN:STANDARD
TZOFFSETFROM:-0700
TZOFFSETTO:-0800
TZNAME:PST
DTSTART:20191103T090000
END:STANDARD
END:VTIMEZONE
BEGIN:VEVENT
DTSTART;TZID=America/Vancouver:20181018T093000
DTEND;TZID=America/Vancouver:20181018T120000
DTSTAMP:20260420T061412
CREATED:20181009T162607Z
LAST-MODIFIED:20181009T162607Z
UID:1393-1539855000-1539864000@elementary.sd42.ca
SUMMARY:Author Visit - Bookfest students
DESCRIPTION:9:30am – 12pm: Grades 4-7 @ MR Public Library
URL:https://elementary.sd42.ca/daviejones/event/author-visit-bookfest-students/
END:VEVENT
BEGIN:VEVENT
DTSTART;TZID=America/Vancouver:20181018T124000
DTEND;TZID=America/Vancouver:20181018T142000
DTSTAMP:20260420T061412
CREATED:20180927T175002Z
LAST-MODIFIED:20180927T175002Z
UID:1308-1539866400-1539872400@elementary.sd42.ca
SUMMARY:Student Vote Election - All Intermediate Grades
DESCRIPTION:
URL:https://elementary.sd42.ca/daviejones/event/student-vote-election-all-intermediate-grades/
END:VEVENT
END:VCALENDAR